{"text_format":"1","workbook":"xlsx","n_sheets":63,"sheets":["Инф-я","Соответствие критериям","Баланс энергии","Баланс энергии (транзит)","Баланс мощности","УЕ ВЛЭП  2017-2024","УЕ ТП 2017-2024","Подконтрольные расходы","материалы","план ремонтов","Сводная ремонт","П.1.16. оплата труда ОПР","Цеховые расходы","Общеэксплуатационные расходы ","Др проч","Расходы по кол дог","Расчет аморт. max срок ","Ввод выбытие ОС  ","Свод по амортизации","Страховые взносы","Расходы рег. орг-ий","Аренда имущества","Плата за землю","Транспортный налог","Налог на имущество","Налог на прибыль","Негативное возд. на окр. среду ","Услуги ФСК","Прочие НР"," КВЛ","Выпадающий доход","Расчет выпадающих до 15 кВт","Расчет выпадающих до 150 кВт","СВОД по % по рассрочке","Заявитель1","Заявитель2","Заявитель3","Заявитель4","Возврат заемных средств","Корр. ПР","Корр. ПО","Корр.НВВ","Корр. НР","Корр. ИП","НВВ для шаблона ЕИАС предел","НВВ для шаблона ЕИАС отчет","НВВ по данным экспертов","Корр. КНК"," НВВ содержание","НВВ на потери","Смета общая НВВ (эксперты)","НВВ по данным предпр.","Смета общая НВВ (предпр)","Тарифы","Форма 1.1","Форма 1.2","Форма 2.1","Форма 2.2","форма 2.3","форма 2.4","форма 3 ","долг. параметры","ОРЕХ"],"not_rendered":{"charts":0,"images":17,"macros":1,"external_links":23,"defined_names":4840,"comments":4,"pivot_tables":0},"unopened":[],"bounds":{"document_bytes":16777216,"sheet_cells":100000,"rows_first":2000,"rows_last":500,"rows_between":2000,"halvings":0,"cell_chars":16384,"cell_head_chars":4096},"cells_cut":0,"cells_raw":0,"read":"whole","date_system":"1900"}

{"sheet":"Инф-я","index":0,"n_rows":110,"n_cols":3,"rows_kept":110,"cut":false,"hidden":false,"merged":[[39,0,39,2],[40,1,40,3],[1,0,2,2],[3,0,3,2],[8,1,8,2],[5,0,5,2],[38,0,38,2]]}
[]
[]
[]
[]
[]
["Расчет НВВ на услуги по передаче электрической энергии,  устанавливаемых с применением метода долгосрочной индексации необходимой валовой выручки"]
[]
[]
[null,"Информация об организации"]
[]
["№ п/п","Требуемая информация","Данные об организации"]
["1.","Наименование организации в соответствии с уставом:"]
[null,"сокращенное название организации ","ООО \"МОНОСТРОЙ\""]
[null,"полное наименование организации ","Общество с ограниченной ответственностью \"МОНОСТРОЙ\""]
["2.","Муниципальное образование","город Владимир"]
["3.","Адрес организации:"]
[null,"юридический адрес","600020, город Владимир, улица Большая Нижегородская , дом 88"]
[null,"фактический адрес (месторасположение)","600020, город Владимир, улица Большая Нижегородская , дом 88"]
["4.","ИНН",3329011322]
["5.","КПП",332901001]
["6.","ФИО руководителя организации","Чижов Олег Александрович"]
[null,"контактный телефон/факс","(4922) 32-53-98"]
[null,"е-mail","  glav-monostroi@yandex.ru"]
["7.","ФИО начальника ПЭО","Хромова Ирина Анатольевна"]
[null,"контактный телефон/факс","(4922) 32-53-98"]
["8.","ФИО ответственного за электрохозяйство","Коровин Алексей Евгеньевич"]
[null,"контактный телефон/факс","(4922) 32-53-98"]
["9.","ФИО главного бухгалтера","Кокувина Елена Серафимовна"]
[null,"контактный телефон/факс","(4922) 32-53-98"]
["10.","ФИО непосредственного исполнителя","Король Татьяна Александровна"]
[null,"контактный телефон/факс","(4922) 32-53-98"]
[null,"е-mail","monostroj-peo@mail.ru"]
["11.","Банковские реквизиты:"]
[null,"расчетный счет","40702810841120000006"]
[null,"банк","Владимирский РФ ОАО \"Россельхозбанк\" г. Владимир"]
[null,"корреспондентский счет","301018106000000008772"]
[null,"БИК","041708772"]
[]
["Предложение о размере цен (тарифов), долгосрочных параметров регулирования (при применении метода доходности инвестированного капитала или метода долгосрочной необходимой валовой выручки),  подлежит раскрытию на официальных сайтах регулируемых организаций или на ином официальном сайте в сети Интернет, определяемом Правительством Российской Федерации, и (или) в периодическом печатном издании, в котором публикуются нормативные правовые акты органа исполнительной власти в области регулирования тарифов, - за 10 дней до представления в регулирующий орган предложения об установлении цен (тарифов) и (или) их предельных уровней, содержащего такую информацию. ( п. 9 Постановления Правительства РФ от 21.01.2004 г. № 24 \"Об утверждении стандартов раскрытия информации субъектами оптового и розничных рынков электрической энергии\": )"]
["В случае если регулируемая организация не опубликовала предложение о размере цен (тарифов) и долгосрочных параметров регулирования , подлежащих регулированию или указанное опубликованное предложение не соответствует предложению, представляемому в орган регулирования Регулирующий орган отказывает в открытии дела об установлении цены (тарифа).  \n"]
[]
[]
[]
[]
[]
[]
[]
[]
[]
[]
[]
[]
[]
[]
[]
[]
[]
[]
[]
[]
[]
[]
[]
[]
[]
[]
[]
[]
[]
[]
[]
[]
[]
[]
[]
[]
[]
[]
[]
[]
[]
[]
[]
[]
[]
[]
[]
[]
[]
[]
[]
[]
[]
[]
[]
[]
[]
[1,"ООО «Радугагорэнерго»"]
[2,"МУП «Горэлектросеть» г. Муром"]
[3,"МУП «Александровэлектросеть»"]
[4,"ООО «СтройГарант»"]
[5,"ООО «Костеревские городские электрические сети»"]
[6,"ООО «Ковровэлектросетьремонт»"]
[7,"ООО «ПромРЭС»"]
[8,"ООО «ПромЭнерго» г. Судогда"]
[9,"ОАО «Энергетик» г. Карабаново"]
[10,"ООО «Электросистемы» "]
[11,"ООО «Ярцево-Энерго»"]
[12,"ПАО «Ставровский завод АТО»"]
[13,"ООО «ЭнергоАктив»"]

{"sheet":"Соответствие критериям","index":1,"n_rows":19,"n_cols":6,"rows_kept":19,"cut":false,"hidden":false,"merged":[[3,0,3,5],[1,0,1,5],[18,1,18,2],[22,1,22,5],[23,1,23,5],[8,0,12,0],[21,1,21,5],[7,5,16,5],[18,3,18,5]]}
[]
["Критерии\nотнесения владельцев объектов электросетевого хозяйства к территориальным сетевым организациям\n(утв. постановлением Правительства РФ от 28 февраля 2015 г. N 184)"]
[]
[{"$f":"'Инф-я'!C13","v":"ООО \"МОНОСТРОЙ\""}]
[]
["№ п./п.","Наименование показателя","Ед. измерения","По данным организации","По данным экспертов","Представляемые обосновывающие материалы"]
[1,2,3,4,5,6]
["1.","Владение на праве собственности и (или) на ином законном основании на срок не менее долгосрочного периода регулирования трансформаторными и иными подстанциями с установленными силовыми трансформаторами (автотрансформаторами), расположенными и используемыми для осуществления регулируемой деятельности в административных границах субъекта Российской Федерации, сумма номинальных мощностей которых составляет не менее 10 МВА.","МВА",14.56,null,"Согласно пункта 17  Правил государственного регулирования (пересмотра, применения) цен (тарифов) в электроэнергетике, утвержденных Постановлением Правительства РФ от 29 декабря 2011 г. N 1178:\nК заявлениям, направленным в соответствии с пунктами 12, 14 и 16 настоящих Правил, организации, осуществляющие регулируемую деятельность, и органы исполнительной власти субъектов Российской Федерации в области государственного регулирования тарифов прилагают следующие обосновывающие материалы:\n . . . 13) документы, подтверждающие осуществление (фактическое или планируемое) регулируемой деятельности, - документы, подтверждающие право собственности или иные законные основания владения в отношении объектов, используемых для осуществления деятельности, и (или) договоры на осуществление регулируемой деятельности (при реорганизации юридического лица - передаточные акты);\n . . . 15) справка о наличии официального сайта в сети Интернет и выделенного абонентского номера для обращений потребителей услуг по передаче электрической энергии и (или) технологическому присоединению, подписанная руководителем или иным уполномоченным лицом заявителя и заверенная печатью заявителя;\n16) утвержденные руководителем или иным уполномоченным лицом заявителя и заверенные печатью заявителя (при наличии печати) схемы соединений электрической сети заявителя с обозначением трансформаторных и иных подстанций, а также линий электропередачи, указанных в пунктах 1 и 2 критериев отнесения владельцев объектов электросетевого хозяйства к территориальным сетевым организациям, утвержденных постановлением Правительства Российской Федерации от 28 февраля 2015 г. N 184 \"Об отнесении владельцев объектов электросетевого хозяйства к территориальным сетевым организациям\" (далее - критерии отнесения владельцев объектов электросетевого хозяйства к территориальным сетевым организациям).\n"]
["2.","Владение на праве собственности и (или) на ином законном основании на срок не менее долгосрочного периода регулирования линиями электропередачи (воздушными и (или) кабельными), расположенными и используемыми для осуществления регулируемой деятельности в административных границах субъекта Российской Федерации, непосредственно соединенными с трансформаторными и иными подстанциями, указанными в пункте 1 настоящих критериев, сумма протяженностей которых по трассе составляет не менее 15 км, не менее 2 из следующих проектных номинальных классов напряжения:","км",{"$f":"D10+D11+D12+D13","v":22.195},{"$f":"E10+E11+E12+E13","v":0}]
[null,"110 кВ и выше;","км"]
[null,"35 кВ;","км"]
[null,"1 - 20 кВ;","км",{"$f":"10.577+3.37","v":13.946999999999999}]
[null,"ниже 1 кВ - трехфазных участков линий электропередачи.","км",{"$f":"8.248","v":8.2479999999999993}]
["3.","3. Отсутствие за 3 предшествующих расчетных периода регулирования 3 фактов применения органами исполнительной власти субъектов Российской Федерации в области государственного регулирования тарифов понижающих коэффициентов, позволяющих обеспечить соответствие уровня тарифов, установленных для владельца объектов электросетевого хозяйства, уровню надежности и качества поставляемых товаров и оказываемых услуг, а также корректировки цен (тарифов), установленных на долгосрочный период регулирования, в случае представления владельцем объектов электросетевого хозяйства, для которого такие цены (тарифы) установлены, недостоверных отчетных данных, используемых при расчете фактических значений показателей надежности и качества поставляемых товаров и оказываемых услуг, или непредставления таких данных.","х","отсутсвует"]
["4.","4. Наличие выделенного абонентского номера для обращений потребителей услуг по передаче электрической энергии и (или) технологическому присоединению.","х","(4922) 32-53-98"]
["5.","5. Наличие официального сайта в информационно-телекоммуникационной сети \"Интернет\".","х","http://monostroy33.ru/"]
["6.","6. Отсутствие во владении и (или) пользовании объектов электросетевого хозяйства, расположенных в административных границах субъекта Российской Федерации и используемых для осуществления регулируемой деятельности в указанных границах, принадлежащих на праве собственности или ином законном основании иному лицу, владеющему объектом по производству электрической энергии (мощности), который расположен в административных границах соответствующего субъекта Российской Федерации и с использованием которого осуществляется производство электрической энергии и мощности с целью ее продажи на оптовом рынке электрической энергии (мощности) и (или) розничных рынках электрической энергии.","х","отсутствует"]
[]
[null,"Руководитель организации",null,{"$f":"'Инф-я'!C21","v":"Чижов Олег Александрович"}]

{"sheet":"Баланс энергии","index":2,"n_rows":29,"n_cols":47,"rows_kept":29,"cut":false,"hidden":false,"merged":[[28,1,28,2],[5,37,5,41],[5,42,5,46],[3,0,3,6],[3,7,3,46],[5,32,5,36],[5,0,6,0],[5,1,6,1],[28,3,28,6],[2,10,2,11],[5,17,5,21],[5,22,5,26],[2,5,2,6],[5,27,5,31],[5,7,5,11],[5,12,5,16],[5,2,5,6]]}
["Заполняется в тыс. кВт.ч. !",null,null,null,null,null,null,null,null,null,null,null,null,null,null,null,null,null,null,null,null,null,null,null,null,null,null,null,null,null,null,"тыс. кВт.ч."]
[]
[]
["Баланс электрической энергии по сетям ВН, СН1, СН2, и НН",null,null,null,null,null,null,{"$f":"'Инф-я'!C13","v":"ООО \"МОНОСТРОЙ\""}]
[]
["№ п.п.","Показатели","Принято регулирующим органом на 2018 год",null,null,null,null,"Факт за 2018 год",null,null,null,null,"Принято регулирующим органом на 2019 год",null,null,null,null,"По данным организации на 2020 год",null,null,null,null,"По данным организации на 1 полугодие 2020 года",null,null,null,null,"По данным организации на 2 полугодие 2020 года",null,null,null,null,"По данным экспертов на 2020 год",null,null,null,null,"По данным экспертов  на 1 полугодие 2020 года",null,null,null,null,"По данным экспертов на 2 полугодие 2020 года"]
[null,null,"Всего","ВН","СН1","СН2","НН","Всего","ВН","СН1","СН2","НН","Всего","ВН","СН1","СН2","НН","Всего","ВН","СН1","СН2","НН","Всего","ВН","СН1","СН2","НН","Всего","ВН","СН1","СН2","НН","Всего","ВН","СН1","СН2","НН","Всего","ВН","СН1","СН2","НН","Всего","ВН","СН1","СН2","НН"]
[1,2,3,4,5,6,7,18,19,20,21,22,33,34,35,36,37,48,49,50,51,52,53,54,55,56,57,58,59,60,61,62,63,64,65,66,67,53,54,55,56,57,58,59,60,61,62]
["1.","Поступление эл.энергии в сеть , ВСЕГО ",{"$f":"C19+C21+C22","v":6745.9965812600012},{"$f":"D15+D16+D17+D18","v":2647.6},{"$f":"E10+E15+E16+E17+E18","v":0},{"$f":"F10+F15+F16+F17+F18","v":6746},{"$f":"G10+G15+G16+G17+G18","v":151.22979999999916},{"$f":"H19+H21+H22","v":9615.2144113363574},{"$f":"I15+I16+I17+I18","v":0},{"$f":"J10+J15+J16+J17+J18","v":0},{"$f":"K10+K15+K16+K17+K18","v":9615.2189999999991},{"$f":"L10+L15+L16+L17+L18","v":4048.4330008830002},{"$f":"M19+M21+M22","v":12602.920078899},{"$f":"N15+N16+N17+N18","v":0},{"$f":"O10+O15+O16+O17+O18","v":0},{"$f":"P10+P15+P16+P17+P18","v":12602.9},{"$f":"Q10+Q15+Q16+Q17+Q18","v":3306.8677699999989},{"$f":"R19+R21+R22","v":11499.9758},{"$f":"S15+S16+S17+S18","v":0},{"$f":"T10+T15+T16+T17+T18","v":0},{"$f":"U10+U15+U16+U17+U18","v":11500},{"$f":"V10+V15+V16+V17+V18","v":5940},{"$f":"W19+W21+W22","v":5500.0075999999999},{"$f":"X15+X16+X17+X18","v":0},{"$f":"Y10+Y15+Y16+Y17+Y18","v":0},{"$f":"Z10+Z15+Z16+Z17+Z18","v":5500},{"$f":"AA10+AA15+AA16+AA17+AA18","v":2680},{"$f":"AB19+AB21+AB22","v":5999.9682000000003},{"$f":"AC15+AC16+AC17+AC18","v":0},{"$f":"AD10+AD15+AD16+AD17+AD18","v":6000},{"$f":"AE10+AE15+AE16+AE17+AE18","v":6000},{"$f":"AF10+AF15+AF16+AF17+AF18","v":3260},{"$f":"AG19+AG21+AG22","v":0},{"$f":"AH15+AH16+AH17+AH18","v":0},{"$f":"AI10+AI15+AI16+AI17+AI18","v":0},{"$f":"AJ10+AJ15+AJ16+AJ17+AJ18","v":0},{"$f":"AK10+AK15+AK16+AK17+AK18","v":0},{"$f":"AL19+AL21+AL22","v":0},{"$f":"AM15+AM16+AM17+AM18","v":0},{"$f":"AN10+AN15+AN16+AN17+AN18","v":0},{"$f":"AO10+AO15+AO16+AO17+AO18","v":0},{"$f":"AP10+AP15+AP16+AP17+AP18","v":0},{"$f":"AQ19+AQ21+AQ22","v":0},{"$f":"AR15+AR16+AR17+AR18","v":0},{"$f":"AS10+AS15+AS16+AS17+AS18","v":0},{"$f":"AT10+AT15+AT16+AT17+AT18","v":0},{"$f":"AU10+AU15+AU16+AU17+AU18","v":0}]
["1.1.","из смежной сети, всего","х","х",{"$f":"E12","v":0},{"$f":"F12+F13","v":2647.6},{"$f":"G12+G13+G14","v":151.22979999999916},"х","х",{"$f":"J12","v":0},{"$f":"K12+K13","v":0},{"$f":"L12+L13+L14","v":4048.4330008830002},"х","х",{"$f":"O12","v":0},{"$f":"P12+P13","v":0},{"$f":"Q12+Q13+Q14","v":3306.8677699999989},"х","х",{"$f":"T12","v":0},{"$f":"U12+U13","v":0},{"$f":"V12+V13+V14","v":5940},"х","х",{"$f":"Y12","v":0},{"$f":"Z12+Z13","v":0},{"$f":"AA12+AA13+AA14","v":2680},"х","х",{"$f":"AD12","v":0},{"$f":"AE12+AE13","v":6000},{"$f":"AF12+AF13+AF14","v":3260},"х","х",{"$f":"AI12","v":0},{"$f":"AJ12+AJ13","v":0},{"$f":"AK12+AK13+AK14","v":0},"х","х",{"$f":"AN12","v":0},{"$f":"AO12+AO13","v":0},{"$f":"AP12+AP13+AP14","v":0},"х","х",{"$f":"AS12","v":0},{"$f":"AT12+AT13","v":0},{"$f":"AU12+AU13+AU14","v":0}]
[null,"    в том числе из сети","х","х","х","х","х","х","х","х","х","х","х","х","х","х","х","х","х","х","х","х","х","х","х","х","х","х","х","х","х","х","х","х","х","х","х","х","х","х","х","х","х","х","х","х","х"]
["1.1.1.","ВН","х","х",null,{"$f":"D9-D19-D21-D22-E12-G12","v":2647.6},null,"х","х",null,{"$f":"I9-I19-I21-I22-J12-L12","v":0},null,"х","х",null,{"$f":"N9-N19-N21-N22-O12-Q12","v":0},null,"х","х",null,{"$f":"S9-S19-S21-S22-T12-V12","v":0},null,"х","х",null,{"$f":"X9-X19-X21-X22-Y12-AA12","v":0},null,"х","х",null,{"$f":"AC9-AC19-AC21-AC22-AD12-AF12","v":0},null,"х","х",null,{"$f":"AH9-AH19-AH21-AH22-AI12-AK12","v":0},null,"х","х",null,{"$f":"AM9-AM19-AM21-AM22-AN12-AP12","v":0},null,"х","х",null,{"$f":"AR9-AR19-AR21-AR22-AS12-AU12","v":0}]
["1.1.2.","СН1","х","х","х",{"$f":"E9-E19-E21-E22-G13","v":0},null,"х","х","х",{"$f":"J9-J19-J21-J22-L13","v":0},null,"х","х","х",{"$f":"O9-O19-O21-O22-Q13","v":0},null,"х","х","х",{"$f":"T9-T19-T21-T22-V13","v":0},null,"х","х","х",{"$f":"Y9-Y19-Y21-Y22-AA13","v":0},null,"х","х","х",{"$f":"AD9-AD19-AD21-AD22-AF13","v":6000},null,"х","х","х",{"$f":"AI9-AI19-AI21-AI22-AK13","v":0},null,"х","х","х",{"$f":"AN9-AN19-AN21-AN22-AP13","v":0},null,"х","х","х",{"$f":"AS9-AS19-AS21-AS22-AU13","v":0}]
["1.1.3.","СН2","х","х","х","х",{"$f":"F9-F19-F21-F22","v":151.22979999999916},"х","х","х","х",{"$f":"K9-K19-K21-K22","v":4048.4330008830002},"х","х","х","х",{"$f":"P9-P19-P21-P22","v":3306.8677699999989},"х","х","х","х",{"$f":"U9-U19-U21-U22","v":5940},"х","х","х","х",{"$f":"Z9-Z19-Z21-Z22","v":2680},"х","х","х","х",{"$f":"AE9-AE19-AE21-AE22","v":3260},"х","х","х","х",{"$f":"AJ9-AJ19-AJ21-AJ22","v":0},"х","х","х","х",{"$f":"AO9-AO19-AO21-AO22","v":0},"х","х","х","х",{"$f":"AT9-AT19-AT21-AT22","v":0}]
["1.2.","от электростанций",{"$f":"SUM(D15:G15)","v":0},null,null,null,null,{"$f":"SUM(I15:L15)","v":0},null,null,null,null,{"$f":"SUM(N15:Q15)","v":0},null,null,null,null,{"$f":"SUM(S15:V15)","v":0},null,null,null,null,{"$f":"SUM(X15:AA15)","v":0},null,null,null,null,{"$f":"SUM(AC15:AF15)","v":0},null,null,null,null,{"$f":"SUM(AH15:AK15)","v":0},null,null,null,null,{"$f":"SUM(AM15:AP15)","v":0},null,null,null,null,{"$f":"SUM(AR15:AU15)","v":0}]
["1.3.","от ОАО \"ФСК ЕЭС\"",{"$f":"SUM(D16:G16)","v":0},null,null,null,null,{"$f":"SUM(I16:L16)","v":0},null,null,null,null,{"$f":"SUM(N16:Q16)","v":0},null,null,null,null,{"$f":"SUM(S16:V16)","v":0},null,null,null,null,{"$f":"SUM(X16:AA16)","v":0},null,null,null,null,{"$f":"SUM(AC16:AF16)","v":0},null,null,null,null,{"$f":"SUM(AH16:AK16)","v":0},null,null,null,null,{"$f":"SUM(AM16:AP16)","v":0},null,null,null,null,{"$f":"SUM(AR16:AU16)","v":0}]
["1.4.","от филиала \"Владимирэнерго\" ОАО \"МРСК Центра и Приволжья\" ",{"$f":"SUM(D17:G17)","v":0},null,null,null,null,{"$f":"SUM(I17:L17)","v":9615.2189999999991},null,null,9615.2189999999991,null,{"$f":"SUM(N17:Q17)","v":0},null,null,null,null,{"$f":"SUM(S17:V17)","v":11500},null,null,11500,null,{"$f":"SUM(X17:AA17)","v":5500},null,null,5500,null,{"$f":"SUM(AC17:AF17)","v":6000},null,6000,null,null,{"$f":"SUM(AH17:AK17)","v":0},null,null,null,null,{"$f":"SUM(AM17:AP17)","v":0},null,null,null,null,{"$f":"SUM(AR17:AU17)","v":0}]
["1.5.","от других сетевых организаций",{"$f":"SUM(D18:G18)","v":6746},2647.6,null,4098.3999999999996,null,{"$f":"SUM(I18:L18)","v":0},null,null,null,null,{"$f":"SUM(N18:Q18)","v":12602.9},null,null,12602.9,null,{"$f":"SUM(S18:V18)","v":0},null,null,null,null,{"$f":"SUM(X18:AA18)","v":0},null,null,null,null,{"$f":"SUM(AC18:AF18)","v":0},null,null,null,null,{"$f":"SUM(AH18:AK18)","v":0},null,null,null,null,{"$f":"SUM(AM18:AP18)","v":0},null,null,null,null,{"$f":"SUM(AR18:AU18)","v":0}]
["2.","Потери электроэнергии в сети ",{"$f":"SUM(D19:G19)","v":275.99658125999991},{"$f":"D9*D20/100","v":0},{"$f":"E9*E20/100","v":0},{"$f":"F9*F20/100","v":261.0702},{"$f":"G9*G20/100","v":14.926381259999916},{"$f":"SUM(I19:L19)","v":715.52641133635962},{"$f":"I9*I20/100","v":0},{"$f":"J9*J20/100","v":0},{"$f":"K9*K20/100","v":397.52199911699995},{"$f":"L9*L20/100","v":318.00441221935966},{"$f":"SUM(N19:Q19)","v":814.12007889899985},{"$f":"N9*N20/100","v":0},{"$f":"O9*O20/100","v":0},{"$f":"P9*P20/100","v":487.73222999999996},{"$f":"Q9*Q20/100","v":326.38784889899989},{"$f":"SUM(S19:V19)","v":899.97579999999994},{"$f":"S9*S20/100","v":0},{"$f":"T9*T20/100","v":0},{"$f":"U9*U20/100","v":460},{"$f":"V9*V20/100","v":439.97579999999999},{"$f":"SUM(X19:AA19)","v":418.50760000000002},{"$f":"X9*X20/100","v":0},{"$f":"Y9*Y20/100","v":0},{"$f":"Z9*Z20/100","v":220},{"$f":"AA9*AA20/100","v":198.5076},{"$f":"SUM(AC19:AF19)","v":481.46820000000002},{"$f":"AC9*AC20/100","v":0},{"$f":"AD9*AD20/100","v":0},{"$f":"AE9*AE20/100","v":240},{"$f":"AF9*AF20/100","v":241.4682},{"$f":"SUM(AH19:AK19)","v":0},{"$f":"AH9*AH20/100","v":0},{"$f":"AI9*AI20/100","v":0},{"$f":"AJ9*AJ20/100","v":0},{"$f":"AK9*AK20/100","v":0},{"$f":"SUM(AM19:AP19)","v":0},{"$f":"AM9*AM20/100","v":0},{"$f":"AN9*AN20/100","v":0},{"$f":"AO9*AO20/100","v":0},{"$f":"AP9*AP20/100","v":0},{"$f":"SUM(AR19:AU19)","v":0},{"$f":"AR9*AR20/100","v":0},{"$f":"AS9*AS20/100","v":0},{"$f":"AT9*AT20/100","v":0},{"$f":"AU9*AU20/100","v":0}]
["2.1.","то же в % (п.2./п.1.)",{"$f":"IF(C9=0,0,C19/C9*100)","v":4.091264766227467},null,null,3.87,9.8699999999999992,{"$f":"IF(H9=0,0,H19/H9*100)","v":7.441606403417822},null,null,4.1342999999999996,7.8550000000000004,{"$f":"IF(M9=0,0,M19/M9*100)","v":6.4597734001509437},null,null,3.87,9.8699999999999992,{"$f":"IF(R9=0,0,R19/R9*100)","v":7.8258929901400309},null,null,4,7.407,{"$f":"IF(W9=0,0,W19/W9*100)","v":7.6092185763525135},null,null,4,7.407,{"$f":"IF(AB9=0,0,AB19/AB9*100)","v":8.0245125299164091},null,{"$f":"Y20","v":0},4,7.407,{"$f":"IF(AG9=0,0,AG19/AG9*100)","v":0},null,null,null,null,{"$f":"IF(AL9=0,0,AL19/AL9*100)","v":0},null,null,null,null,{"$f":"IF(AQ9=0,0,AQ19/AQ9*100)","v":0}]
["3.","Расход электроэнергии на производственные и хознужды",{"$f":"SUM(D21:G21)","v":0},null,null,null,null,{"$f":"SUM(I21:L21)","v":0},null,null,null,null,{"$f":"SUM(N21:Q21)","v":0},null,null,null,null,{"$f":"SUM(S21:V21)","v":0},null,null,null,null,{"$f":"SUM(X21:AA21)","v":0},null,null,null,null,{"$f":"SUM(AC21:AF21)","v":0},null,null,null,null,{"$f":"SUM(AH21:AK21)","v":0},null,null,null,null,{"$f":"SUM(AM21:AP21)","v":0},null,null,null,null,{"$f":"SUM(AR21:AU21)","v":0}]
["4.","Полезный отпуск из сети ",6470.0000000000009,{"$f":"D23+D24+D25+D26","v":0},{"$f":"E23+E24+E25+E26","v":0},6333.7000000000007,136.30000000000001,8899.6879999999983,{"$f":"I23+I24+I25+I26","v":0},{"$f":"J23+J24+J25+J26","v":0},{"$f":"K23+K24+K25+K26","v":5169.2639999999992},{"$f":"L23+L24+L25+L26","v":3730.424},11788.800000000001,{"$f":"N23+N24+N25+N26","v":0},{"$f":"O23+O24+O25+O26","v":0},{"$f":"P23+P24+P25+P26","v":8808.3000000000011},{"$f":"Q23+Q24+Q25+Q26","v":2980.5},10600,{"$f":"S23+S24+S25+S26","v":0},{"$f":"T23+T24+T25+T26","v":0},{"$f":"U23+U24+U25+U26","v":5100},{"$f":"V23+V24+V25+V26","v":5500},5081.5,{"$f":"X23+X24+X25+X26","v":0},{"$f":"Y23+Y24+Y25+Y26","v":0},{"$f":"Z23+Z24+Z25+Z26","v":2600},{"$f":"AA23+AA24+AA25+AA26","v":2481.5},5518.5,{"$f":"AC23+AC24+AC25+AC26","v":0},{"$f":"AD23+AD24+AD25+AD26","v":0},{"$f":"AE23+AE24+AE25+AE26","v":2500},{"$f":"AF23+AF24+AF25+AF26","v":3018.5},0,{"$f":"AH23+AH24+AH25+AH26","v":0},{"$f":"AI23+AI24+AI25+AI26","v":0},{"$f":"AJ23+AJ24+AJ25+AJ26","v":0},{"$f":"AK23+AK24+AK25+AK26","v":0},0,{"$f":"AM23+AM24+AM25+AM26","v":0},{"$f":"AN23+AN24+AN25+AN26","v":0},{"$f":"AO23+AO24+AO25+AO26","v":0},{"$f":"AP23+AP24+AP25+AP26","v":0},0,{"$f":"AR23+AR24+AR25+AR26","v":0},{"$f":"AS23+AS24+AS25+AS26","v":0},{"$f":"AT23+AT24+AT25+AT26","v":0},{"$f":"AU23+AU24+AU25+AU26","v":0}]
["4.1.","собственное потребление",4108.6000000000004,null,null,3972.3,136.30000000000001,1774.4069999999999,null,null,1774.4069999999999,null,1831.1,null,null,1831.1,null,1700,null,null,1700,null,900,null,null,900,null,800,null,{"$f":"Y23","v":0},800,null,0,null,null,null,null,0,null,null,null,null,0]
["4.2.","потребителям, присоединенным к сети",0,null,null,null,null,6733.8809999999994,null,null,{"$f":"2796.388+207.069","v":3003.4569999999999},3730.424,8724,null,null,5743.5,2980.5,8500,null,null,3000,5500,3981.5,null,null,{"$f":"U24/2","v":1500},{"$f":"2666.9-185.4","v":2481.5},4518.5,null,{"$f":"Y24","v":0},{"$f":"Z24","v":1500},{"$f":"3203.3-184.8","v":3018.5},0,null,null,null,null,0,null,null,null,null,0]
["4.3.","переток в филиал \"Владимирэнерго\" ОАО \"МРСК Центра и Приволжья\" ",2361.4,null,null,2361.4,null,0,null,null,null,null,0,null,null,null,null,0,null,null,null,null,0,null,null,null,null,0,null,null,null,null,0,null,null,null,null,0,null,null,null,null,0]
["4.4.","переток в другие сетевые организации",0,null,null,null,null,391.4,null,null,391.4,null,1233.7,null,null,1233.7,null,400,null,null,400,null,200,null,null,{"$f":"U26/2","v":200},null,200,null,{"$f":"Y26","v":0},{"$f":"Z26","v":200},null,0,null,null,null,null,0,null,null,null,null,0]
[null,"Проверка",null,{"$f":"D9-D19-D21-D24-D25-D26-E12-F12-G12-D23","v":0},{"$f":"E9-E19-E21-E24-E25-E26-F13-G13-E23","v":0},{"$f":"F9-F19-F21-F24-F25-F26-G14-F23","v":0},{"$f":"G9-G19-G21-G24-G25-G26-G23","v":3.4187399992333667E-3},null,{"$f":"I9-I19-I21-I24-I25-I26-J12-K12-L12-I23","v":0},{"$f":"J9-J19-J21-J24-J25-J26-K13-L13-J23","v":0},{"$f":"K9-K19-K21-K24-K25-K26-L14-K23","v":0},{"$f":"L9-L19-L21-L24-L25-L26-L23","v":4.5886636407885817E-3},null,{"$f":"N9-N19-N21-N24-N25-N26-O12-P12-Q12-N23","v":0},{"$f":"O9-O19-O21-O24-O25-O26-P13-Q13-O23","v":0},{"$f":"P9-P19-P21-P24-P25-P26-Q14-P23","v":0},{"$f":"Q9-Q19-Q21-Q24-Q25-Q26-Q23","v":-2.0078899000964157E-2},null,{"$f":"S9-S19-S21-S24-S25-S26-T12-U12-V12-S23","v":0},{"$f":"T9-T19-T21-T24-T25-T26-U13-V13-T23","v":0},{"$f":"U9-U19-U21-U24-U25-U26-V14-U23","v":0},{"$f":"V9-V19-V21-V24-V25-V26-V23","v":2.4199999999837019E-2},null,{"$f":"X9-X19-X21-X24-X25-X26-Y12-Z12-AA12-X23","v":0},{"$f":"Y9-Y19-Y21-Y24-Y25-Y26-Z13-AA13-Y23","v":0},{"$f":"Z9-Z19-Z21-Z24-Z25-Z26-AA14-Z23","v":0},{"$f":"AA9-AA19-AA21-AA24-AA25-AA26-AA23","v":-7.5999999999112333E-3},null,{"$f":"AC9-AC19-AC21-AC24-AC25-AC26-AD12-AE12-AF12-AC23","v":0},{"$f":"AD9-AD19-AD21-AD24-AD25-AD26-AE13-AF13-AD23","v":0},{"$f":"AE9-AE19-AE21-AE24-AE25-AE26-AF14-AE23","v":0},{"$f":"AF9-AF19-AF21-AF24-AF25-AF26-AF23","v":3.1800000000202999E-2},null,{"$f":"AH9-AH19-AH21-AH24-AH25-AH26-AI12-AJ12-AK12-AH23","v":0},{"$f":"AI9-AI19-AI21-AI24-AI25-AI26-AJ13-AK13-AI23","v":0},{"$f":"AJ9-AJ19-AJ21-AJ24-AJ25-AJ26-AK14-AJ23","v":0},{"$f":"AK9-AK19-AK21-AK24-AK25-AK26-AK23","v":0},null,{"$f":"AM9-AM19-AM21-AM24-AM25-AM26-AN12-AO12-AP12-AM23","v":0},{"$f":"AN9-AN19-AN21-AN24-AN25-AN26-AO13-AP13-AN23","v":0},{"$f":"AO9-AO19-AO21-AO24-AO25-AO26-AP14-AO23","v":0},{"$f":"AP9-AP19-AP21-AP24-AP25-AP26-AP23","v":0},null,{"$f":"AR9-AR19-AR21-AR24-AR25-AR26-AS12-AT12-AU12-AR23","v":0},{"$f":"AS9-AS19-AS21-AS24-AS25-AS26-AT13-AU13-AS23","v":0},{"$f":"AT9-AT19-AT21-AT24-AT25-AT26-AU14-AT23","v":0},{"$f":"AU9-AU19-AU21-AU24-AU25-AU26-AU23","v":0}]
[]
[null,"Руководитель организации",null,{"$f":"'Инф-я'!C21","v":"Чижов Олег Александрович"}]

{"sheet":"Баланс энергии (транзит)","index":3,"n_rows":29,"n_cols":47,"rows_kept":29,"cut":false,"hidden":false,"merged":[[28,1,28,4],[28,6,28,11],[5,22,5,26],[5,27,5,31],[5,32,5,36],[0,35,0,36],[1,35,1,36],[2,0,2,46],[3,0,3,46],[5,0,6,0],[5,1,6,1],[5,2,5,6],[5,7,5,11],[5,12,5,16],[5,17,5,21],[5,37,5,41],[5,42,5,46]]}
[]
[]
["Баланс электрической энергии, передаваемой потребителям энергосбытов и в смежные сетевые организации по сетям ВН, СН1, СН2, и НН"]
[{"$f":"'Инф-я'!C13","v":"ООО \"МОНОСТРОЙ\""}]
[]
["№ п.п.","Показатели","Принято регулирующим органом на 2018 год",null,null,null,null,"Факт за 2018 год",null,null,null,null,"Принято регулирующим органом на 2019 год",null,null,null,null,"По данным организации на 2020 год",null,null,null,null,"По данным организации на 1 полугодие 2020 года",null,null,null,null,"По данным организации на 2 полугодие 2020 года",null,null,null,null,"По данным экспертов на 2020 год",null,null,null,null,"По данным экспертов  на 1 полугодие 2020 года",null,null,null,null,"По данным экспертов на 2 полугодие 2020 года"]
[null,null,"Всего","ВН","СН1","СН2","НН","Всего","ВН","СН1","СН2","НН","Всего","ВН","СН1","СН2","НН","Всего","ВН","СН1","СН2","НН","Всего","ВН","СН1","СН2","НН","Всего","ВН","СН1","СН2","НН","Всего","ВН","СН1","СН2","НН","Всего","ВН","СН1","СН2","НН","Всего","ВН","СН1","СН2","НН"]
[1,2,3,4,5,6,7,8,9,10,11,12,13,14,15,16,17,18,19,20,21,22,23,24,25,26,27,28,29,30,31,32,33,34,35,36,37,38,39,40,41,42,43,44,45,46,47]
["1.","Поступление эл.энергии в сеть , ВСЕГО ",{"$f":"C17+C18+C16+C15","v":2456.465203370436},{"$f":"(D22+D21+E12+F12+G12)/(100-D20)*100","v":964.08794432901959},{"$f":"(E22+E21+F13+G13)/(100-E20)*100","v":0},{"$f":"(F22+F21+G14)/(100-F20)*100","v":2456.465203370436},{"$f":"(G21+G22)/(100-G20)*100","v":0},{"$f":"H17+H18+H16+H15","v":7764.2838064644338},{"$f":"(I22+I21+J12+K12+L12)/(100-I20)*100","v":0},{"$f":"(J22+J21+K13+L13)/(100-J20)*100","v":0},{"$f":"(K22+K21+L14)/(100-K20)*100","v":7764.2838064644338},{"$f":"(L21+L22)/(100-L20)*100","v":4048.428021053774},{"$f":"M17+M18+M16+M15","v":10698.106780098686},{"$f":"(N22+N21+O12+P12+Q12)/(100-N20)*100","v":0},{"$f":"(O22+O21+P13+Q13)/(100-O20)*100","v":0},{"$f":"(P22+P21+Q14)/(100-P20)*100","v":10698.106780098686},{"$f":"(Q21+Q22)/(100-Q20)*100","v":3306.8900477088655},{"$f":"R17+R18+R16+R15","v":9729.139441786454},{"$f":"(S22+S21+T12+U12+V12)/(100-S20)*100","v":0},{"$f":"(T22+T21+U13+V13)/(100-T20)*100","v":0},{"$f":"(U22+U21+V14)/(100-U20)*100","v":9729.139441786454},{"$f":"(V21+V22)/(100-V20)*100","v":5939.973864114997},{"$f":"W17+W18+W16+W15","v":4562.5085499623801},{"$f":"(X22+X21+Y12+Z12+AA12)/(100-X20)*100","v":0},{"$f":"(Y22+Y21+Z13+AA13)/(100-Y20)*100","v":0},{"$f":"(Z22+Z21+AA14)/(100-Z20)*100","v":4562.5085499623801},{"$f":"(AA21+AA22)/(100-AA20)*100","v":2680.0082079638846},{"$f":"AB17+AB18+AB16+AB15","v":5166.6308918240757},{"$f":"(AC22+AC21+AD12+AE12+AF12)/(100-AC20)*100","v":30999785.350944456},{"$f":"(AD22+AD21+AE13+AF13)/(100-AD20)*100","v":5166.6308918240757},{"$f":"(AE22+AE21+AF14)/(100-AE20)*100","v":5166.6308918240757},{"$f":"(AF21+AF22)/(100-AF20)*100","v":3259.9656561511124},{"$f":"AG17+AG18+AG16+AG15","v":0},{"$f":"(AH22+AH21+AI12+AJ12+AK12)/(100-AH20)*100","v":0},{"$f":"(AI22+AI21+AJ13+AK13)/(100-AI20)*100","v":0},{"$f":"(AJ22+AJ21+AK14)/(100-AJ20)*100","v":0},{"$f":"(AK21+AK22)/(100-AK20)*100","v":0},{"$f":"AL17+AL18+AL16+AL15","v":0},{"$f":"(AM22+AM21+AN12+AO12+AP12)/(100-AM20)*100","v":0},{"$f":"(AN22+AN21+AO13+AP13)/(100-AN20)*100","v":0},{"$f":"(AO22+AO21+AP14)/(100-AO20)*100","v":0},{"$f":"(AP21+AP22)/(100-AP20)*100","v":0},{"$f":"AQ17+AQ18+AQ16+AQ15","v":0},{"$f":"(AR22+AR21+AS12+AT12+AU12)/(100-AR20)*100","v":0},{"$f":"(AS22+AS21+AT13+AU13)/(100-AS20)*100","v":0},{"$f":"(AT22+AT21+AU14)/(100-AT20)*100","v":0},{"$f":"(AU21+AU22)/(100-AU20)*100","v":0}]
["1.1.","из смежной сети, всего","х","х",{"$f":"E12","v":0},{"$f":"F12+F13","v":964.08794432901959},{"$f":"G12+G13+G14","v":0},"х","х",{"$f":"J12","v":0},{"$f":"K12+K13","v":0},{"$f":"L12+L13+L14","v":4048.428021053774},"х","х",{"$f":"O12","v":0},{"$f":"P12+P13","v":0},{"$f":"Q12+Q13+Q14","v":3306.8900477088655},"х","х",{"$f":"T12","v":0},{"$f":"U12+U13","v":0},{"$f":"V12+V13+V14","v":5939.973864114997},"х","х",{"$f":"Y12","v":0},{"$f":"Z12+Z13","v":0},{"$f":"AA12+AA13+AA14","v":2680.0082079638846},"х","х",{"$f":"AD12","v":30999785.350944456},{"$f":"AE12+AE13","v":5166.6308918240757},{"$f":"AF12+AF13+AF14","v":3259.9656561511124},"х","х",{"$f":"AI12","v":0},{"$f":"AJ12+AJ13","v":0},{"$f":"AK12+AK13+AK14","v":0},"х","х",{"$f":"AN12","v":0},{"$f":"AO12+AO13","v":0},{"$f":"AP12+AP13+AP14","v":0},"х","х",{"$f":"AS12","v":0},{"$f":"AT12+AT13","v":0},{"$f":"AU12+AU13+AU14","v":0}]
[null,"    в том числе из сети","х","х","х","х","х","х","х","х","х","х","х","х","х","х","х","х","х","х","х","х","х","х","х","х","х","х","х","х","х","х","х","х","х","х","х","х","х","х","х","х","х","х","х","х","х"]
["1.1.1.","ВН","х","х",{"$f":"IF('Баланс энергии'!E$9=0,0,'Баланс энергии'!E$9*E$9)","v":0},{"$f":"IF('Баланс энергии'!F$9=0,0,'Баланс энергии'!F12/'Баланс энергии'!F$9*F$9)","v":964.08794432901959},{"$f":"IF('Баланс энергии'!G$9=0,0,'Баланс энергии'!G12/'Баланс энергии'!G$9*G$9)","v":0},"х","х",{"$f":"IF('Баланс энергии'!J$9=0,0,'Баланс энергии'!J$9*J$9)","v":0},{"$f":"IF('Баланс энергии'!K$9=0,0,'Баланс энергии'!K12/'Баланс энергии'!K$9*K$9)","v":0},{"$f":"IF('Баланс энергии'!L$9=0,0,'Баланс энергии'!L12/'Баланс энергии'!L$9*L$9)","v":0},"х","х",{"$f":"IF('Баланс энергии'!O$9=0,0,'Баланс энергии'!O$9*O$9)","v":0},{"$f":"IF('Баланс энергии'!P$9=0,0,'Баланс энергии'!P12/'Баланс энергии'!P$9*P$9)","v":0},{"$f":"IF('Баланс энергии'!Q$9=0,0,'Баланс энергии'!Q12/'Баланс энергии'!Q$9*Q$9)","v":0},"х","х",{"$f":"IF('Баланс энергии'!T$9=0,0,'Баланс энергии'!T$9*T$9)","v":0},{"$f":"IF('Баланс энергии'!U$9=0,0,'Баланс энергии'!U12/'Баланс энергии'!U$9*U$9)","v":0},{"$f":"IF('Баланс энергии'!V$9=0,0,'Баланс энергии'!V12/'Баланс энергии'!V$9*V$9)","v":0},"х","х",{"$f":"IF('Баланс энергии'!Y$9=0,0,'Баланс энергии'!Y$9*Y$9)","v":0},{"$f":"IF('Баланс энергии'!Z$9=0,0,'Баланс энергии'!Z12/'Баланс энергии'!Z$9*Z$9)","v":0},{"$f":"IF('Баланс энергии'!AA$9=0,0,'Баланс энергии'!AA12/'Баланс энергии'!AA$9*AA$9)","v":0},"х","х",{"$f":"IF('Баланс энергии'!AD$9=0,0,'Баланс энергии'!AD$9*AD$9)","v":30999785.350944456},{"$f":"IF('Баланс энергии'!AE$9=0,0,'Баланс энергии'!AE12/'Баланс энергии'!AE$9*AE$9)","v":0},{"$f":"IF('Баланс энергии'!AF$9=0,0,'Баланс энергии'!AF12/'Баланс энергии'!AF$9*AF$9)","v":0},"х","х",{"$f":"IF('Баланс энергии'!AI$9=0,0,'Баланс энергии'!AI$9*AI$9)","v":0},{"$f":"IF('Баланс энергии'!AJ$9=0,0,'Баланс энергии'!AJ12/'Баланс энергии'!AJ$9*AJ$9)","v":0},{"$f":"IF('Баланс энергии'!AK$9=0,0,'Баланс энергии'!AK12/'Баланс энергии'!AK$9*AK$9)","v":0},"х","х",{"$f":"IF('Баланс энергии'!AN$9=0,0,'Баланс энергии'!AN$9*AN$9)","v":0},{"$f":"IF('Баланс энергии'!AO$9=0,0,'Баланс энергии'!AO12/'Баланс энергии'!AO$9*AO$9)","v":0},{"$f":"IF('Баланс энергии'!AP$9=0,0,'Баланс энергии'!AP12/'Баланс энергии'!AP$9*AP$9)","v":0},"х","х",{"$f":"IF('Баланс энергии'!AS$9=0,0,'Баланс энергии'!AS$9*AS$9)","v":0},{"$f":"IF('Баланс энергии'!AT$9=0,0,'Баланс энергии'!AT12/'Баланс энергии'!AT$9*AT$9)","v":0},{"$f":"IF('Баланс энергии'!AU$9=0,0,'Баланс энергии'!AU12/'Баланс энергии'!AU$9*AU$9)","v":0}]
["1.1.2.","СН1","х","х","х",{"$f":"IF('Баланс энергии'!F$9=0,0,'Баланс энергии'!F13/'Баланс энергии'!F$9*F$9)","v":0},{"$f":"IF('Баланс энергии'!G$9=0,0,'Баланс энергии'!G13/'Баланс энергии'!G$9*G$9)","v":0},"х","х","х",{"$f":"IF('Баланс энергии'!K$9=0,0,'Баланс энергии'!K13/'Баланс энергии'!K$9*K$9)","v":0},{"$f":"IF('Баланс энергии'!L$9=0,0,'Баланс энергии'!L13/'Баланс энергии'!L$9*L$9)","v":0},"х","х","х",{"$f":"IF('Баланс энергии'!P$9=0,0,'Баланс энергии'!P13/'Баланс энергии'!P$9*P$9)","v":0},{"$f":"IF('Баланс энергии'!Q$9=0,0,'Баланс энергии'!Q13/'Баланс энергии'!Q$9*Q$9)","v":0},"х","х","х",{"$f":"IF('Баланс энергии'!U$9=0,0,'Баланс энергии'!U13/'Баланс энергии'!U$9*U$9)","v":0},{"$f":"IF('Баланс энергии'!V$9=0,0,'Баланс энергии'!V13/'Баланс энергии'!V$9*V$9)","v":0},"х","х","х",{"$f":"IF('Баланс энергии'!Z$9=0,0,'Баланс энергии'!Z13/'Баланс энергии'!Z$9*Z$9)","v":0},{"$f":"IF('Баланс энергии'!AA$9=0,0,'Баланс энергии'!AA13/'Баланс энергии'!AA$9*AA$9)","v":0},"х","х","х",{"$f":"IF('Баланс энергии'!AE$9=0,0,'Баланс энергии'!AE13/'Баланс энергии'!AE$9*AE$9)","v":5166.6308918240757},{"$f":"IF('Баланс энергии'!AF$9=0,0,'Баланс энергии'!AF13/'Баланс энергии'!AF$9*AF$9)","v":0},"х","х","х",{"$f":"IF('Баланс энергии'!AJ$9=0,0,'Баланс энергии'!AJ13/'Баланс энергии'!AJ$9*AJ$9)","v":0},{"$f":"IF('Баланс энергии'!AK$9=0,0,'Баланс энергии'!AK13/'Баланс энергии'!AK$9*AK$9)","v":0},"х","х","х",{"$f":"IF('Баланс энергии'!AO$9=0,0,'Баланс энергии'!AO13/'Баланс энергии'!AO$9*AO$9)","v":0},{"$f":"IF('Баланс энергии'!AP$9=0,0,'Баланс энергии'!AP13/'Баланс энергии'!AP$9*AP$9)","v":0},"х","х","х",{"$f":"IF('Баланс энергии'!AT$9=0,0,'Баланс энергии'!AT13/'Баланс энергии'!AT$9*AT$9)","v":0},{"$f":"IF('Баланс энергии'!AU$9=0,0,'Баланс энергии'!AU13/'Баланс энергии'!AU$9*AU$9)","v":0}]
["1.1.3.","СН2","х","х","х","х",{"$f":"IF('Баланс энергии'!G9=0,0,'Баланс энергии'!G14/'Баланс энергии'!G9*G9)","v":0},"х","х","х","х",{"$f":"IF('Баланс энергии'!L9=0,0,'Баланс энергии'!L14/'Баланс энергии'!L9*L9)","v":4048.428021053774},"х","х","х","х",{"$f":"IF('Баланс энергии'!Q9=0,0,'Баланс энергии'!Q14/'Баланс энергии'!Q9*Q9)","v":3306.8900477088655},"х","х","х","х",{"$f":"IF('Баланс энергии'!V9=0,0,'Баланс энергии'!V14/'Баланс энергии'!V9*V9)","v":5939.973864114997},"х","х","х","х",{"$f":"IF('Баланс энергии'!AA9=0,0,'Баланс энергии'!AA14/'Баланс энергии'!AA9*AA9)","v":2680.0082079638846},"х","х","х","х",{"$f":"IF('Баланс энергии'!AF9=0,0,'Баланс энергии'!AF14/'Баланс энергии'!AF9*AF9)","v":3259.9656561511124},"х","х","х","х",{"$f":"IF('Баланс энергии'!AK9=0,0,'Баланс энергии'!AK14/'Баланс энергии'!AK9*AK9)","v":0},"х","х","х","х",{"$f":"IF('Баланс энергии'!AP9=0,0,'Баланс энергии'!AP14/'Баланс энергии'!AP9*AP9)","v":0},"х","х","х","х",{"$f":"IF('Баланс энергии'!AU9=0,0,'Баланс энергии'!AU14/'Баланс энергии'!AU9*AU9)","v":0}]
["1.2.","от электростанций",{"$f":"SUM(D15:G15)","v":0},{"$f":"IF('Баланс энергии'!D$9=0,0,'Баланс энергии'!D15/'Баланс энергии'!D$9*D$9)","v":0},{"$f":"IF('Баланс энергии'!E$9=0,0,'Баланс энергии'!E15/'Баланс энергии'!E$9*E$9)","v":0},{"$f":"IF('Баланс энергии'!F$9=0,0,'Баланс энергии'!F15/'Баланс энергии'!F$9*F$9)","v":0},{"$f":"IF('Баланс энергии'!$G$9=0,0,'Баланс энергии'!G15/'Баланс энергии'!$G$9*$G$9)","v":0},{"$f":"SUM(I15:L15)","v":0},{"$f":"IF('Баланс энергии'!I$9=0,0,'Баланс энергии'!I15/'Баланс энергии'!I$9*I$9)","v":0},{"$f":"IF('Баланс энергии'!J$9=0,0,'Баланс энергии'!J15/'Баланс энергии'!J$9*J$9)","v":0},{"$f":"IF('Баланс энергии'!K$9=0,0,'Баланс энергии'!K15/'Баланс энергии'!K$9*K$9)","v":0},{"$f":"IF('Баланс энергии'!$G$9=0,0,'Баланс энергии'!L15/'Баланс энергии'!$G$9*$G$9)","v":0},{"$f":"SUM(N15:Q15)","v":0},{"$f":"IF('Баланс энергии'!N$9=0,0,'Баланс энергии'!N15/'Баланс энергии'!N$9*N$9)","v":0},{"$f":"IF('Баланс энергии'!O$9=0,0,'Баланс энергии'!O15/'Баланс энергии'!O$9*O$9)","v":0},{"$f":"IF('Баланс энергии'!P$9=0,0,'Баланс энергии'!P15/'Баланс энергии'!P$9*P$9)","v":0},{"$f":"IF('Баланс энергии'!$G$9=0,0,'Баланс энергии'!Q15/'Баланс энергии'!$G$9*$G$9)","v":0},{"$f":"SUM(S15:V15)","v":0},{"$f":"IF('Баланс энергии'!S$9=0,0,'Баланс энергии'!S15/'Баланс энергии'!S$9*S$9)","v":0},{"$f":"IF('Баланс энергии'!T$9=0,0,'Баланс энергии'!T15/'Баланс энергии'!T$9*T$9)","v":0},{"$f":"IF('Баланс энергии'!U$9=0,0,'Баланс энергии'!U15/'Баланс энергии'!U$9*U$9)","v":0},{"$f":"IF('Баланс энергии'!$G$9=0,0,'Баланс энергии'!V15/'Баланс энергии'!$G$9*$G$9)","v":0},{"$f":"SUM(X15:AA15)","v":0},{"$f":"IF('Баланс энергии'!X$9=0,0,'Баланс энергии'!X15/'Баланс энергии'!X$9*X$9)","v":0},{"$f":"IF('Баланс энергии'!Y$9=0,0,'Баланс энергии'!Y15/'Баланс энергии'!Y$9*Y$9)","v":0},{"$f":"IF('Баланс энергии'!Z$9=0,0,'Баланс энергии'!Z15/'Баланс энергии'!Z$9*Z$9)","v":0},{"$f":"IF('Баланс энергии'!$G$9=0,0,'Баланс энергии'!AA15/'Баланс энергии'!$G$9*$G$9)","v":0},{"$f":"SUM(AC15:AF15)","v":0},{"$f":"IF('Баланс энергии'!AC$9=0,0,'Баланс энергии'!AC15/'Баланс энергии'!AC$9*AC$9)","v":0},{"$f":"IF('Баланс энергии'!AD$9=0,0,'Баланс энергии'!AD15/'Баланс энергии'!AD$9*AD$9)","v":0},{"$f":"IF('Баланс энергии'!AE$9=0,0,'Баланс энергии'!AE15/'Баланс энергии'!AE$9*AE$9)","v":0},{"$f":"IF('Баланс энергии'!$G$9=0,0,'Баланс энергии'!AF15/'Баланс энергии'!$G$9*$G$9)","v":0},{"$f":"SUM(AH15:AK15)","v":0},{"$f":"IF('Баланс энергии'!AH$9=0,0,'Баланс энергии'!AH15/'Баланс энергии'!AH$9*AH$9)","v":0},{"$f":"IF('Баланс энергии'!AI$9=0,0,'Баланс энергии'!AI15/'Баланс энергии'!AI$9*AI$9)","v":0},{"$f":"IF('Баланс энергии'!AJ$9=0,0,'Баланс энергии'!AJ15/'Баланс энергии'!AJ$9*AJ$9)","v":0},{"$f":"IF('Баланс энергии'!$G$9=0,0,'Баланс энергии'!AK15/'Баланс энергии'!$G$9*$G$9)","v":0},{"$f":"SUM(AM15:AP15)","v":0},{"$f":"IF('Баланс энергии'!AM$9=0,0,'Баланс энергии'!AM15/'Баланс энергии'!AM$9*AM$9)","v":0},{"$f":"IF('Баланс энергии'!AN$9=0,0,'Баланс энергии'!AN15/'Баланс энергии'!AN$9*AN$9)","v":0},{"$f":"IF('Баланс энергии'!AO$9=0,0,'Баланс энергии'!AO15/'Баланс энергии'!AO$9*AO$9)","v":0},{"$f":"IF('Баланс энергии'!$G$9=0,0,'Баланс энергии'!AP15/'Баланс энергии'!$G$9*$G$9)","v":0},{"$f":"SUM(AR15:AU15)","v":0},{"$f":"IF('Баланс энергии'!AR$9=0,0,'Баланс энергии'!AR15/'Баланс энергии'!AR$9*AR$9)","v":0},{"$f":"IF('Баланс энергии'!AS$9=0,0,'Баланс энергии'!AS15/'Баланс энергии'!AS$9*AS$9)","v":0},{"$f":"IF('Баланс энергии'!AT$9=0,0,'Баланс энергии'!AT15/'Баланс энергии'!AT$9*AT$9)","v":0},{"$f":"IF('Баланс энергии'!$G$9=0,0,'Баланс энергии'!AU15/'Баланс энергии'!$G$9*$G$9)","v":0}]
["1.3.","от ОАО \"ФСК ЕЭС\"",{"$f":"SUM(D16:G16)","v":0},{"$f":"IF('Баланс энергии'!D$9=0,0,'Баланс энергии'!D16/'Баланс энергии'!D$9*D$9)","v":0},{"$f":"IF('Баланс энергии'!E$9=0,0,'Баланс энергии'!E16/'Баланс энергии'!E$9*E$9)","v":0},{"$f":"IF('Баланс энергии'!F$9=0,0,'Баланс энергии'!F16/'Баланс энергии'!F$9*F$9)","v":0},{"$f":"IF('Баланс энергии'!G$9=0,0,'Баланс энергии'!G16/'Баланс энергии'!G$9*G$9)","v":0},{"$f":"SUM(I16:L16)","v":0},{"$f":"IF('Баланс энергии'!I$9=0,0,'Баланс энергии'!I16/'Баланс энергии'!I$9*I$9)","v":0},{"$f":"IF('Баланс энергии'!J$9=0,0,'Баланс энергии'!J16/'Баланс энергии'!J$9*J$9)","v":0},{"$f":"IF('Баланс энергии'!K$9=0,0,'Баланс энергии'!K16/'Баланс энергии'!K$9*K$9)","v":0},{"$f":"IF('Баланс энергии'!L$9=0,0,'Баланс энергии'!L16/'Баланс энергии'!L$9*L$9)","v":0},{"$f":"SUM(N16:Q16)","v":0},{"$f":"IF('Баланс энергии'!N$9=0,0,'Баланс энергии'!N16/'Баланс энергии'!N$9*N$9)","v":0},{"$f":"IF('Баланс энергии'!O$9=0,0,'Баланс энергии'!O16/'Баланс энергии'!O$9*O$9)","v":0},{"$f":"IF('Баланс энергии'!P$9=0,0,'Баланс энергии'!P16/'Баланс энергии'!P$9*P$9)","v":0},{"$f":"IF('Баланс энергии'!Q$9=0,0,'Баланс энергии'!Q16/'Баланс энергии'!Q$9*Q$9)","v":0},{"$f":"SUM(S16:V16)","v":0},{"$f":"IF('Баланс энергии'!S$9=0,0,'Баланс энергии'!S16/'Баланс энергии'!S$9*S$9)","v":0},{"$f":"IF('Баланс энергии'!T$9=0,0,'Баланс энергии'!T16/'Баланс энергии'!T$9*T$9)","v":0},{"$f":"IF('Баланс энергии'!U$9=0,0,'Баланс энергии'!U16/'Баланс энергии'!U$9*U$9)","v":0},{"$f":"IF('Баланс энергии'!V$9=0,0,'Баланс энергии'!V16/'Баланс энергии'!V$9*V$9)","v":0},{"$f":"SUM(X16:AA16)","v":0},{"$f":"IF('Баланс энергии'!X$9=0,0,'Баланс энергии'!X16/'Баланс энергии'!X$9*X$9)","v":0},{"$f":"IF('Баланс энергии'!Y$9=0,0,'Баланс энергии'!Y16/'Баланс энергии'!Y$9*Y$9)","v":0},{"$f":"IF('Баланс энергии'!Z$9=0,0,'Баланс энергии'!Z16/'Баланс энергии'!Z$9*Z$9)","v":0},{"$f":"IF('Баланс энергии'!AA$9=0,0,'Баланс энергии'!AA16/'Баланс энергии'!AA$9*AA$9)","v":0},{"$f":"SUM(AC16:AF16)","v":0},{"$f":"IF('Баланс энергии'!AC$9=0,0,'Баланс энергии'!AC16/'Баланс энергии'!AC$9*AC$9)","v":0},{"$f":"IF('Баланс энергии'!AD$9=0,0,'Баланс энергии'!AD16/'Баланс энергии'!AD$9*AD$9)","v":0},{"$f":"IF('Баланс энергии'!AE$9=0,0,'Баланс энергии'!AE16/'Баланс энергии'!AE$9*AE$9)","v":0},{"$f":"IF('Баланс энергии'!AF$9=0,0,'Баланс энергии'!AF16/'Баланс энергии'!AF$9*AF$9)","v":0},{"$f":"SUM(AH16:AK16)","v":0},{"$f":"IF('Баланс энергии'!AH$9=0,0,'Баланс энергии'!AH16/'Баланс энергии'!AH$9*AH$9)","v":0},{"$f":"IF('Баланс энергии'!AI$9=0,0,'Баланс энергии'!AI16/'Баланс энергии'!AI$9*AI$9)","v":0},{"$f":"IF('Баланс энергии'!AJ$9=0,0,'Баланс энергии'!AJ16/'Баланс энергии'!AJ$9*AJ$9)","v":0},{"$f":"IF('Баланс энергии'!AK$9=0,0,'Баланс энергии'!AK16/'Баланс энергии'!AK$9*AK$9)","v":0},{"$f":"SUM(AM16:AP16)","v":0},{"$f":"IF('Баланс энергии'!AM$9=0,0,'Баланс энергии'!AM16/'Баланс энергии'!AM$9*AM$9)","v":0},{"$f":"IF('Баланс энергии'!AN$9=0,0,'Баланс энергии'!AN16/'Баланс энергии'!AN$9*AN$9)","v":0},{"$f":"IF('Баланс энергии'!AO$9=0,0,'Баланс энергии'!AO16/'Баланс энергии'!AO$9*AO$9)","v":0},{"$f":"IF('Баланс энергии'!AP$9=0,0,'Баланс энергии'!AP16/'Баланс энергии'!AP$9*AP$9)","v":0},{"$f":"SUM(AR16:AU16)","v":0},{"$f":"IF('Баланс энергии'!AR$9=0,0,'Баланс энергии'!AR16/'Баланс энергии'!AR$9*AR$9)","v":0},{"$f":"IF('Баланс энергии'!AS$9=0,0,'Баланс энергии'!AS16/'Баланс энергии'!AS$9*AS$9)","v":0},{"$f":"IF('Баланс энергии'!AT$9=0,0,'Баланс энергии'!AT16/'Баланс энергии'!AT$9*AT$9)","v":0},{"$f":"IF('Баланс энергии'!AU$9=0,0,'Баланс энергии'!AU16/'Баланс энергии'!AU$9*AU$9)","v":0}]
["1.4.","от филиала \"Владимирэнерго\" ОАО \"МРСК Центра и Приволжья\" ",{"$f":"SUM(D17:G17)","v":0},{"$f":"IF('Баланс энергии'!D$9=0,0,'Баланс энергии'!D17/'Баланс энергии'!D$9*D$9)","v":0},{"$f":"IF('Баланс энергии'!E$9=0,0,'Баланс энергии'!E17/'Баланс энергии'!E$9*E$9)","v":0},{"$f":"IF('Баланс энергии'!F$9=0,0,'Баланс энергии'!F17/'Баланс энергии'!F$9*F$9)","v":0},{"$f":"IF('Баланс энергии'!G$9=0,0,'Баланс энергии'!G17/'Баланс энергии'!G$9*G$9)","v":0},{"$f":"SUM(I17:L17)","v":7764.2838064644338},{"$f":"IF('Баланс энергии'!I$9=0,0,'Баланс энергии'!I17/'Баланс энергии'!I$9*I$9)","v":0},{"$f":"IF('Баланс энергии'!J$9=0,0,'Баланс энергии'!J17/'Баланс энергии'!J$9*J$9)","v":0},{"$f":"IF('Баланс энергии'!K$9=0,0,'Баланс энергии'!K17/'Баланс энергии'!K$9*K$9)","v":7764.2838064644338},{"$f":"IF('Баланс энергии'!L$9=0,0,'Баланс энергии'!L17/'Баланс энергии'!L$9*L$9)","v":0},{"$f":"SUM(N17:Q17)","v":0},{"$f":"IF('Баланс энергии'!N$9=0,0,'Баланс энергии'!N17/'Баланс энергии'!N$9*N$9)","v":0},{"$f":"IF('Баланс энергии'!O$9=0,0,'Баланс энергии'!O17/'Баланс энергии'!O$9*O$9)","v":0},{"$f":"IF('Баланс энергии'!P$9=0,0,'Баланс энергии'!P17/'Баланс энергии'!P$9*P$9)","v":0},{"$f":"IF('Баланс энергии'!Q$9=0,0,'Баланс энергии'!Q17/'Баланс энергии'!Q$9*Q$9)","v":0},{"$f":"SUM(S17:V17)","v":9729.139441786454},{"$f":"IF('Баланс энергии'!S$9=0,0,'Баланс энергии'!S17/'Баланс энергии'!S$9*S$9)","v":0},{"$f":"IF('Баланс энергии'!T$9=0,0,'Баланс энергии'!T17/'Баланс энергии'!T$9*T$9)","v":0},{"$f":"IF('Баланс энергии'!U$9=0,0,'Баланс энергии'!U17/'Баланс энергии'!U$9*U$9)","v":9729.139441786454},{"$f":"IF('Баланс энергии'!V$9=0,0,'Баланс энергии'!V17/'Баланс энергии'!V$9*V$9)","v":0},{"$f":"SUM(X17:AA17)","v":4562.5085499623801},{"$f":"IF('Баланс энергии'!X$9=0,0,'Баланс энергии'!X17/'Баланс энергии'!X$9*X$9)","v":0},{"$f":"IF('Баланс энергии'!Y$9=0,0,'Баланс энергии'!Y17/'Баланс энергии'!Y$9*Y$9)","v":0},{"$f":"IF('Баланс энергии'!Z$9=0,0,'Баланс энергии'!Z17/'Баланс энергии'!Z$9*Z$9)","v":4562.5085499623801},{"$f":"IF('Баланс энергии'!AA$9=0,0,'Баланс энергии'!AA17/'Баланс энергии'!AA$9*AA$9)","v":0},{"$f":"SUM(AC17:AF17)","v":5166.6308918240757},{"$f":"IF('Баланс энергии'!AC$9=0,0,'Баланс энергии'!AC17/'Баланс энергии'!AC$9*AC$9)","v":0},{"$f":"IF('Баланс энергии'!AD$9=0,0,'Баланс энергии'!AD17/'Баланс энергии'!AD$9*AD$9)","v":5166.6308918240757},{"$f":"IF('Баланс энергии'!AE$9=0,0,'Баланс энергии'!AE17/'Баланс энергии'!AE$9*AE$9)","v":0},{"$f":"IF('Баланс энергии'!AF$9=0,0,'Баланс энергии'!AF17/'Баланс энергии'!AF$9*AF$9)","v":0},{"$f":"SUM(AH17:AK17)","v":0},{"$f":"IF('Баланс энергии'!AH$9=0,0,'Баланс энергии'!AH17/'Баланс энергии'!AH$9*AH$9)","v":0},{"$f":"IF('Баланс энергии'!AI$9=0,0,'Баланс энергии'!AI17/'Баланс энергии'!AI$9*AI$9)","v":0},{"$f":"IF('Баланс энергии'!AJ$9=0,0,'Баланс энергии'!AJ17/'Баланс энергии'!AJ$9*AJ$9)","v":0},{"$f":"IF('Баланс энергии'!AK$9=0,0,'Баланс энергии'!AK17/'Баланс энергии'!AK$9*AK$9)","v":0},{"$f":"SUM(AM17:AP17)","v":0},{"$f":"IF('Баланс энергии'!AM$9=0,0,'Баланс энергии'!AM17/'Баланс энергии'!AM$9*AM$9)","v":0},{"$f":"IF('Баланс энергии'!AN$9=0,0,'Баланс энергии'!AN17/'Баланс энергии'!AN$9*AN$9)","v":0},{"$f":"IF('Баланс энергии'!AO$9=0,0,'Баланс энергии'!AO17/'Баланс энергии'!AO$9*AO$9)","v":0},{"$f":"IF('Баланс энергии'!AP$9=0,0,'Баланс энергии'!AP17/'Баланс энергии'!AP$9*AP$9)","v":0},{"$f":"SUM(AR17:AU17)","v":0},{"$f":"IF('Баланс энергии'!AR$9=0,0,'Баланс энергии'!AR17/'Баланс энергии'!AR$9*AR$9)","v":0},{"$f":"IF('Баланс энергии'!AS$9=0,0,'Баланс энергии'!AS17/'Баланс энергии'!AS$9*AS$9)","v":0},{"$f":"IF('Баланс энергии'!AT$9=0,0,'Баланс энергии'!AT17/'Баланс энергии'!AT$9*AT$9)","v":0},{"$f":"IF('Баланс энергии'!AU$9=0,0,'Баланс энергии'!AU17/'Баланс энергии'!AU$9*AU$9)","v":0}]
["1.5.","от других сетевых организаций",{"$f":"SUM(D18:G18)","v":2456.465203370436},{"$f":"IF('Баланс энергии'!D$9=0,0,'Баланс энергии'!D18/'Баланс энергии'!D$9*D$9)","v":964.08794432901959},{"$f":"IF('Баланс энергии'!E$9=0,0,'Баланс энергии'!E18/'Баланс энергии'!E$9*E$9)","v":0},{"$f":"IF('Баланс энергии'!F$9=0,0,'Баланс энергии'!F18/'Баланс энергии'!F$9*F$9)","v":1492.3772590414162},{"$f":"IF('Баланс энергии'!G$9=0,0,'Баланс энергии'!G18/'Баланс энергии'!G$9*G$9)","v":0},{"$f":"SUM(I18:L18)","v":0},{"$f":"IF('Баланс энергии'!I$9=0,0,'Баланс энергии'!I18/'Баланс энергии'!I$9*I$9)","v":0},{"$f":"IF('Баланс энергии'!J$9=0,0,'Баланс энергии'!J18/'Баланс энергии'!J$9*J$9)","v":0},{"$f":"IF('Баланс энергии'!K$9=0,0,'Баланс энергии'!K18/'Баланс энергии'!K$9*K$9)","v":0},{"$f":"IF('Баланс энергии'!L$9=0,0,'Баланс энергии'!L18/'Баланс энергии'!L$9*L$9)","v":0},{"$f":"SUM(N18:Q18)","v":10698.106780098686},{"$f":"IF('Баланс энергии'!N$9=0,0,'Баланс энергии'!N18/'Баланс энергии'!N$9*N$9)","v":0},{"$f":"IF('Баланс энергии'!O$9=0,0,'Баланс энергии'!O18/'Баланс энергии'!O$9*O$9)","v":0},{"$f":"IF('Баланс энергии'!P$9=0,0,'Баланс энергии'!P18/'Баланс энергии'!P$9*P$9)","v":10698.106780098686},{"$f":"IF('Баланс энергии'!Q$9=0,0,'Баланс энергии'!Q18/'Баланс энергии'!Q$9*Q$9)","v":0},{"$f":"SUM(S18:V18)","v":0},{"$f":"IF('Баланс энергии'!S$9=0,0,'Баланс энергии'!S18/'Баланс энергии'!S$9*S$9)","v":0},{"$f":"IF('Баланс энергии'!T$9=0,0,'Баланс энергии'!T18/'Баланс энергии'!T$9*T$9)","v":0},{"$f":"IF('Баланс энергии'!U$9=0,0,'Баланс энергии'!U18/'Баланс энергии'!U$9*U$9)","v":0},{"$f":"IF('Баланс энергии'!V$9=0,0,'Баланс энергии'!V18/'Баланс энергии'!V$9*V$9)","v":0},{"$f":"SUM(X18:AA18)","v":0},{"$f":"IF('Баланс энергии'!X$9=0,0,'Баланс энергии'!X18/'Баланс энергии'!X$9*X$9)","v":0},{"$f":"IF('Баланс энергии'!Y$9=0,0,'Баланс энергии'!Y18/'Баланс энергии'!Y$9*Y$9)","v":0},{"$f":"IF('Баланс энергии'!Z$9=0,0,'Баланс энергии'!Z18/'Баланс энергии'!Z$9*Z$9)","v":0},{"$f":"IF('Баланс энергии'!AA$9=0,0,'Баланс энергии'!AA18/'Баланс энергии'!AA$9*AA$9)","v":0},{"$f":"SUM(AC18:AF18)","v":0},{"$f":"IF('Баланс энергии'!AC$9=0,0,'Баланс энергии'!AC18/'Баланс энергии'!AC$9*AC$9)","v":0},{"$f":"IF('Баланс энергии'!AD$9=0,0,'Баланс энергии'!AD18/'Баланс энергии'!AD$9*AD$9)","v":0},{"$f":"IF('Баланс энергии'!AE$9=0,0,'Баланс энергии'!AE18/'Баланс энергии'!AE$9*AE$9)","v":0},{"$f":"IF('Баланс энергии'!AF$9=0,0,'Баланс энергии'!AF18/'Баланс энергии'!AF$9*AF$9)","v":0},{"$f":"SUM(AH18:AK18)","v":0},{"$f":"IF('Баланс энергии'!AH$9=0,0,'Баланс энергии'!AH18/'Баланс энергии'!AH$9*AH$9)","v":0},{"$f":"IF('Баланс энергии'!AI$9=0,0,'Баланс энергии'!AI18/'Баланс энергии'!AI$9*AI$9)","v":0},{"$f":"IF('Баланс энергии'!AJ$9=0,0,'Баланс энергии'!AJ18/'Баланс энергии'!AJ$9*AJ$9)","v":0},{"$f":"IF('Баланс энергии'!AK$9=0,0,'Баланс энергии'!AK18/'Баланс энергии'!AK$9*AK$9)","v":0},{"$f":"SUM(AM18:AP18)","v":0},{"$f":"IF('Баланс энергии'!AM$9=0,0,'Баланс энергии'!AM18/'Баланс энергии'!AM$9*AM$9)","v":0},{"$f":"IF('Баланс энергии'!AN$9=0,0,'Баланс энергии'!AN18/'Баланс энергии'!AN$9*AN$9)","v":0},{"$f":"IF('Баланс энергии'!AO$9=0,0,'Баланс энергии'!AO18/'Баланс энергии'!AO$9*AO$9)","v":0},{"$f":"IF('Баланс энергии'!AP$9=0,0,'Баланс энергии'!AP18/'Баланс энергии'!AP$9*AP$9)","v":0},{"$f":"SUM(AR18:AU18)","v":0},{"$f":"IF('Баланс энергии'!AR$9=0,0,'Баланс энергии'!AR18/'Баланс энергии'!AR$9*AR$9)","v":0},{"$f":"IF('Баланс энергии'!AS$9=0,0,'Баланс энергии'!AS18/'Баланс энергии'!AS$9*AS$9)","v":0},{"$f":"IF('Баланс энергии'!AT$9=0,0,'Баланс энергии'!AT18/'Баланс энергии'!AT$9*AT$9)","v":0},{"$f":"IF('Баланс энергии'!AU$9=0,0,'Баланс энергии'!AU18/'Баланс энергии'!AU$9*AU$9)","v":0}]
["2.","Потери электроэнергии в сети ",{"$f":"D19+E19+F19+G19","v":95.065203370435881},{"$f":"D9*D20/100","v":0},{"$f":"E9*E20/100","v":0},{"$f":"F9*F20/100","v":95.065203370435881},{"$f":"G9*G20/100","v":0},{"$f":"I19+J19+K19+L19","v":639.00280646443298},{"$f":"I9*I20/100","v":0},{"$f":"J9*J20/100","v":0},{"$f":"K9*K20/100","v":320.99878541065908},{"$f":"L9*L20/100","v":318.00402105377395},{"$f":"N19+O19+P19+Q19","v":740.40678009868407},{"$f":"N9*N20/100","v":0},{"$f":"O9*O20/100","v":0},{"$f":"P9*P20/100","v":414.01673238981914},{"$f":"Q9*Q20/100","v":326.39004770886498},{"$f":"S19+T19+U19+V19","v":829.13944178645602},{"$f":"S9*S20/100","v":0},{"$f":"T9*T20/100","v":0},{"$f":"U9*U20/100","v":389.16557767145815},{"$f":"V9*V20/100","v":439.97386411499787},{"$f":"X19+Y19+Z19+AA19","v":381.00854996238013},{"$f":"X9*X20/100","v":0},{"$f":"Y9*Y20/100","v":0},{"$f":"Z9*Z20/100","v":182.5003419984952},{"$f":"AA9*AA20/100","v":198.50820796388493},{"$f":"AC19+AD19+AE19+AF19","v":448.13089182407589},{"$f":"AC9*AC20/100","v":0},{"$f":"AD9*AD20/100","v":0},{"$f":"AE9*AE20/100","v":206.66523567296304},{"$f":"AF9*AF20/100","v":241.46565615111288},{"$f":"AH19+AI19+AJ19+AK19","v":0},{"$f":"AH9*AH20/100","v":0},{"$f":"AI9*AI20/100","v":0},{"$f":"AJ9*AJ20/100","v":0},{"$f":"AK9*AK20/100","v":0},{"$f":"AM19+AN19+AO19+AP19","v":0},{"$f":"AM9*AM20/100","v":0},{"$f":"AN9*AN20/100","v":0},{"$f":"AO9*AO20/100","v":0},{"$f":"AP9*AP20/100","v":0},{"$f":"AR19+AS19+AT19+AU19","v":0},{"$f":"AR9*AR20/100","v":0},{"$f":"AS9*AS20/100","v":0},{"$f":"AT9*AT20/100","v":0},{"$f":"AU9*AU20/100","v":0}]
["2.1.","то же в % (п.2./п.1.)",{"$f":"IF(C9=0,0,C19/C9*100)","v":3.8700000000000006},null,null,{"$f":"'Баланс энергии'!F20","v":3.87},{"$f":"'Баланс энергии'!G20","v":9.8699999999999992},{"$f":"IF(H9=0,0,H19/H9*100)","v":8.2300289684466215},null,null,{"$f":"'Баланс энергии'!K20","v":4.1342999999999996},{"$f":"'Баланс энергии'!L20","v":7.8550000000000004},{"$f":"IF(M9=0,0,M19/M9*100)","v":6.9209140955298452},null,null,{"$f":"'Баланс энергии'!P20","v":3.87},{"$f":"'Баланс энергии'!Q20","v":9.8699999999999992},{"$f":"IF(R9=0,0,R19/R9*100)","v":8.522227960114531},null,null,{"$f":"'Баланс энергии'!U20","v":4},{"$f":"'Баланс энергии'!V20","v":7.407},{"$f":"IF(W9=0,0,W19/W9*100)","v":8.3508566787348091},null,null,{"$f":"'Баланс энергии'!Z20","v":4},{"$f":"'Баланс энергии'!AA20","v":7.407},{"$f":"IF(AB9=0,0,AB19/AB9*100)","v":8.673561189231064},null,null,{"$f":"'Баланс энергии'!AE20","v":4},{"$f":"'Баланс энергии'!AF20","v":7.407},{"$f":"IF(AG9=0,0,AG19/AG9*100)","v":0},null,null,null,null,{"$f":"IF(AL9=0,0,AL19/AL9*100)","v":0},null,null,null,null,{"$f":"IF(AQ9=0,0,AQ19/AQ9*100)","v":0}]
["3.","Расход электроэнергии на производственные и хознужды",{"$f":"SUM(D21:G21)","v":0},null,null,null,null,{"$f":"SUM(I21:L21)","v":0},null,null,null,null,{"$f":"SUM(N21:Q21)","v":0},null,null,null,null,{"$f":"SUM(S21:V21)","v":0},null,null,null,null,{"$f":"SUM(X21:AA21)","v":0},null,null,null,null,{"$f":"SUM(AC21:AF21)","v":0},null,null,null,null,{"$f":"SUM(AH21:AK21)","v":0},null,null,null,null,{"$f":"SUM(AM21:AP21)","v":0},null,null,null,null,{"$f":"SUM(AR21:AU21)","v":0}]
["4.","Полезный отпуск из сети ",{"$f":"SUM(D22:G22)","v":2361.4},{"$f":"D23+D24+D25","v":0},{"$f":"E23+E24+E25","v":0},2361.4,0,{"$f":"SUM(I22:L22)","v":7125.2809999999999},{"$f":"I23+I24+I25","v":0},{"$f":"J23+J24+J25","v":0},3394.857,3730.424,{"$f":"SUM(N22:Q22)","v":9957.7000000000007},{"$f":"N23+N24+N25","v":0},{"$f":"O23+O24+O25","v":0},6977.2,2980.5,{"$f":"SUM(S22:V22)","v":8900},{"$f":"S23+S24+S25","v":0},{"$f":"T23+T24+T25","v":0},3400,5500,{"$f":"SUM(X22:AA22)","v":4181.5},{"$f":"X23+X24+X25","v":0},{"$f":"Y23+Y24+Y25","v":0},1700,2481.5,{"$f":"SUM(AC22:AF22)","v":4718.5},{"$f":"AC23+AC24+AC25","v":0},{"$f":"AD23+AD24+AD25","v":0},1700,3018.5,{"$f":"SUM(AH22:AK22)","v":0},{"$f":"AH23+AH24+AH25","v":0},{"$f":"AI23+AI24+AI25","v":0},0,0,{"$f":"SUM(AM22:AP22)","v":0},{"$f":"AM23+AM24+AM25","v":0},{"$f":"AN23+AN24+AN25","v":0},0,0,{"$f":"SUM(AR22:AU22)","v":0},{"$f":"AR23+AR24+AR25","v":0},{"$f":"AS23+AS24+AS25","v":0},0,0]
["4.1.","потребителям, присоединенным к сети",{"$f":"SUM(D23:G23)","v":0},{"$f":"'Баланс энергии'!D24","v":0},{"$f":"'Баланс энергии'!E24","v":0},{"$f":"'Баланс энергии'!F24","v":0},{"$f":"'Баланс энергии'!G24","v":0},{"$f":"SUM(I23:L23)","v":6733.8809999999994},{"$f":"'Баланс энергии'!I24","v":0},{"$f":"'Баланс энергии'!J24","v":0},{"$f":"'Баланс энергии'!K24","v":3003.4569999999999},{"$f":"'Баланс энергии'!L24","v":3730.424},{"$f":"SUM(N23:Q23)","v":8724},{"$f":"'Баланс энергии'!N24","v":0},{"$f":"'Баланс энергии'!O24","v":0},{"$f":"'Баланс энергии'!P24","v":5743.5},{"$f":"'Баланс энергии'!Q24","v":2980.5},{"$f":"SUM(S23:V23)","v":8500},{"$f":"'Баланс энергии'!S24","v":0},{"$f":"'Баланс энергии'!T24","v":0},{"$f":"'Баланс энергии'!U24","v":3000},{"$f":"'Баланс энергии'!V24","v":5500},{"$f":"SUM(X23:AA23)","v":3981.5},{"$f":"'Баланс энергии'!X24","v":0},{"$f":"'Баланс энергии'!Y24","v":0},{"$f":"'Баланс энергии'!Z24","v":1500},{"$f":"'Баланс энергии'!AA24","v":2481.5},{"$f":"SUM(AC23:AF23)","v":4518.5},{"$f":"'Баланс энергии'!AC24","v":0},{"$f":"'Баланс энергии'!AD24","v":0},{"$f":"'Баланс энергии'!AE24","v":1500},{"$f":"'Баланс энергии'!AF24","v":3018.5},{"$f":"SUM(AH23:AK23)","v":0},{"$f":"'Баланс энергии'!AH24","v":0},{"$f":"'Баланс энергии'!AI24","v":0},{"$f":"'Баланс энергии'!AJ24","v":0},{"$f":"'Баланс энергии'!AK24","v":0},{"$f":"SUM(AM23:AP23)","v":0},{"$f":"'Баланс энергии'!AM24","v":0},{"$f":"'Баланс энергии'!AN24","v":0},{"$f":"'Баланс энергии'!AO24","v":0},{"$f":"'Баланс энергии'!AP24","v":0},{"$f":"SUM(AR23:AU23)","v":0},{"$f":"'Баланс энергии'!AR24","v":0},{"$f":"'Баланс энергии'!AS24","v":0},{"$f":"'Баланс энергии'!AT24","v":0},{"$f":"'Баланс энергии'!AU24","v":0}]
["4.2.","переток в филиал\"Владимирэнерго\" ОАО \"МРСК Центра и Приволжья\" ",{"$f":"SUM(D24:G24)","v":2361.4},{"$f":"'Баланс энергии'!D25","v":0},{"$f":"'Баланс энергии'!E25","v":0},{"$f":"'Баланс энергии'!F25","v":2361.4},{"$f":"'Баланс энергии'!G25","v":0},{"$f":"SUM(I24:L24)","v":0},{"$f":"'Баланс энергии'!I25","v":0},{"$f":"'Баланс энергии'!J25","v":0},{"$f":"'Баланс энергии'!K25","v":0},{"$f":"'Баланс энергии'!L25","v":0},{"$f":"SUM(N24:Q24)","v":0},{"$f":"'Баланс энергии'!N25","v":0},{"$f":"'Баланс энергии'!O25","v":0},{"$f":"'Баланс энергии'!P25","v":0},{"$f":"'Баланс энергии'!Q25","v":0},{"$f":"SUM(S24:V24)","v":0},{"$f":"'Баланс энергии'!S25","v":0},{"$f":"'Баланс энергии'!T25","v":0},{"$f":"'Баланс энергии'!U25","v":0},{"$f":"'Баланс энергии'!V25","v":0},{"$f":"SUM(X24:AA24)","v":0},{"$f":"'Баланс энергии'!X25","v":0},{"$f":"'Баланс энергии'!Y25","v":0},{"$f":"'Баланс энергии'!Z25","v":0},{"$f":"'Баланс энергии'!AA25","v":0},{"$f":"SUM(AC24:AF24)","v":0},{"$f":"'Баланс энергии'!AC25","v":0},{"$f":"'Баланс энергии'!AD25","v":0},{"$f":"'Баланс энергии'!AE25","v":0},{"$f":"'Баланс энергии'!AF25","v":0},{"$f":"SUM(AH24:AK24)","v":0},{"$f":"'Баланс энергии'!AH25","v":0},{"$f":"'Баланс энергии'!AI25","v":0},{"$f":"'Баланс энергии'!AJ25","v":0},{"$f":"'Баланс энергии'!AK25","v":0},{"$f":"SUM(AM24:AP24)","v":0},{"$f":"'Баланс энергии'!AM25","v":0},{"$f":"'Баланс энергии'!AN25","v":0},{"$f":"'Баланс энергии'!AO25","v":0},{"$f":"'Баланс энергии'!AP25","v":0},{"$f":"SUM(AR24:AU24)","v":0},{"$f":"'Баланс энергии'!AR25","v":0},{"$f":"'Баланс энергии'!AS25","v":0},{"$f":"'Баланс энергии'!AT25","v":0},{"$f":"'Баланс энергии'!AU25","v":0}]
["4.3.","переток в другие сетевые организации",{"$f":"SUM(D25:G25)","v":0},{"$f":"'Баланс энергии'!D26","v":0},{"$f":"'Баланс энергии'!E26","v":0},{"$f":"'Баланс энергии'!F26","v":0},{"$f":"'Баланс энергии'!G26","v":0},{"$f":"SUM(I25:L25)","v":391.4},{"$f":"'Баланс энергии'!I26","v":0},{"$f":"'Баланс энергии'!J26","v":0},{"$f":"'Баланс энергии'!K26","v":391.4},{"$f":"'Баланс энергии'!L26","v":0},{"$f":"SUM(N25:Q25)","v":1233.7},{"$f":"'Баланс энергии'!N26","v":0},{"$f":"'Баланс энергии'!O26","v":0},{"$f":"'Баланс энергии'!P26","v":1233.7},{"$f":"'Баланс энергии'!Q26","v":0},{"$f":"SUM(S25:V25)","v":400},{"$f":"'Баланс энергии'!S26","v":0},{"$f":"'Баланс энергии'!T26","v":0},{"$f":"'Баланс энергии'!U26","v":400},{"$f":"'Баланс энергии'!V26","v":0},{"$f":"SUM(X25:AA25)","v":200},{"$f":"'Баланс энергии'!X26","v":0},{"$f":"'Баланс энергии'!Y26","v":0},{"$f":"'Баланс энергии'!Z26","v":200},{"$f":"'Баланс энергии'!AA26","v":0},{"$f":"SUM(AC25:AF25)","v":200},{"$f":"'Баланс энергии'!AC26","v":0},{"$f":"'Баланс энергии'!AD26","v":0},{"$f":"'Баланс энергии'!AE26","v":200},{"$f":"'Баланс энергии'!AF26","v":0},{"$f":"SUM(AH25:AK25)","v":0},{"$f":"'Баланс энергии'!AH26","v":0},{"$f":"'Баланс энергии'!AI26","v":0},{"$f":"'Баланс энергии'!AJ26","v":0},{"$f":"'Баланс энергии'!AK26","v":0},{"$f":"SUM(AM25:AP25)","v":0},{"$f":"'Баланс энергии'!AM26","v":0},{"$f":"'Баланс энергии'!AN26","v":0},{"$f":"'Баланс энергии'!AO26","v":0},{"$f":"'Баланс энергии'!AP26","v":0},{"$f":"SUM(AR25:AU25)","v":0},{"$f":"'Баланс энергии'!AR26","v":0},{"$f":"'Баланс энергии'!AS26","v":0},{"$f":"'Баланс энергии'!AT26","v":0},{"$f":"'Баланс энергии'!AU26","v":0}]
[null,"Проверка",null,{"$f":"D9-D19-D21-D23-D25-E12-F12-G12-D24","v":0},{"$f":"E9-E19-E21-E23-E25-F13-G13-E24","v":0},{"$f":"F9-F19-F21-F23-F25-G14-F24","v":0},{"$f":"G9-G19-G21-G23-G25-G24","v":0},null,{"$f":"I9-I19-I21-I23-I25-J12-K12-L12-I24","v":0},{"$f":"J9-J19-J21-J23-J25-K13-L13-J24","v":0},{"$f":"K9-K19-K21-K23-K25-L14-K24","v":0},{"$f":"L9-L19-L21-L23-L25-L24","v":0},null,{"$f":"N9-N19-N21-N23-N25-O12-P12-Q12-N24","v":0},{"$f":"O9-O19-O21-O23-O25-P13-Q13-O24","v":0},{"$f":"P9-P19-P21-P23-P25-Q14-P24","v":1.8189894035458565E-12},{"$f":"Q9-Q19-Q21-Q23-Q25-Q24","v":4.5474735088646412E-13},null,{"$f":"S9-S19-S21-S23-S25-T12-U12-V12-S24","v":0},{"$f":"T9-T19-T21-T23-T25-U13-V13-T24","v":0},{"$f":"U9-U19-U21-U23-U25-V14-U24","v":-9.0949470177292824E-13},{"$f":"V9-V19-V21-V23-V25-V24","v":-9.0949470177292824E-13},null,{"$f":"X9-X19-X21-X23-X25-Y12-Z12-AA12-X24","v":0},{"$f":"Y9-Y19-Y21-Y23-Y25-Z13-AA13-Y24","v":0},{"$f":"Z9-Z19-Z21-Z23-Z25-AA14-Z24","v":4.5474735088646412E-13},{"$f":"AA9-AA19-AA21-AA23-AA25-AA24","v":-4.5474735088646412E-13},null,{"$f":"AC9-AC19-AC21-AC23-AC25-AD12-AE12-AF12-AC24","v":0},{"$f":"AD9-AD19-AD21-AD23-AD25-AE13-AF13-AD24","v":0},{"$f":"AE9-AE19-AE21-AE23-AE25-AF14-AE24","v":4.5474735088646412E-13},{"$f":"AF9-AF19-AF21-AF23-AF25-AF24","v":-4.5474735088646412E-13},null,{"$f":"AH9-AH19-AH21-AH23-AH25-AI12-AJ12-AK12-AH24","v":0},{"$f":"AI9-AI19-AI21-AI23-AI25-AJ13-AK13-AI24","v":0},{"$f":"AJ9-AJ19-AJ21-AJ23-AJ25-AK14-AJ24","v":0},{"$f":"AK9-AK19-AK21-AK23-AK25-AK24","v":0},null,{"$f":"AM9-AM19-AM21-AM23-AM25-AN12-AO12-AP12-AM24","v":0},{"$f":"AN9-AN19-AN21-AN23-AN25-AO13-AP13-AN24","v":0},{"$f":"AO9-AO19-AO21-AO23-AO25-AP14-AO24","v":0},{"$f":"AP9-AP19-AP21-AP23-AP25-AP24","v":0},null,{"$f":"AR9-AR19-AR21-AR23-AR25-AS12-AT12-AU12-AR24","v":0},{"$f":"AS9-AS19-AS21-AS23-AS25-AT13-AU13-AS24","v":0},{"$f":"AT9-AT19-AT21-AT23-AT25-AU14-AT24","v":0},{"$f":"AU9-AU19-AU21-AU23-AU25-AU24","v":0}]
[]
[]
[null,"Руководитель организации",null,null,null,null,{"$f":"'Инф-я'!C21","v":"Чижов Олег Александрович"}]

{"sheet":"Баланс мощности","index":4,"n_rows":30,"n_cols":12,"rows_kept":30,"cut":false,"hidden":false,"merged":[[6,0,7,0],[6,1,7,1],[3,1,3,5],[29,1,29,2],[29,3,29,5],[1,1,1,6],[6,2,6,6],[6,7,6,11]]}
[]
[null,"Электрическая мощность по диапазонам напряжения "]
[]
[null,{"$f":"'Инф-я'!C13","v":"ООО \"МОНОСТРОЙ\""}]
[]
[null,null,null,null,null,null,"МВт"]
["№ п.п.","Показатели","По данным организации на 2020 год",null,null,null,null,"По данным экспертов на 2020 год"]
[null,null,"Всего","ВН","СН1","СН2","НН","Всего","ВН","СН1","СН2","НН"]
[1,2,3,4,5,6,7,8,9,10,11,12]
["1.","Поступление мощности в сеть , ВСЕГО ",{"$f":"C20+C22+C23","v":0},{"$f":"D16+D17+D18+D19","v":0},{"$f":"E11+E16+E17+E18+E19","v":0},{"$f":"F11+F16+F17+F18+F19","v":0},{"$f":"G11+G16+G17+G18+G19","v":0},{"$f":"H20+H22+H23","v":0},{"$f":"I16+I17+I18+I19","v":0},{"$f":"J11+J16+J17+J18+J19","v":0},{"$f":"K11+K16+K17+K18+K19","v":0},{"$f":"L11+L16+L17+L18+L19","v":0}]
["1.1.","из смежной сети, всего","х","х",{"$f":"E13","v":0},{"$f":"F13+F14","v":0},{"$f":"G13+G14+G15","v":0},"х","х",{"$f":"J13","v":0},{"$f":"K13+K14","v":0},{"$f":"L13+L14+L15","v":0}]
[null,"    в том числе из сети","х","х","х","х","х","х","х","х","х","х"]
["1.1.1.","ВН","х","х",null,{"$f":"D10-D20-D22-D23-G13-E13","v":0},null,"х","х",null,{"$f":"I10-I20-I22-I23-L13-J13","v":0}]
["1.1.2.","СН1","х","х","х",{"$f":"E10-E20-E22-E23-G14","v":0},null,"х","х","х",{"$f":"J10-J20-J22-J23-L14","v":0}]
["1.1.3.","СН2","х","х","х","х",{"$f":"F10-F20-F22-F23","v":0},"х","х","х","х",{"$f":"K10-K20-K22-K23","v":0}]
["1.2.","от электростанций",{"$f":"SUM(D16:G16)","v":0},null,null,null,null,{"$f":"SUM(I16:L16)","v":0}]
["1.3.","от ОАО \"ФСК ЕЭС\"",{"$f":"SUM(D17:G17)","v":0},null,null,null,null,{"$f":"SUM(I17:L17)","v":0}]
["1.4.","от филиала \"Владимирэнерго\" ОАО \"МРСК Центра и Приволжья\" ",{"$f":"SUM(D18:G18)","v":0},null,null,null,null,{"$f":"SUM(I18:L18)","v":0}]
["1.5.","от других сетевых организаций",{"$f":"SUM(D19:G19)","v":0},null,null,null,null,{"$f":"SUM(I19:L19)","v":0}]
["2.","Потери мощности в сети ",{"$f":"SUM(D20:G20)","v":0},{"$f":"D10*D21/100","v":0},{"$f":"E10*E21/100","v":0},{"$f":"F10*F21/100","v":0},{"$f":"G10*G21/100","v":0},{"$f":"SUM(I20:L20)","v":0},{"$f":"I10*I21/100","v":0},{"$f":"J10*J21/100","v":0},{"$f":"K10*K21/100","v":0},{"$f":"L10*L21/100","v":0}]
["2.1.","то же в % (п.2./п.1.)",{"$f":"IF(C10=0,0,C20/C10*100)","v":0},{"$f":"'Баланс энергии'!S20","v":0},{"$f":"'Баланс энергии'!T20","v":0},{"$f":"'Баланс энергии'!U20","v":4},null,{"$f":"IF(H10=0,0,H20/H10*100)","v":0},{"$f":"'Баланс энергии'!AH20","v":0},{"$f":"'Баланс энергии'!AI20","v":0},{"$f":"'Баланс энергии'!AJ20","v":0}]
["3.","Расход электроэнергии на производственные и хознужды",{"$f":"SUM(D22:G22)","v":0},null,null,null,null,{"$f":"SUM(I22:L22)","v":0}]
["4.","Полезный отпуск из сети ",0,{"$f":"D24+D25+D26+D27","v":0},{"$f":"E24+E25+E26+E27","v":0},0,0,{"$f":"SUM(I23:L23)","v":0},{"$f":"I25+I26+I27","v":0},{"$f":"J25+J26+J27","v":0},{"$f":"K25+K26+K27","v":0},{"$f":"L10-L20-L22","v":0}]
["4.1.","собственное потребление",0]
["4.2.","потребителям, присоединенным к сети",0,null,null,null,null,{"$f":"SUM(I25:L25)","v":0}]
["4.3.","переток в филиал \"Владимирэнерго\" ОАО \"МРСК Центра и Приволжья\" ",0,null,null,null,null,{"$f":"SUM(I26:L26)","v":0}]
["4.4.","переток в другие сетевые организации",0,null,null,null,null,{"$f":"SUM(I27:L27)","v":0}]
[null,"Проверка",null,{"$f":"D10-D20-D22-D25-D26-D27-E13-F13-G13","v":0},{"$f":"E10-E20-E22-E25-E26-E27-F14-G14","v":0},{"$f":"F10-F20-F22-F25-F26-F27-G15","v":0},{"$f":"G10-G20-G22-G25-G26-G27","v":0},null,{"$f":"I10-I20-I22-I25-I26-I27-J13-K13-L13","v":0},{"$f":"J10-J20-J22-J25-J26-J27-K14-L14","v":0},{"$f":"K10-K20-K22-K25-K26-K27-L15","v":0},{"$f":"L10-L20-L22-L25-L26-L27","v":0}]
[]
[null,"Руководитель организации",null,{"$f":"'Инф-я'!C32","v":"monostroj-peo@mail.ru"}]

{"sheet":"УЕ ВЛЭП  2017-2024","index":5,"n_rows":54,"n_cols":36,"rows_kept":54,"cut":false,"hidden":false,"merged":[[3,1,3,17],[53,4,53,5],[53,9,53,11],[2,0,2,17],[5,0,6,0],[5,1,6,1],[5,2,6,2],[5,3,6,3],[5,4,6,4],[9,0,26,0],[11,1,12,1],[11,2,12,2],[13,1,16,1],[13,2,14,2],[15,2,16,2],[17,1,21,1],[22,1,26,1],[27,0,28,0],[30,0,37,0],[30,1,34,1],[30,2,32,2],[33,2,34,2],[35,1,37,1],[35,2,37,2],[7,30,7,31],[7,32,7,33],[25,2,26,2],[7,14,7,15],[7,16,7,17],[7,18,7,19],[7,6,7,7],[7,8,7,9],[7,10,7,11],[7,12,7,13],[7,34,7,35],[51,0,51,4],[7,20,7,21],[7,22,7,23],[7,24,7,25],[7,26,7,27],[7,28,7,29],[38,0,39,0],[42,0,44,0],[42,1,44,1],[42,2,44,2],[47,0,50,0],[47,1,50,3],[22,2,24,2],[17,2,19,2],[20,2,21,2]]}
[]
[]
["Объем воздушных линий электропередач (ВЛЭП) и кабельных линий электропередач (КЛЭП) в условных единицах в зависимости от протяженности, напряжения, конструктивного использования и материала опор в период с 2017 по 2024 годы"]
[null,{"$f":"'Инф-я'!C13","v":"ООО \"МОНОСТРОЙ\""}]
[]
["ЛЭП","Напряжение, кВ ","Количество цепей на опоре","Материал опор","Наименование","Количество условных единиц (у) на 100 км трассы ЛЭП","Протяженность","Объем условных единиц","Протяженность","Объем условных единиц","Протяженность","Объем условных единиц","Количество единиц измерения","Объем условных единиц","Протяженность","Объем условных единиц","Протяженность","Объем условных единиц","Протяженность","Объем условных единиц","Протяженность","Объем условных единиц","Протяженность","Объем условных единиц","Протяженность","Объем условных единиц","Протяженность","Объем условных единиц","Протяженность","Объем условных единиц","Протяженность","Объем условных единиц","Протяженность","Объем условных единиц","Протяженность","Объем условных единиц"]
[null,null,null,null,null,"у/100км","км","у","ед.изм.","у","ед.изм.","у","ед.изм.","у","км","у","км","у","км","у","км","у","км","у","км","у","км","у","км","у","км","у","км","у","км","у"]
[null,null,null,null,null,null,"2017 год факт",null,"2018 год утверждено",null,"2018 год факт по данным организации",null,"2018 год факт по данным экспертов",null,"2019 год утверждено",null,"2020 год план по данным организации",null,"2020 год по данным экспертов",null,"2021 год план по данным организации",null,"2021 год по данным экспертов",null,"2022 год план по данным организации",null,"2022 год по данным экспертов",null,"2023 год план по данным организации",null,"2023 год по данным экспертов",null,"2024 год план по данным организации",null,"2024 год по данным экспертов"]
[1,{"$f":"+A9+1","v":2},{"$f":"+B9+1","v":3},{"$f":"+C9+1","v":4},5,6,7,8,9,10,11,12,13,14,15,16,17,18,null,null,19,20,null,null,21,22,null,null,23,24,null,null,25,26]
["ВЛЭП",1150,"-","металл","ВЛЭП-1150кВ-металл",800,null,{"$f":"$F10*G10/100","v":0},null,{"$f":"F10*I10/100","v":0},null,{"$f":"K10*F10/100","v":0},null,{"$f":"M10*F10/100","v":0},null,{"$f":"F10*O10/100","v":0},null,{"$f":"F10*Q10/100","v":0},null,{"$f":"$F10*S10/100","v":0},null,{"$f":"$F10*U10/100","v":0},null,{"$f":"$F10*W10/100","v":0},null,{"$f":"$F10*Y10/100","v":0},null,{"$f":"$F10*AA10/100","v":0},null,{"$f":"$F10*AC10/100","v":0},null,{"$f":"$F10*AE10/100","v":0},null,{"$f":"$F10*AG10/100","v":0},null,{"$f":"$F10*AI10/100","v":0}]
[null,750,1,"металл","ВЛЭП-750кВ-цепей:1-металл",600,null,{"$f":"F11*G11/100","v":0},null,0,null,{"$f":"K11*F11/100","v":0},null,{"$f":"M11*F11/100","v":0},null,0,null,0,null,0,null,0,null,0,null,0,null,0,null,0,null,0,null,0,null,0]
[null,"400-500",1,"металл","ВЛЭП-400-500кВ-цепей:1-металл",400,null,0,null,0,null,0,null,0,null,0,null,0,null,0,null,0,null,0,null,0,null,0,null,0,null,0,null,0,null,0]
[null,null,null,"ж/бетон","ВЛЭП-400-500кВ-ж/бетон",300,null,0,null,0,null,0,null,0,null,0,null,0,null,0,null,0,null,0,null,0,null,0,null,0,null,0,null,0,null,0]
[null,330,1,"металл","ВЛЭП-330кВ-цепей:1-металл",230,null,0,null,0,null,0,null,0,null,0,null,0,null,0,null,0,null,0,null,0,null,0,null,0,null,0,null,0,null,0]
[null,null,null,"ж/бетон","ВЛЭП-330кВ-ж/бетон",170,null,0,null,0,null,0,null,0,null,0,null,0,null,0,null,0,null,0,null,0,null,0,null,0,null,0,null,0,null,0]
[null,null,2,"металл","ВЛЭП-330кВ-цепей:2-металл",290,null,0,null,0,null,0,null,0,null,0,null,0,null,0,null,0,null,0,null,0,null,0,null,0,null,0,null,0,null,0]
[null,null,null,"ж/бетон","ВЛЭП-330кВ-ж/бетон",210,null,0,null,0,null,0,null,0,null,0,null,0,null,0,null,0,null,0,null,0,null,0,null,0,null,0,null,0,null,0]
[null,220,1,"дерево","ВЛЭП-220кВ-цепей:1-дерево",260,null,0,null,0,null,0,null,0,null,0,null,0,null,0,null,0,null,0,null,0,null,0,null,0,null,0,null,0,null,0]
[null,null,null,"металл","ВЛЭП-220кВ-металл",210,null,0,null,0,null,0,null,0,null,0,null,0,null,0,null,0,null,0,null,0,null,0,null,0,null,0,null,0,null,0]
[null,null,null,"ж/бетон","ВЛЭП-220кВ-ж/бетон",140,null,0,null,0,null,0,null,0,null,0,null,0,null,0,null,0,null,0,null,0,null,0,null,0,null,0,null,0,null,0]
[null,null,2,"металл","ВЛЭП-220кВ-цепей:2-металл",270,null,0,null,0,null,0,null,0,null,0,null,0,null,0,null,0,null,0,null,0,null,0,null,0,null,0,null,0,null,0]
[null,null,null,"ж/бетон","ВЛЭП-220кВ-ж/бетон",180,null,0,null,0,null,0,null,0,null,0,null,0,null,0,null,0,null,0,null,0,null,0,null,0,null,0,null,0,null,0]
[null,"110-150",1,"дерево","ВЛЭП-110-150кВ-цепей:1-дерево",180,null,0,null,0,null,0,null,0,null,0,null,0,null,0,null,0,null,0,null,0,null,0,null,0,null,0,null,0,null,0]
[null,null,null,"металл","ВЛЭП-110-150кВ-металл",160,null,0,null,0,null,0,null,0,null,0,null,0,null,0,null,0,null,0,null,0,null,0,null,0,null,0,null,0,null,0]
[null,null,null,"ж/бетон","ВЛЭП-110-150кВ-ж/бетон",130,null,0,null,0,null,0,null,0,null,0,null,0,null,0,null,0,null,0,null,0,null,0,null,0,null,0,null,0,null,0]
[null,null,2,"металл","ВЛЭП-110-150кВ-цепей:2-металл",190,null,0,null,0,null,0,null,0,null,0,null,0,null,0,null,0,null,0,null,0,null,0,null,0,null,0,null,0,null,0]
[null,null,null,"ж/бетон","ВЛЭП-110-150кВ-ж/бетон",160,null,0,null,0,null,0,null,0,null,0,null,0,null,0,null,0,null,0,null,0,null,0,null,0,null,0,null,0,null,0]
["КЛЭП",220,"-","-","КЛЭП-220кВ",3000,null,0,null,0,null,0,null,0,null,0,null,0,null,0,null,0,null,0,null,0,null,0,null,0,null,0,null,0,null,0]
[null,110,"-","-","КЛЭП-110кВ",2300,null,0,null,0,null,0,null,0,null,0,null,0,null,0,null,0,null,0,null,0,null,0,null,0,null,0,null,0,null,0]
["ВН, всего ",null,null,null,"Итого:",null,{"$f":"SUM(G10:G29)","v":0},0,0,0,0,0,{"$f":"SUM(M10:M29)","v":0},0,0,0,0,0,{"$f":"SUM(S10:S29)","v":0},{"$f":"SUM(T10:T29)","v":0},{"$f":"SUM(U10:U29)","v":0},0,{"$f":"SUM(W10:W29)","v":0},{"$f":"SUM(X10:X29)","v":0},{"$f":"SUM(Y10:Y29)","v":0},0,{"$f":"SUM(AA10:AA29)","v":0},{"$f":"SUM(AB10:AB29)","v":0},{"$f":"SUM(AC10:AC29)","v":0},0,{"$f":"SUM(AE10:AE29)","v":0},{"$f":"SUM(AF10:AF29)","v":0},{"$f":"SUM(AG10:AG29)","v":0},0,{"$f":"SUM(AI10:AI29)","v":0},{"$f":"SUM(AJ10:AJ29)","v":0}]
["ВЛЭП",35,1,"дерево","ВЛЭП-35кВ-цепей:1-дерево",170,null,{"$f":"F31*G31/100","v":0},null,{"$f":"F31*I31/100","v":0},null,{"$f":"K31*F31/100","v":0},null,{"$f":"M31*F31/100","v":0},null,{"$f":"F31*O31/100","v":0},null,{"$f":"F31*Q31/100","v":0},null,{"$f":"$F31*S31/100","v":0},null,{"$f":"$F31*U31/100","v":0},null,{"$f":"$F31*W31/100","v":0},null,{"$f":"$F31*Y31/100","v":0},null,{"$f":"$F31*AA31/100","v":0},null,{"$f":"$F31*AC31/100","v":0},null,{"$f":"$F31*AE31/100","v":0},null,{"$f":"$F31*AG31/100","v":0},null,{"$f":"$F31*AI31/100","v":0}]
[null,null,null,"металл","ВЛЭП-35кВ-металл",140,null,0,null,0,null,{"$f":"K32*F32/100","v":0},null,{"$f":"M32*F32/100","v":0},null,0,null,0,null,0,null,0,null,0,null,0,null,0,null,0,null,0,null,0,null,0]
[null,null,null,"ж/бетон","ВЛЭП-35кВ-ж/бетон",120,null,0,null,0,null,0,null,0,null,0,null,0,null,0,null,0,null,0,null,0,null,0,null,0,null,0,null,0,null,0]
[null,null,2,"металл","ВЛЭП-35кВ-цепей:2-металл",180,null,0,null,0,null,0,null,0,null,0,null,0,null,0,null,0,null,0,null,0,null,0,null,0,null,0,null,0,null,0]
[null,null,null,"ж/бетон","ВЛЭП-35кВ-ж/бетон",150,null,0,null,0,null,0,null,0,null,0,null,0,null,0,null,0,null,0,null,0,null,0,null,0,null,0,null,0,null,0]
[null," 1 - 20 ","-","дерево","ВЛЭП-1-20кВ-дерево",160,null,0,null,0,null,0,null,0,null,0,null,0,null,0,null,0,null,0,null,0,null,0,null,0,null,0,null,0,null,0]
[null,null,null,"дерево на ж/б пасынках","ВЛЭП-1-20кВ-дерево на ж/б пасынках",140,null,0,null,0,null,0,null,0,null,0,null,0,null,0,null,0,null,0,null,0,null,0,null,0,null,0,null,0,null,0]
[null,null,null,"ж/бетон, металл","ВЛЭП-1-20кВ-ж/бетон,металл",110,3.98,4.3780000000000001,3.98,4.3780000000000001,3.98,4.3780000000000001,null,0,3.98,4.3780000000000001,3.37,3.7069999999999999,null,0,{"$f":"Q38","v":3.37},3.7069999999999999,null,0,{"$f":"U38","v":3.37},3.7069999999999999,null,0,{"$f":"Y38","v":3.37},3.7069999999999999,null,0,{"$f":"AC38","v":3.37},3.7069999999999999,null,0]
["КЛЭП"," 20 -35","-","-","КЛЭП-20-35кВ",470,null,0,null,0,null,0,null,0,null,0,null,0,null,0,null,0,null,0,null,0,null,0,null,0,null,0,null,0,null,0]
[null," 3 - 10","-","-","КЛЭП-3-10кВ",350,6.93,24.254999999999999,{"$f":"7.691+0.3","v":7.9909999999999997},27.968499999999999,{"$f":"7.691+0.3","v":7.9909999999999997},27.968499999999999,null,0,7.99,27.965,10.577,37.019500000000001,null,0,{"$f":"Q40","v":10.577},37.019500000000001,null,0,{"$f":"U40","v":10.577},37.019500000000001,null,0,{"$f":"Y40","v":10.577},37.019500000000001,null,0,{"$f":"AC40","v":10.577},37.019500000000001,null,0]
["СН-1, всего",null,null,null,"Итого:",null,{"$f":"SUM(G31:G35)+G39","v":0},0,0,0,0,0,{"$f":"SUM(M31:M35)+M39","v":0},0,0,0,0,0,{"$f":"SUM(S31:S35)+S39","v":0},{"$f":"SUM(T31:T35)+T39","v":0},{"$f":"SUM(U31:U35)+U39","v":0},0,{"$f":"SUM(W31:W35)+W39","v":0},{"$f":"SUM(X31:X35)+X39","v":0},{"$f":"SUM(Y31:Y35)+Y39","v":0},0,{"$f":"SUM(AA31:AA35)+AA39","v":0},{"$f":"SUM(AB31:AB35)+AB39","v":0},{"$f":"SUM(AC31:AC35)+AC39","v":0},0,{"$f":"SUM(AE31:AE35)+AE39","v":0},{"$f":"SUM(AF31:AF35)+AF39","v":0},{"$f":"SUM(AG31:AG35)+AG39","v":0},0,{"$f":"SUM(AI31:AI35)+AI39","v":0},{"$f":"SUM(AJ31:AJ35)+AJ39","v":0}]
["СН-2, всего",null,null,null,"Итого:",null,{"$f":"SUM(G36:G38)+G40","v":10.91},28.632999999999999,11.971,32.346499999999999,11.971,32.346499999999999,{"$f":"SUM(M36:M38)+M40","v":0},0,11.97,32.343000000000004,13.946999999999999,40.726500000000001,{"$f":"SUM(S36:S38)+S40","v":0},{"$f":"SUM(T36:T38)+T40","v":0},{"$f":"SUM(U36:U38)+U40","v":13.946999999999999},40.726500000000001,{"$f":"SUM(W36:W38)+W40","v":0},{"$f":"SUM(X36:X38)+X40","v":0},{"$f":"SUM(Y36:Y38)+Y40","v":13.946999999999999},40.726500000000001,{"$f":"SUM(AA36:AA38)+AA40","v":0},{"$f":"SUM(AB36:AB38)+AB40","v":0},{"$f":"SUM(AC36:AC38)+AC40","v":13.946999999999999},40.726500000000001,{"$f":"SUM(AE36:AE38)+AE40","v":0},{"$f":"SUM(AF36:AF38)+AF40","v":0},{"$f":"SUM(AG36:AG38)+AG40","v":13.946999999999999},40.726500000000001,{"$f":"SUM(AI36:AI38)+AI40","v":0},{"$f":"SUM(AJ36:AJ38)+AJ40","v":0}]
["ВЛЭП","0,4 кВ ","-","дерево","ВЛЭП-0,4кВ-дерево",260,null,{"$f":"F43*G43/100","v":0},null,{"$f":"F43*I43/100","v":0},null,{"$f":"K43*F43/100","v":0},null,{"$f":"M43*F43/100","v":0},null,{"$f":"F43*O43/100","v":0},null,{"$f":"F43*Q43/100","v":0},null,{"$f":"$F43*S43/100","v":0},null,{"$f":"$F43*U43/100","v":0},null,{"$f":"$F43*W43/100","v":0},null,{"$f":"$F43*Y43/100","v":0},null,{"$f":"$F43*AA43/100","v":0},null,{"$f":"$F43*AC43/100","v":0},null,{"$f":"$F43*AE43/100","v":0},null,{"$f":"$F43*AG43/100","v":0},null,{"$f":"$F43*AI43/100","v":0}]
[null,null,null,"дерево на ж/б пасынках","ВЛЭП-0,4кВ-дерево на ж/б пасынках",220,null,{"$f":"F44*G44/100","v":0},null,{"$f":"F44*I44/100","v":0},null,{"$f":"K44*F44/100","v":0},null,0,null,{"$f":"F44*O44/100","v":0},null,{"$f":"F44*Q44/100","v":0},null,0,null,0,null,0,null,0,null,0,null,0,null,0,null,0,null,0]
[null,null,null,"ж/бетон, металл","ВЛЭП-0,4кВ-ж/бетон,металл",150,null,{"$f":"F45*G45/100","v":0},null,{"$f":"F45*I45/100","v":0},null,{"$f":"K45*F45/100","v":0},null,0,null,{"$f":"F45*O45/100","v":0},null,{"$f":"F45*Q45/100","v":0},null,0,null,0,null,0,null,0,null,0,null,0,null,0,null,0,null,0]
["КЛЭП","до 1 кВ ","-","-","КЛЭП-до1кВ",270,3.52,{"$f":"F46*G46/100","v":9.5039999999999996},3.516,{"$f":"F46*I46/100","v":9.4931999999999999},3.516,{"$f":"K46*F46/100","v":9.4931999999999999},null,0,3.52,{"$f":"F46*O46/100","v":9.5039999999999996},8.2479999999999993,{"$f":"F46*Q46/100","v":22.269600000000001},null,0,{"$f":"Q46","v":8.2479999999999993},22.269600000000001,null,0,{"$f":"U46","v":8.2479999999999993},22.269600000000001,null,0,{"$f":"Y46","v":8.2479999999999993},22.269600000000001,null,0,{"$f":"AC46","v":8.2479999999999993},22.269600000000001,null,0]
["НН, всего",null,null,null,"Итого:",null,{"$f":"SUM(G43:G46)","v":3.52},9.5039999999999996,3.516,9.4931999999999999,3.516,9.4931999999999999,0,0,3.52,9.5039999999999996,8.2479999999999993,22.269600000000001,0,0,8.2479999999999993,22.269600000000001,0,0,8.2479999999999993,22.269600000000001,0,0,8.2479999999999993,22.269600000000001,0,0,8.2479999999999993,22.269600000000001,0,0]
[null,"Итого по уровням напряжения:",null,null,"ВН",null,{"$f":"G30","v":0},{"$f":"H30","v":0},0,{"$f":"J30","v":0},0,0,0,0,0,0,0,0,0,0,0,0,0,0,0,0,0,0,0,0,0,0,0,0,0,0]
[null,null,null,null,"СН1",null,{"$f":"G41","v":0},{"$f":"H41","v":0},0,{"$f":"J41","v":0},0,0,0,0,0,0,0,0,0,0,0,0,0,0,0,0,0,0,0,0,0,0,0,0,0,0]
[null,null,null,null,"СН2",null,{"$f":"G42","v":10.91},28.632999999999999,11.971,{"$f":"J42","v":32.346499999999999},11.971,32.346499999999999,0,0,11.97,32.343000000000004,13.946999999999999,40.726500000000001,0,0,13.946999999999999,40.726500000000001,0,0,13.946999999999999,40.726500000000001,0,0,13.946999999999999,40.726500000000001,0,0,13.946999999999999,40.726500000000001,0,0]
[null,null,null,null,"НН",null,{"$f":"G47","v":3.52},{"$f":"H47","v":9.5039999999999996},3.516,{"$f":"J47","v":9.4931999999999999},3.516,9.4931999999999999,0,0,3.52,9.5039999999999996,8.2479999999999993,22.269600000000001,0,0,8.2479999999999993,22.269600000000001,0,0,8.2479999999999993,22.269600000000001,0,0,8.2479999999999993,22.269600000000001,0,0,8.2479999999999993,22.269600000000001,0,0]
["ВСЕГО:",null,null,null,null,null,{"$f":"SUM(G48:G51)","v":14.43},{"$f":"SUM(H48:H51)","v":38.137},15.487,41.839700000000001,15.487,41.839700000000001,0,0,15.49,41.847000000000001,22.195,62.996099999999998,0,0,22.195,62.996099999999998,0,0,22.195,62.996099999999998,0,0,22.195,62.996099999999998,0,0,22.195,62.996099999999998,0,0]
[]
[null,null,null,null,"Руководитель организации",null,null,null,null,{"$f":"'Инф-я'!$C$21","v":"Чижов Олег Александрович"}]

{"sheet":"УЕ ТП 2017-2024","index":6,"n_rows":62,"n_cols":36,"rows_kept":62,"cut":false,"hidden":false,"merged":[[3,1,3,17],[55,1,58,3],[59,1,59,3],[7,12,7,13],[7,24,7,25],[24,1,31,1],[24,3,31,3],[7,1,7,2],[7,6,7,7],[2,0,2,35],[61,1,61,2],[61,6,61,8],[5,0,6,0],[5,1,6,2],[5,3,6,3],[5,4,6,4],[36,0,40,0],[36,1,40,1],[36,3,40,3],[44,0,45,0],[50,0,53,0],[50,1,53,3],[44,1,45,1],[44,3,45,3],[24,0,31,0],[32,0,35,0],[32,1,35,1],[32,3,35,3],[16,0,23,0],[16,1,23,1],[16,3,23,3],[9,0,15,0],[7,34,7,35],[54,1,54,3],[7,26,7,27],[7,28,7,29],[7,30,7,31],[7,32,7,33],[7,20,7,21],[7,22,7,23],[9,1,15,1],[9,3,15,3],[7,8,7,9],[7,10,7,11],[7,14,7,15],[7,16,7,17],[7,18,7,19]]}
[]
[]
["Объем подстанций 35-1150 кВ, трансформаторных подстанций (ТП), комплексных трансформаторных подстанций (КТП) и распределительных пунктов(РП) 0,4-20 кВ в условных единицах в период с 2017 по 2024 годы"]
[null,{"$f":"'Инф-я'!C13","v":"ООО \"МОНОСТРОЙ\""}]
[]
["№ п.п.","Наименование",null,"Единица измерения","Напряжение, кВ ","Количество условных единиц (у) на единицу измерения","Количество единиц измерения","Объем условных единиц","Количество единиц измерения","Объем условных единиц","Количество единиц измерения","Объем условных единиц","Количество единиц измерения","Объем условных единиц","Количество единиц измерения","Объем условных единиц","Количество единиц измерения","Объем условных единиц","Количество единиц измерения","Объем условных единиц","Количество единиц измерения","Объем условных единиц","Количество единиц измерения","Объем условных единиц","Количество единиц измерения","Объем условных единиц","Количество единиц измерения","Объем условных единиц","Количество единиц измерения","Объем условных единиц","Количество единиц измерения","Объем условных единиц","Количество единиц измерения","Объем условных единиц","Количество единиц измерения","Объем условных единиц"]
[null,null,null,null,null,"у/ед.изм.","ед.изм.","у","ед.изм.","у","ед.изм.","у","ед.изм.","у","ед.изм.","у","ед.изм.","у","ед.изм.","у","ед.изм.","у","ед.изм.","у","ед.изм.","у","ед.изм.","у","ед.изм.","у","ед.изм.","у","ед.изм.","у","ед.изм.","у"]
[null,null,null,null,null,null,"2017 год факт",null,"2018 год утверждено",null,"2018 год факт по данным организации",null,"2018 год факт по данным экспертов",null,"2019 год утверждено",null,"2020 год план по данным организации",null,"2020 год по данным экспертов",null,"2021 год план по данным организации",null,"2021 год по данным экспертов",null,"2022 год план по данным организации",null,"2022 год по данным экспертов",null,"2023 год план по данным организации",null,"2023 год по данным экспертов",null,"2024 год план по данным организации",null,"2024 год по данным экспертов"]
[1,{"$f":"+A9+1","v":2},3,4,5,6,7,8,9,10,11,12,13,14,15,16,17,18,19,20,19,20,17,18,21,22,17,18,23,24,17,18,25,26,17,18]
[1,"Подстанция",{"$f":"B10","v":"Подстанция"},"П/ст",1150,1000,null,{"$f":"F10*G10","v":0},null,{"$f":"F10*I10","v":0},null,{"$f":"K10*F10","v":0},null,{"$f":"M10*F10","v":0},null,{"$f":"F10*O10","v":0},null,{"$f":"F10*Q10","v":0},null,{"$f":"$F10*S10","v":0},null,{"$f":"$F10*U10","v":0},null,{"$f":"$F10*W10","v":0},null,{"$f":"$F10*Y10","v":0},null,{"$f":"$F10*AA10","v":0},null,{"$f":"$F10*AC10","v":0},null,{"$f":"$F10*AE10","v":0},null,{"$f":"$F10*AG10","v":0},null,{"$f":"$F10*AI10","v":0}]
[null,null,{"$f":"B10","v":"Подстанция"},null,750,600,null,0,null,0,null,{"$f":"K11*F11","v":0},null,{"$f":"M11*F11","v":0},null,0,null,0,null,{"$f":"$F11*S11","v":0},null,0,null,0,null,0,null,0,null,0,null,0,null,0,null,0]
[null,null,{"$f":"B10","v":"Подстанция"},null,"400-500",500,null,0,null,0,null,0,null,0,null,0,null,0,null,0,null,0,null,0,null,0,null,0,null,0,null,0,null,0,null,0]
[null,null,{"$f":"B10","v":"Подстанция"},null,330,250,null,0,null,0,null,0,null,0,null,0,null,0,null,0,null,0,null,0,null,0,null,0,null,0,null,0,null,0,null,0]
[null,null,{"$f":"B10","v":"Подстанция"},null,220,210,null,0,null,0,null,0,null,0,null,0,null,0,null,0,null,0,null,0,null,0,null,0,null,0,null,0,null,0,null,0]
[null,null,{"$f":"B10","v":"Подстанция"},null,"110-150",105,null,0,null,0,null,0,null,0,null,0,null,0,null,0,null,0,null,0,null,0,null,0,null,0,null,0,null,0,null,0]
[null,null,{"$f":"B10","v":"Подстанция"},null,35,75,null,0,null,0,null,0,null,0,null,0,null,0,null,0,null,0,null,0,null,0,null,0,null,0,null,0,null,0,null,0]
[2,"Силовой трансформатор или реактор (одно- или трехфазный), или вольтодобавочный трансформатор",{"$f":"B17","v":"Силовой трансформатор или реактор (одно- или трехфазный), или вольтодобавочный трансформатор"},"Ед. оборуд.",1150,60,null,0,null,0,null,0,null,0,null,0,null,0,null,0,null,0,null,0,null,0,null,0,null,0,null,0,null,0,null,0]
[null,null,{"$f":"B17","v":"Силовой трансформатор или реактор (одно- или трехфазный), или вольтодобавочный трансформатор"},null,750,43,null,0,null,0,null,0,null,0,null,0,null,0,null,0,null,0,null,0,null,0,null,0,null,0,null,0,null,0,null,0]
[null,null,{"$f":"B17","v":"Силовой трансформатор или реактор (одно- или трехфазный), или вольтодобавочный трансформатор"},null,"400-500",28,null,0,null,0,null,0,null,0,null,0,null,0,null,0,null,0,null,0,null,0,null,0,null,0,null,0,null,0,null,0]
[null,null,{"$f":"B17","v":"Силовой трансформатор или реактор (одно- или трехфазный), или вольтодобавочный трансформатор"},null,330,18,null,0,null,0,null,0,null,0,null,0,null,0,null,0,null,0,null,0,null,0,null,0,null,0,null,0,null,0,null,0]
[null,null,{"$f":"B17","v":"Силовой трансформатор или реактор (одно- или трехфазный), или вольтодобавочный трансформатор"},null,220,14,null,0,null,0,null,0,null,0,null,0,null,0,null,0,null,0,null,0,null,0,null,0,null,0,null,0,null,0,null,0]
[null,null,{"$f":"B17","v":"Силовой трансформатор или реактор (одно- или трехфазный), или вольтодобавочный трансформатор"},null,"110-150",7.8,null,0,null,0,null,0,null,0,null,0,null,0,null,0,null,0,null,0,null,0,null,0,null,0,null,0,null,0,null,0]
[null,null,{"$f":"B17","v":"Силовой трансформатор или реактор (одно- или трехфазный), или вольтодобавочный трансформатор"},null,35,2.1,null,0,null,0,null,0,null,0,null,0,null,0,null,0,null,0,null,0,null,0,null,0,null,0,null,0,null,0,null,0]
[null,null,{"$f":"B17","v":"Силовой трансформатор или реактор (одно- или трехфазный), или вольтодобавочный трансформатор"},null,"1-20",1,null,0,null,0,null,0,null,0,null,0,null,0,null,0,null,0,null,0,null,0,null,0,null,0,null,0,null,0,null,0]
[3,"Воздушный выключатель",{"$f":"B25","v":"Воздушный выключатель"},"3 фазы",1150,180,null,0,null,0,null,0,null,0,null,0,null,0,null,0,null,0,null,0,null,0,null,0,null,0,null,0,null,0,null,0]
[null,null,{"$f":"B25","v":"Воздушный выключатель"},null,750,130,null,0,null,0,null,0,null,0,null,0,null,0,null,0,null,0,null,0,null,0,null,0,null,0,null,0,null,0,null,0]
[null,null,{"$f":"B25","v":"Воздушный выключатель"},null,"400-500",88,null,0,null,0,null,0,null,0,null,0,null,0,null,0,null,0,null,0,null,0,null,0,null,0,null,0,null,0,null,0]
[null,null,{"$f":"B25","v":"Воздушный выключатель"},null,330,66,null,0,null,0,null,0,null,0,null,0,null,0,null,0,null,0,null,0,null,0,null,0,null,0,null,0,null,0,null,0]
[null,null,{"$f":"B25","v":"Воздушный выключатель"},null,220,43,null,0,null,0,null,0,null,0,null,0,null,0,null,0,null,0,null,0,null,0,null,0,null,0,null,0,null,0,null,0]
[null,null,{"$f":"B25","v":"Воздушный выключатель"},null,"110-150",26,null,0,null,0,null,0,null,0,null,0,null,0,null,0,null,0,null,0,null,0,null,0,null,0,null,0,null,0,null,0]
[null,null,{"$f":"B25","v":"Воздушный выключатель"},null,35,11,null,0,null,0,null,0,null,0,null,0,null,0,null,0,null,0,null,0,null,0,null,0,null,0,null,0,null,0,null,0]
[null,null,{"$f":"B25","v":"Воздушный выключатель"},null,"1-20",5.5,null,0,null,0,null,0,null,0,null,0,null,0,null,0,null,0,null,0,null,0,null,0,null,0,null,0,null,0,null,0]
[4,"Масляный (вакуумный) выключатель",{"$f":"B33","v":"Масляный (вакуумный) выключатель"}," - \" -",220,23,null,0,null,0,null,0,null,0,null,0,null,0,null,0,null,0,null,0,null,0,null,0,null,0,null,0,null,0,null,0]
[null,null,{"$f":"B33","v":"Масляный (вакуумный) выключатель"},null,"110-150",14,null,0,null,0,null,0,null,0,null,0,null,0,null,0,null,0,null,0,null,0,null,0,null,0,null,0,null,0,null,0]
[null,null,{"$f":"B33","v":"Масляный (вакуумный) выключатель"},null,35,6.4,null,0,null,0,null,0,null,0,null,0,null,0,null,0,null,0,null,0,null,0,null,0,null,0,null,0,null,0,null,0]
[null,null,{"$f":"B33","v":"Масляный (вакуумный) выключатель"},null,"1-20",3.1,null,0,null,0,null,0,null,0,null,0,null,0,null,0,null,0,null,0,null,0,null,0,null,0,null,0,null,0,null,0]
[5,"Отделитель с короткозамыкателем",{"$f":"B37","v":"Отделитель с короткозамыкателем"},"Ед. оборуд.","400-500",35,null,0,null,0,null,0,null,0,null,0,null,0,null,0,null,0,null,0,null,0,null,0,null,0,null,0,null,0,null,0]
[null,null,{"$f":"B37","v":"Отделитель с короткозамыкателем"},null,330,24,null,0,null,0,null,0,null,0,null,0,null,0,null,0,null,0,null,0,null,0,null,0,null,0,null,0,null,0,null,0]
[null,null,{"$f":"B37","v":"Отделитель с короткозамыкателем"},null,220,19,null,0,null,0,null,0,null,0,null,0,null,0,null,0,null,0,null,0,null,0,null,0,null,0,null,0,null,0,null,0]
[null,null,{"$f":"B37","v":"Отделитель с короткозамыкателем"},null,"110-150",9.5,null,0,null,0,null,0,null,0,null,0,null,0,null,0,null,0,null,0,null,0,null,0,null,0,null,0,null,0,null,0]
[null,null,{"$f":"B37","v":"Отделитель с короткозамыкателем"},null,35,4.7,null,0,null,0,null,0,null,0,null,0,null,0,null,0,null,0,null,0,null,0,null,0,null,0,null,0,null,0,null,0]
[6,"Выключатель нагрузки",{"$f":"B42","v":"Выключатель нагрузки"}," - \" -","1-20",2.2999999999999998,null,0,null,0,null,0,null,0,null,0,null,0,null,0,null,0,null,0,null,0,null,0,null,0,null,0,null,0,null,0]
[7,"Синхронный компенсатор мощн. до 50 Мвар",{"$f":"B43","v":"Синхронный компенсатор мощн. до 50 Мвар"}," - \" -","1-20",26,null,0,null,0,null,0,null,0,null,0,null,0,null,0,null,0,null,0,null,0,null,0,null,0,null,0,null,0,null,0]
[8,"То же, 50 Мвар и более","Синхронный компенсатор мощн. 50 Мвар и выше"," - \" -","1-20",48,null,0,null,0,null,0,null,0,null,0,null,0,null,0,null,0,null,0,null,0,null,0,null,0,null,0,null,0,null,0]
[9,"Статические конденсаторы",{"$f":"B45","v":"Статические конденсаторы"},"100 конд.",35,2.4,null,0,null,0,null,0,null,0,null,0,null,0,null,0,null,0,null,0,null,0,null,0,null,0,null,0,null,0,null,0]
[null,null,{"$f":"B45","v":"Статические конденсаторы"},null,"1-20",2.4,null,0,null,0,null,0,null,0,null,0,null,0,null,0,null,0,null,0,null,0,null,0,null,0,null,0,null,0,null,0]
[10,"Мачтовая (столбовая) ТП",{"$f":"B47","v":"Мачтовая (столбовая) ТП"},"ТП","1-20",2.5,null,0,null,0,null,0,null,0,null,0,null,0,null,0,null,0,null,0,null,0,null,0,null,0,null,0,null,0,null,0]
[11,"Однотрансфор-маторная ТП, КТП",{"$f":"B48","v":"Однотрансфор-маторная ТП, КТП"},"ТП, КТП","1-20",2.2999999999999998,null,0,1,2.2999999999999998,1,2.2999999999999998,null,0,1,2.2999999999999998,1,2.2999999999999998,null,0,{"$f":"Q48","v":1},2.2999999999999998,null,0,{"$f":"U48","v":1},2.2999999999999998,null,0,{"$f":"Y48","v":1},2.2999999999999998,null,0,{"$f":"AC48","v":1},2.2999999999999998,null,0]
[12,"Двухтрансформаторная ТП, КТП",{"$f":"B49","v":"Двухтрансформаторная ТП, КТП"},"ТП, КТП","1-20",3,9,27,9,27,9,27,null,0,9,27,11,33,null,0,{"$f":"Q49","v":11},33,null,0,{"$f":"U49","v":11},33,null,0,{"$f":"Y49","v":11},33,null,0,{"$f":"AC49","v":11},33,null,0]
[13,"Однотрансфор-маторная подстанция 34/0,4 кВ ",{"$f":"B50","v":"Однотрансфор-маторная подстанция 34/0,4 кВ "},"п/ст",35,3.5,null,0,null,0,null,0,null,0,null,0,null,0,null,0,null,0,null,0,null,0,null,0,null,0,null,0,null,0,null,0]
[null,"Итого по уровням напряжения:",null,null,"ВН",null,"х",{"$f":"H10+H11+H12+H13+H17+H18+H19+H20+H25+H26+H27+H28+H37+H38+H40+H39+H34+H33+H30+H29+H22+H21+H15+H14","v":0},"х",0,"х",0,"х",{"$f":"N10+N11+N12+N13+N17+N18+N19+N20+N25+N26+N27+N28+N37+N38+N40+N39+N34+N33+N30+N29+N22+N21+N15+N14","v":0},"х",0,"х",0,"х",{"$f":"T10+T11+T12+T13+T17+T18+T19+T20+T25+T26+T27+T28+T37+T38+T40+T39+T34+T33+T30+T29+T22+T21+T15+T14","v":0},"х",{"$f":"V10+V11+V12+V13+V17+V18+V19+V20+V25+V26+V27+V28+V37+V38+V40+V39+V34+V33+V30+V29+V22+V21+V15+V14","v":0},"х",{"$f":"X10+X11+X12+X13+X17+X18+X19+X20+X25+X26+X27+X28+X37+X38+X40+X39+X34+X33+X30+X29+X22+X21+X15+X14","v":0},"х",{"$f":"Z10+Z11+Z12+Z13+Z17+Z18+Z19+Z20+Z25+Z26+Z27+Z28+Z37+Z38+Z40+Z39+Z34+Z33+Z30+Z29+Z22+Z21+Z15+Z14","v":0},"х",{"$f":"AB10+AB11+AB12+AB13+AB17+AB18+AB19+AB20+AB25+AB26+AB27+AB28+AB37+AB38+AB40+AB39+AB34+AB33+AB30+AB29+AB22+AB21+AB15+AB14","v":0},"х",{"$f":"AD10+AD11+AD12+AD13+AD17+AD18+AD19+AD20+AD25+AD26+AD27+AD28+AD37+AD38+AD40+AD39+AD34+AD33+AD30+AD29+AD22+AD21+AD15+AD14","v":0},"х",{"$f":"AF10+AF11+AF12+AF13+AF17+AF18+AF19+AF20+AF25+AF26+AF27+AF28+AF37+AF38+AF40+AF39+AF34+AF33+AF30+AF29+AF22+AF21+AF15+AF14","v":0},"х",{"$f":"AH10+AH11+AH12+AH13+AH17+AH18+AH19+AH20+AH25+AH26+AH27+AH28+AH37+AH38+AH40+AH39+AH34+AH33+AH30+AH29+AH22+AH21+AH15+AH14","v":0},"х",{"$f":"AJ10+AJ11+AJ12+AJ13+AJ17+AJ18+AJ19+AJ20+AJ25+AJ26+AJ27+AJ28+AJ37+AJ38+AJ40+AJ39+AJ34+AJ33+AJ30+AJ29+AJ22+AJ21+AJ15+AJ14","v":0}]
[null,null,null,null,"СН1",null,"х",{"$f":"H16+H23+H31+H35+H41+H45+H50","v":0},"х",0,"х",0,"х",{"$f":"N16+N23+N31+N35+N41+N45+N50","v":0},"х",0,"х",0,"х",{"$f":"T16+T23+T31+T35+T41+T45+T50","v":0},"х",{"$f":"V16+V23+V31+V35+V41+V45+V50","v":0},"х",{"$f":"X16+X23+X31+X35+X41+X45+X50","v":0},"х",{"$f":"Z16+Z23+Z31+Z35+Z41+Z45+Z50","v":0},"х",{"$f":"AB16+AB23+AB31+AB35+AB41+AB45+AB50","v":0},"х",{"$f":"AD16+AD23+AD31+AD35+AD41+AD45+AD50","v":0},"х",{"$f":"AF16+AF23+AF31+AF35+AF41+AF45+AF50","v":0},"х",{"$f":"AH16+AH23+AH31+AH35+AH41+AH45+AH50","v":0},"х",{"$f":"AJ16+AJ23+AJ31+AJ35+AJ41+AJ45+AJ50","v":0}]
[null,null,null,null,"СН2",null,"х",{"$f":"H24+H32+H36+H42+H43+H44+H46+H47+H48+H49","v":27},"х",29.3,"х",29.3,"х",{"$f":"N24+N32+N36+N42+N43+N44+N46+N47+N48+N49","v":0},"х",29.3,"х",35.299999999999997,"х",{"$f":"T24+T32+T36+T42+T43+T44+T46+T47+T48+T49","v":0},"х",{"$f":"V24+V32+V36+V42+V43+V44+V46+V47+V48+V49","v":35.299999999999997},"х",{"$f":"X24+X32+X36+X42+X43+X44+X46+X47+X48+X49","v":0},"х",{"$f":"Z24+Z32+Z36+Z42+Z43+Z44+Z46+Z47+Z48+Z49","v":35.299999999999997},"х",{"$f":"AB24+AB32+AB36+AB42+AB43+AB44+AB46+AB47+AB48+AB49","v":0},"х",{"$f":"AD24+AD32+AD36+AD42+AD43+AD44+AD46+AD47+AD48+AD49","v":35.299999999999997},"х",{"$f":"AF24+AF32+AF36+AF42+AF43+AF44+AF46+AF47+AF48+AF49","v":0},"х",{"$f":"AH24+AH32+AH36+AH42+AH43+AH44+AH46+AH47+AH48+AH49","v":35.299999999999997},"х",{"$f":"AJ24+AJ32+AJ36+AJ42+AJ43+AJ44+AJ46+AJ47+AJ48+AJ49","v":0}]
[null,null,null,null,"НН",null,"х",{"$f":"SUM(H10:H50) - H51-H52-H53","v":0},"х",0,"х",0,"х",{"$f":"SUM(N10:N50) - N51-N52-N53","v":0},"х",0,"х",0,"х",{"$f":"SUM(T10:T50) - T51-T52-T53","v":0},"х",{"$f":"SUM(V10:V50) - V51-V52-V53","v":0},"х",{"$f":"SUM(X10:X50) - X51-X52-X53","v":0},"х",{"$f":"SUM(Z10:Z50) - Z51-Z52-Z53","v":0},"х",{"$f":"SUM(AB10:AB50) - AB51-AB52-AB53","v":0},"х",{"$f":"SUM(AD10:AD50) - AD51-AD52-AD53","v":0},"х",{"$f":"SUM(AF10:AF50) - AF51-AF52-AF53","v":0},"х",{"$f":"SUM(AH10:AH50) - AH51-AH52-AH53","v":0},"х",{"$f":"SUM(AJ10:AJ50) - AJ51-AJ52-AJ53","v":0}]
[null,"Итого по оборудованию",null,null,null,null,"х",{"$f":"SUM(H51:H54)","v":27},"х",29.3,"х",29.3,"х",{"$f":"SUM(N51:N54)","v":0},"х",29.3,"х",35.299999999999997,"х",{"$f":"SUM(T51:T54)","v":0},"х",{"$f":"SUM(V51:V54)","v":35.299999999999997},"х",{"$f":"SUM(X51:X54)","v":0},"х",{"$f":"SUM(Z51:Z54)","v":35.299999999999997},"х",{"$f":"SUM(AB51:AB54)","v":0},"х",{"$f":"SUM(AD51:AD54)","v":35.299999999999997},"х",{"$f":"SUM(AF51:AF54)","v":0},"х",{"$f":"SUM(AH51:AH54)","v":35.299999999999997},"х",{"$f":"SUM(AJ51:AJ54)","v":0}]
[null,"Всего активов по уровням напряжения:",null,null,"ВН",null,"х",{"$f":"H51+'УЕ ВЛЭП  2017-2024'!H48","v":0},"х",{"$f":"J51+'УЕ ВЛЭП  2017-2024'!J48","v":0},"х",{"$f":"L51+'УЕ ВЛЭП  2017-2024'!L48","v":0},"х",{"$f":"N51+'УЕ ВЛЭП  2017-2024'!N48","v":0},"х",{"$f":"P51+'УЕ ВЛЭП  2017-2024'!P48","v":0},"х",{"$f":"R51+'УЕ ВЛЭП  2017-2024'!R48","v":0},"х",{"$f":"T51+'УЕ ВЛЭП  2017-2024'!T48","v":0},"х",{"$f":"V51+'УЕ ВЛЭП  2017-2024'!V48","v":0},"х",{"$f":"X51+'УЕ ВЛЭП  2017-2024'!X48","v":0},"х",{"$f":"Z51+'УЕ ВЛЭП  2017-2024'!Z48","v":0},"х",{"$f":"AB51+'УЕ ВЛЭП  2017-2024'!AB48","v":0},"х",{"$f":"AD51+'УЕ ВЛЭП  2017-2024'!AD48","v":0},"х",{"$f":"AF51+'УЕ ВЛЭП  2017-2024'!AF48","v":0},"х",{"$f":"AH51+'УЕ ВЛЭП  2017-2024'!AH48","v":0},"х",{"$f":"AJ51+'УЕ ВЛЭП  2017-2024'!AJ48","v":0}]
[null,null,null,null,"СН1",null,"х",{"$f":"H52+'УЕ ВЛЭП  2017-2024'!H49","v":0},"х",{"$f":"J52+'УЕ ВЛЭП  2017-2024'!J49","v":0},"х",{"$f":"L52+'УЕ ВЛЭП  2017-2024'!L49","v":0},"х",{"$f":"N52+'УЕ ВЛЭП  2017-2024'!N49","v":0},"х",{"$f":"P52+'УЕ ВЛЭП  2017-2024'!P49","v":0},"х",{"$f":"R52+'УЕ ВЛЭП  2017-2024'!R49","v":0},"х",{"$f":"T52+'УЕ ВЛЭП  2017-2024'!T49","v":0},"х",{"$f":"V52+'УЕ ВЛЭП  2017-2024'!V49","v":0},"х",{"$f":"X52+'УЕ ВЛЭП  2017-2024'!X49","v":0},"х",{"$f":"Z52+'УЕ ВЛЭП  2017-2024'!Z49","v":0},"х",{"$f":"AB52+'УЕ ВЛЭП  2017-2024'!AB49","v":0},"х",{"$f":"AD52+'УЕ ВЛЭП  2017-2024'!AD49","v":0},"х",{"$f":"AF52+'УЕ ВЛЭП  2017-2024'!AF49","v":0},"х",{"$f":"AH52+'УЕ ВЛЭП  2017-2024'!AH49","v":0},"х",{"$f":"AJ52+'УЕ ВЛЭП  2017-2024'!AJ49","v":0}]
[null,null,null,null,"СН2",null,"х",{"$f":"H53+'УЕ ВЛЭП  2017-2024'!H50","v":55.632999999999996},"х",{"$f":"J53+'УЕ ВЛЭП  2017-2024'!J50","v":61.646500000000003},"х",{"$f":"L53+'УЕ ВЛЭП  2017-2024'!L50","v":61.646500000000003},"х",{"$f":"N53+'УЕ ВЛЭП  2017-2024'!N50","v":0},"х",{"$f":"P53+'УЕ ВЛЭП  2017-2024'!P50","v":61.643000000000001},"х",{"$f":"R53+'УЕ ВЛЭП  2017-2024'!R50","v":76.026499999999999},"х",{"$f":"T53+'УЕ ВЛЭП  2017-2024'!T50","v":0},"х",{"$f":"V53+'УЕ ВЛЭП  2017-2024'!V50","v":76.026499999999999},"х",{"$f":"X53+'УЕ ВЛЭП  2017-2024'!X50","v":0},"х",{"$f":"Z53+'УЕ ВЛЭП  2017-2024'!Z50","v":76.026499999999999},"х",{"$f":"AB53+'УЕ ВЛЭП  2017-2024'!AB50","v":0},"х",{"$f":"AD53+'УЕ ВЛЭП  2017-2024'!AD50","v":76.026499999999999},"х",{"$f":"AF53+'УЕ ВЛЭП  2017-2024'!AF50","v":0},"х",{"$f":"AH53+'УЕ ВЛЭП  2017-2024'!AH50","v":76.026499999999999},"х",{"$f":"AJ53+'УЕ ВЛЭП  2017-2024'!AJ50","v":0}]
[null,null,null,null,"НН",null,"х",{"$f":"H54+'УЕ ВЛЭП  2017-2024'!H51","v":9.5039999999999996},"х",{"$f":"J54+'УЕ ВЛЭП  2017-2024'!J51","v":9.4931999999999999},"х",{"$f":"L54+'УЕ ВЛЭП  2017-2024'!L51","v":9.4931999999999999},"х",{"$f":"N54+'УЕ ВЛЭП  2017-2024'!N51","v":0},"х",{"$f":"P54+'УЕ ВЛЭП  2017-2024'!P51","v":9.5039999999999996},"х",{"$f":"R54+'УЕ ВЛЭП  2017-2024'!R51","v":22.269600000000001},"х",{"$f":"T54+'УЕ ВЛЭП  2017-2024'!T51","v":0},"х",{"$f":"V54+'УЕ ВЛЭП  2017-2024'!V51","v":22.269600000000001},"х",{"$f":"X54+'УЕ ВЛЭП  2017-2024'!X51","v":0},"х",{"$f":"Z54+'УЕ ВЛЭП  2017-2024'!Z51","v":22.269600000000001},"х",{"$f":"AB54+'УЕ ВЛЭП  2017-2024'!AB51","v":0},"х",{"$f":"AD54+'УЕ ВЛЭП  2017-2024'!AD51","v":22.269600000000001},"х",{"$f":"AF54+'УЕ ВЛЭП  2017-2024'!AF51","v":0},"х",{"$f":"AH54+'УЕ ВЛЭП  2017-2024'!AH51","v":22.269600000000001},"х",{"$f":"AJ54+'УЕ ВЛЭП  2017-2024'!AJ51","v":0}]
[null,"Количество активов - всего",null,null,null,null,"х",{"$f":"H56+H57+H58+H59","v":65.137},"х",{"$f":"J56+J57+J58+J59","v":71.139700000000005},"х",{"$f":"L56+L57+L58+L59","v":71.139700000000005},"х",{"$f":"N56+N57+N58+N59","v":0},"х",{"$f":"P56+P57+P58+P59","v":71.147000000000006},"х",{"$f":"R56+R57+R58+R59","v":98.296099999999996},"х",{"$f":"T56+T57+T58+T59","v":0},"х",{"$f":"V56+V57+V58+V59","v":98.296099999999996},"х",{"$f":"X56+X57+X58+X59","v":0},"х",{"$f":"Z56+Z57+Z58+Z59","v":98.296099999999996},"х",{"$f":"AB56+AB57+AB58+AB59","v":0},"х",{"$f":"AD56+AD57+AD58+AD59","v":98.296099999999996},"х",{"$f":"AF56+AF57+AF58+AF59","v":0},"х",{"$f":"AH56+AH57+AH58+AH59","v":98.296099999999996},"х",{"$f":"AJ56+AJ57+AJ58+AJ59","v":0}]
[]
[null,"Руководитель организации",null,null,null,null,{"$f":"'Инф-я'!$C$21","v":"Чижов Олег Александрович"}]

{"sheet":"Подконтрольные расходы","index":7,"n_rows":26,"n_cols":25,"rows_kept":26,"cut":false,"hidden":false,"merged":[[1,0,1,23],[3,0,3,23],[5,19,5,20],[5,21,5,22],[5,23,5,24],[15,0,15,16],[25,5,25,6],[25,7,25,9],[5,9,5,10],[5,17,5,18],[5,11,5,13],[5,14,5,16],[8,0,8,16],[5,0,6,0],[5,1,6,1],[5,2,6,2],[5,7,5,8],[5,5,5,6]]}
[]
["Подконтрольные расходы на 2015 - 2024 годы"]
[]
[{"$f":"'Инф-я'!C13","v":"ООО \"МОНОСТРОЙ\""}]
[]
["№ п.п.","Наименование","Ед.изм.","2015 год","2016 год","2017 год",null,"2018 год",null,"2019 год",null,"2020 (базовый) год по данным организации ",null,null,"2020 (базовый) год по данным экспертов",null,null,"2021 год",null,"2022 год",null,"2023 год",null,"2024 год"]
[null,null,null,"Утверждено","Утверждено","Утверждено","Факт","Утверждено","Факт","Утверждено","Ожидаемые","Экономически обоснованные ПР","Величина эффективного уровня ПР","Базовый уровень ПР","Экономически обоснованные ПР","Величина эффективного уровня ПР","Базовый уровень ПР","По данным организации","По данным экспертов","По данным организации","По данным экспертов","По данным организации","По данным экспертов","По данным организации","По данным экспертов"]
[1,2,3,4,5,4,5,6,7,8,9,10,11,12,null,null,null,13,null,14,null,15,null,16]
["Показатели для расчета подконтрольных расходов"]
[1,"Индекс эффективности подконтрольных расходов (Хэф)","%",0.01,0.01,{"$f":"E10","v":0.01},{"$f":"F10","v":0.01},{"$f":"F10","v":0.01},{"$f":"H10","v":0.01},{"$f":"H10","v":0.01},{"$f":"J10","v":0.01},"х",0.01,{"$f":"M10","v":0.01},"х",null,{"$f":"P10","v":0},{"$f":"$N$10","v":0.01},{"$f":"$Q$10","v":0},{"$f":"$N$10","v":0.01},{"$f":"$Q$10","v":0},{"$f":"$N$10","v":0.01},{"$f":"$Q$10","v":0},{"$f":"$N$10","v":0.01},{"$f":"$Q$10","v":0}]
[2,"Коэффициент эластичности подконтрольных расходов по количеству активов (К эл)","знач.",0.75,0.75,0.75,{"$f":"F11","v":0.75},0.75,0.75,0.75,0.75,"х",0.75,0.75,"х",0.75,0.75,0.75,0.75,0.75,0.75,0.75,0.75,0.75,0.75]
[3,"Индекс потребительских цен (ИПЦ)","%","х",7.3999999999999996E-2,4.7E-2,3.6999999999999998E-2,3.6999999999999998E-2,3.4000000000000002E-2,4.5999999999999999E-2,4.2999999999999997E-2,"х","х",3.7999999999999999E-2,"х","х",null,0.04,null,0.04,null,0.04,null,0.04]
[4,"Количество активов (УЕ)","усл.ед.",30.68,48.99,31.03,{"$f":"'УЕ ТП 2017-2024'!H60","v":65.137},{"$f":"'УЕ ТП 2017-2024'!J60","v":71.139700000000005},{"$f":"'УЕ ТП 2017-2024'!L60","v":71.139700000000005},{"$f":"'УЕ ТП 2017-2024'!P60","v":71.147000000000006},{"$f":"I13","v":71.139700000000005},"х","х",{"$f":"'УЕ ТП 2017-2024'!R60","v":98.296099999999996},"х","х",{"$f":"'УЕ ТП 2017-2024'!T60","v":0},{"$f":"'УЕ ТП 2017-2024'!V60","v":98.296099999999996},{"$f":"'УЕ ТП 2017-2024'!X60","v":0},{"$f":"'УЕ ТП 2017-2024'!Z60","v":98.296099999999996},{"$f":"'УЕ ТП 2017-2024'!AB60","v":0},{"$f":"'УЕ ТП 2017-2024'!AD60","v":98.296099999999996},{"$f":"'УЕ ТП 2017-2024'!AF60","v":0},{"$f":"'УЕ ТП 2017-2024'!AH60","v":98.296099999999996},{"$f":"'УЕ ТП 2017-2024'!AJ60","v":0}]
[5,"Индекс изменения количества активов (ИКА)","%","х",{"$f":"IF(D13=0,0,(E13-D13)/D13)","v":0.59680573663624514},{"$f":"IF(E13=0,0,(F13-E13)/E13)","v":-0.36660542967952642},"х",{"$f":"IF(F13=0,0,(H13-F13)/F13)","v":1.2926103770544635},"х",{"$f":"IF(H13=0,0,(J13-H13)/H13)","v":1.0261499556507477E-4},{"$f":"IF(H13=0,0,(K13-H13)/H13)","v":0},"х","х",{"$f":"IF(J13=0,0,(N13-J13)/J13)","v":0.38159163422210335},"х","х",{"$f":"IF(J13=0,0,(Q13-J13)/J13)","v":-1},{"$f":"IF(N13=0,0,(R13-N13)/N13)","v":0},{"$f":"IF(Q13=0,0,(S13-Q13)/Q13)","v":0},0,0,0,0,0,0]
[6,"Общий коэффициент индексации подконтрольных расходов ПР= ИПЦ*(1+(Кэл*ИКА))*(1-Хэф)","знач.","х",{"$f":"(1+E12)*(1+(E11*E14))*(1-E10)","v":1.5391797506518905},{"$f":"(1+F12)*(1+(F11*F14))*(1-F10)","v":0.75153185548071033},"х",{"$f":"(1+H12)*(1+(H11*H14))*(1-H10)","v":2.0219044435465676},"х",1.0356196964493807,1.03257,"х","х",1.3217183963694883,"х","х",0.25,1.0296000000000001,1,1.0296000000000001,1,1.0296000000000001,1,1.0296000000000001,1]
["Подконтрольные расходы организации (ПР)"]
["1.","Расходы на оплату труда","тыс.руб.",352.42,542.73,{"$f":"E17*F$15","v":407.87888392504595},{"$f":"'П.1.16. оплата труда ОПР'!D32","v":0},{"$f":"F17*H$15","v":824.6921278368651},{"$f":"'П.1.16. оплата труда ОПР'!F32","v":1398.6030000000001},{"$f":"H17*J$15","v":854.06741109460813},{"$f":"'П.1.16. оплата труда ОПР'!H32","v":1458.742929},{"$f":"'П.1.16. оплата труда ОПР'!I32","v":1771.6635900000003},"х",{"$f":"IFERROR(L17/$L$24*$N$24,0)","v":1771.6635900000003},{"$f":"'П.1.16. оплата труда ОПР'!J32","v":0},"х",{"$f":"IFERROR(O17/$O$24*$Q$24,0)","v":0},{"$f":"N17*R$15","v":1824.1048322640004},{"$f":"Q17*S$15","v":0},{"$f":"R17*T$15","v":1878.0983352990149},{"$f":"S17*U$15","v":0},{"$f":"T17*V$15","v":1933.690046023866},{"$f":"U17*W$15","v":0},{"$f":"V17*X$15","v":1990.9272713861726},{"$f":"W17*Y$15","v":0}]
["2.","Материалы","тыс.руб.",0,0,{"$f":"E18*F$15","v":0},{"$f":"материалы!C39","v":0},{"$f":"F18*H$15","v":0},{"$f":"материалы!E39","v":0},{"$f":"H18*J$15","v":0},{"$f":"материалы!G39","v":0},{"$f":"материалы!H39","v":0},"х",0,{"$f":"материалы!I39","v":0},"х",{"$f":"IFERROR(O18/$O$24*$Q$24,0)","v":0},{"$f":"N18*R$15","v":0},{"$f":"Q18*S$15","v":0},0,0,0,0,0,0]
["3.","Ремонт основных фондов","тыс.руб.",321,494.34,371.5122574383343,{"$f":"'Сводная ремонт'!C13","v":609.5},751.16228414658451,{"$f":"'Сводная ремонт'!E13","v":178.3},777.91845669210932,{"$f":"'Сводная ремонт'!G13","v":793.89},{"$f":"'Сводная ремонт'!H13","v":822.67984880087999},"х",822.67984880087999,{"$f":"'Сводная ремонт'!M13","v":0},"х",0,847.03117232538614,0,872.10329502621767,0,897.91755255899375,0,924.49591211474001,0]
["4.","Цеховые расходы","тыс.руб.",80.08,123.32,92.678908417881189,{"$f":"'Цеховые расходы'!C15","v":0},187.38789675315937,{"$f":"'Цеховые расходы'!E15","v":1664.2000000000003},194.06259675379479,{"$f":"'Цеховые расходы'!G15","v":1735.7606000000001},{"$f":"'Цеховые расходы'!H15","v":1801.7195027999999},"х",1801.7195027999999,{"$f":"'Цеховые расходы'!J15","v":0},"х",0,{"$f":"N20*R$15","v":1855.0504000828801},{"$f":"Q20*S$15","v":0},{"$f":"R20*T$15","v":1909.9598919253335},{"$f":"S20*U$15","v":0},{"$f":"T20*V$15","v":1966.4947047263236},{"$f":"U20*W$15","v":0},{"$f":"V20*X$15","v":2024.7029479862229},{"$f":"W20*Y$15","v":0}]
["5.","Общеэксплуатационные расходы ","тыс.руб.",553.19000000000005,851.91,640.23750300257188,{"$f":"'Общеэксплуатационные расходы '!C37","v":0},1294.4990522460589,{"$f":"'Общеэксплуатационные расходы '!E37","v":963.8965989812782},1340.6087155410746,{"$f":"'Общеэксплуатационные расходы '!G37","v":1005.3441527374732},{"$f":"'Общеэксплуатационные расходы '!H37","v":1043.5472305414974},"х",1043.5472305414974,{"$f":"'Общеэксплуатационные расходы '!I37","v":0},"х",0,1074.4362285655257,0,1106.2395409310652,0,1138.9842313426248,0,1172.6981645903666,0]
["6.","Другие расходы, связанные с передачей электрической энергии ","тыс.руб.",0,0,0,{"$f":"'Др проч'!C15","v":0},0,{"$f":"'Др проч'!E15","v":0},0,{"$f":"'Др проч'!G15","v":0},{"$f":"'Др проч'!H15","v":0},"х",0,{"$f":"'Др проч'!I15","v":0},"х",0,0,0,0,0,0,0,0,0]
["7.","Расходы по коллективным договорам","тыс.руб.",0,0,0,{"$f":"'Расходы по кол дог'!C29","v":40},0,{"$f":"'Расходы по кол дог'!E29","v":40},0,{"$f":"'Расходы по кол дог'!G29","v":41.72},{"$f":"'Расходы по кол дог'!H29","v":43.30536},"х",43.30536,{"$f":"'Расходы по кол дог'!I29","v":0},"х",0,{"$f":"N23*R$15","v":44.587198656000005},{"$f":"Q23*S$15","v":0},{"$f":"R23*T$15","v":45.906979736217608},{"$f":"S23*U$15","v":0},{"$f":"T23*V$15","v":47.265826336409653},{"$f":"U23*W$15","v":0},{"$f":"V23*X$15","v":48.664894795967385},{"$f":"W23*Y$15","v":0}]
[null,"Итого ПР ","тыс.руб.",{"$f":"SUM(D17:D23)","v":1306.69},{"$f":"SUM(E17:E23)","v":2012.2999999999997},1512.3075527838332,649.5,3057.7413609826681,4244.9995989812778,3166.6571800815868,5035.4576817374736,5482.9155321423787,{"$f":"L24","v":5482.9155321423787},{"$f":"L24*0.7+M24*0.3","v":5482.9155321423787},{"$f":"SUM(O17:O23)","v":0},{"$f":"ОРЕХ!W19","v":{"$error":"#DIV/0!"}},{"$f":"O24*0.7+P24*0.3","v":{"$error":"#DIV/0!"}},{"$f":"SUM(R17:R23)","v":5645.2098318937915},{"$f":"SUM(S17:S23)","v":0},{"$f":"SUM(T17:T23)","v":5812.3080429178481},{"$f":"SUM(U17:U23)","v":0},{"$f":"SUM(V17:V23)","v":5984.3523609882177},{"$f":"SUM(W17:W23)","v":0},{"$f":"SUM(X17:X23)","v":6161.4891908734699},{"$f":"SUM(Y17:Y23)","v":0}]
[]
[null,"Руководитель организации",null,null,null,null,null,{"$f":"'Инф-я'!$C$21","v":"Чижов Олег Александрович"}]

{"sheet":"материалы","index":8,"n_rows":41,"n_cols":11,"rows_kept":41,"cut":false,"hidden":false,"merged":[[28,0,28,10],[37,0,37,10],[40,3,40,5],[0,7,0,8],[1,0,1,7],[3,0,3,7],[5,0,6,0],[5,1,5,2],[5,3,5,4],[5,5,5,6],[5,7,5,8],[17,0,17,10]]}
[]
["Расходы на  материалы "]
[]
[{"$f":"'Инф-я'!C13","v":"ООО \"МОНОСТРОЙ\""}]
[null,null,null,null,null,null,null,"тыс. руб."]
["Показатели","2017 год ",null,"2018 год ",null,"2019 год ",null,"2020 год ",null,"2017 год","2018 год"]
[null,"Утвержденные"," Факт","Утвержденные"," Факт","Утвержденные","Ожидаемые","По данным организации","По данным экспертов","Факт по расчету экспертов","Факт по расчету экспертов"]
[1,2,3,4,5,6,7,8,9,10,11]
["Материалы для эксплуатации, всего, в том числе:","х",{"$f":"SUM(C10:C17)","v":0},"х",{"$f":"SUM(E10:E17)","v":0},"х",{"$f":"SUM(G10:G17)","v":0},0,0,{"$f":"SUM(J10:J17)","v":0},0]
[null,"х",null,"х",null,"х",{"$f":"E10*1.043","v":0},{"$f":"G10*1.038","v":0}]
[null,"х",null,"х",null,"х"]
[null,"х",null,"х",null,"х"]
[null,"х",null,"х",null,"х"]
[null,"х",null,"х",null,"х"]
[null,"х",null,"х",null,"х"]
[null,"х",null,"х",null,"х"]
[null,"х",null,"х",null,"х"]
["Добавить"]
["ГСМ","х",null,"х",null,"х",{"$f":"E19*1.043","v":0},{"$f":"G19*1.038","v":0}]
["Основные средства  стомостью до 40 тыс. руб., всего, в том числе:","х",{"$f":"SUM(C21:C28)","v":0},"х",{"$f":"SUM(E21:E28)","v":0},"х",{"$f":"SUM(G21:G28)","v":0},0,{"$f":"SUM(I21:I29)","v":0},{"$f":"SUM(J21:J29)","v":0},{"$f":"SUM(K21:K29)","v":0}]
[null,"х",null,"х",null,"х"]
[null,"х",null,"х",null,"х"]
[null,"х",null,"х",null,"х"]
[null,"х",null,"х",null,"х"]
[null,"х",null,"х",null,"х"]
[null,"х",null,"х",null,"х"]
[null,"х",null,"х",null,"х"]
[null,"х",null,"х",null,"х"]
["Добавить"]
["Прочие материалы, всего, в том числе:  ","х",{"$f":"SUM(C31:C37)","v":0},"х",{"$f":"SUM(E31:E37)","v":0},"х",{"$f":"SUM(G31:G37)","v":0},0,0,{"$f":"SUM(J31:J37)","v":0},0]
[null,"х",null,"х",null,"х"]
[null,"х",null,"х",null,"х"]
[null,"х",null,"х",null,"х"]
[null,"х",null,"х",null,"х"]
[null,"х",null,"х",null,"х"]
[null,"х",null,"х",null,"х"]
[null,"х",null,"х",null,"х"]
["Добавить"]
["ИТОГО",{"$f":"'Подконтрольные расходы'!F18","v":0},{"$f":"C9+C19+C20+C30","v":0},{"$f":"'Подконтрольные расходы'!H18","v":0},{"$f":"E9+E19+E20+E30","v":0},{"$f":"'Подконтрольные расходы'!J18","v":0},{"$f":"G9+G19+G20+G30","v":0},0,0,{"$f":"J9+J19+J20+J30","v":0},0]
[]
["Руководитель организации",null,null,{"$f":"'Инф-я'!$C$21","v":"Чижов Олег Александрович"}]

{"sheet":"план ремонтов","index":9,"n_rows":34,"n_cols":13,"rows_kept":34,"cut":false,"hidden":false,"merged":[[5,11,5,12],[3,0,3,12],[5,1,5,10],[5,0,7,0],[1,0,1,10],[33,1,33,2],[18,0,18,12],[30,0,30,12],[6,11,6,12],[20,0,20,2],[6,1,6,2],[9,0,9,2],[6,9,6,10],[33,9,33,10],[6,7,6,8],[33,7,33,8],[6,5,6,6],[33,5,33,6],[6,3,6,4],[33,3,33,4]]}
[]
["Расчет стоимости ремонтных работ на 2020 - 2024 годы, связанных с передачей электрической энергии"]
[]
[{"$f":"'Инф-я'!C13","v":"ООО \"МОНОСТРОЙ\""}]
[]
["Нименование работ, месторасположение объектов","По данным Общества",null,null,null,null,null,null,null,null,null,"По данным экспертов"]
[null,"2020 год",null,"2021 год",null,"2022 год",null,"2023 год",null,"2024 год",null,"2020 год"]
[null,"всего по смете (без НДС)","в т.ч. материалы","всего по смете (без НДС)","в т.ч. материалы","всего по смете (без НДС)","в т.ч. материалы","всего по смете (без НДС)","в т.ч. материалы","всего по смете (без НДС)","в т.ч. материалы","всего по смете (без НДС)","в т.ч. материалы"]
[1,2,3,4,5,6,7,8,9,10,11,12,13]
["Подрядный способ"]
["Замена семи изношенных панелей ЩО-70 в РУ-0,4 кВ ТП-381 ",{"$f":"733.775*1.043*1.038","v":794.40976335000005},"х",null,"х",null,"х",null,"х",null,"х",null,"х"]
["Техническое диагностирование токоведущих шпилек силовых трансформаторов ТМГ-400 кВА ТП-381 и устранение их нагревов ",{"$f":"25.108*1.043*1.038*1.04","v":28.27008545088},"х",null,"х",null,"х",null,"х",null,"х",null,"х"]
["Замена камер КСО-366 РУ-6 кВ ТП-381 на новые КСО \"Новация\" с вакуумными выключателями (2 шт.)",null,"х",{"$f":"3018.349/6*2*1.038*1.04","v":1086.1227041600002},"х",null,"х",null,"х",null,"х",null,"х"]
["Замена камер КСО-366 РУ-6 кВ ТП-381 на новые КСО \"Новация\" с вакуумными выключателями (2 шт.)",null,"х",null,"х",{"$f":"D13*1.04","v":1129.5676123264002},"х",null,"х",null,"х",null,"х"]
["Замена камер КСО-366 РУ-6 кВ ТП-381 на новые КСО \"Новация\" с вакуумными выключателями (2 шт.)",null,"х",null,"х",null,"х",{"$f":"F14*1.04","v":1174.7503168194562},"х",{"$f":"H14*1.04","v":0},"х",null,"х"]
["Замена трансформаторов ТМГ-400 в ТП-381 на новые с комплектом КИП",null,"х",null,"х",null,"х",null,"х",{"$f":"557.648*1.04*1.043*1.038*1.04*1.04*1.04*1.04","v":734.5282566629877},"х",null,"х"]
[null,null,"х",null,"х",null,"х",null,"х",null,"х",null,"х"]
[null,null,"х",null,"х",null,"х",null,"х",null,"х",null,"х"]
["Добавить"]
["Всего (Подрядный способ)",{"$f":"SUM(B11:B18)","v":822.67984880087999},"х",{"$f":"SUM(D11:D18)","v":1086.1227041600002},"х",{"$f":"SUM(F11:F18)","v":1129.5676123264002},"х",{"$f":"SUM(H11:H18)","v":1174.7503168194562},"х",{"$f":"SUM(J11:J18)","v":734.5282566629877},"х",{"$f":"SUM(L11:L18)","v":0},"х"]
["Хозяйственный способ"]
[]
[]
[]
[]
[]
[]
[]
[]
[]
["Добавить"]
["Всего (Хозяйственный способ)",{"$f":"SUM(B22:B30)","v":0},0,0,0,0,0,0,0,0,0,0,0]
[]
["Руководитель организации"]

{"sheet":"Сводная ремонт","index":10,"n_rows":17,"n_cols":15,"rows_kept":17,"cut":false,"hidden":false,"merged":[[0,7,0,12],[1,0,1,7],[3,0,3,7],[16,3,16,5],[5,0,6,0],[5,1,5,2],[5,3,5,4],[5,5,5,6],[6,7,6,11]]}
[]
["Стоимость ремонтных работ  "]
[]
[{"$f":"'Инф-я'!C13","v":"ООО \"МОНОСТРОЙ\""}]
[null,null,null,null,null,null,null,null,null,null,null,"тыс. руб."]
["Показатели","2017 год ",null,"2018 год ",null,"2019 год ",null,"2020 год ","2021 год ","2022 год ","2023 год ","2024 год ","2020 год ","2017 год","2018 год"]
[null,"Утвержденные"," Факт","Утвержденные"," Факт","Утвержденные","Ожидаемые","по данным организации",null,null,null,null,"По данным экспертов","Факт по расчету экспертов","Факт по расчету экспертов"]
[1,2,3,4,5,6,7,8,9,10,11,12,13,14,15]
["Объем ремонтных работ по сметам - всего","х",{"$f":"C10+C11","v":609.5},"х",{"$f":"E10+E11","v":178.3},"х",{"$f":"G10+G11","v":793.89},{"$f":"H10+H11","v":822.67984880087999},{"$f":"I10+I11","v":1086.1227041600002},1129.5676123264002,1174.7503168194562,734.5282566629877,{"$f":"M10+M11","v":0},{"$f":"N10+N11","v":0},{"$f":"O10+O11","v":0}]
[" - подряд","х",609.5,"х",178.3,"х",793.89,{"$f":"'план ремонтов'!B20","v":822.67984880087999},{"$f":"'план ремонтов'!D20","v":1086.1227041600002},{"$f":"'план ремонтов'!F20","v":1129.5676123264002},{"$f":"'план ремонтов'!H20","v":1174.7503168194562},{"$f":"'план ремонтов'!J20","v":734.5282566629877},{"$f":"'план ремонтов'!L20","v":0}]
[" - хозспособ","х",null,"х",null,"х",null,{"$f":"'план ремонтов'!B32","v":0},{"$f":"'план ремонтов'!D32","v":0},{"$f":"'план ремонтов'!F32","v":0},{"$f":"'план ремонтов'!H32","v":0},{"$f":"'план ремонтов'!J32","v":0},{"$f":"'план ремонтов'!L32","v":0}]
[]
["Стоимость ремонтных работ (подряд + хозспособ (материалы)) - всего",{"$f":"'Подконтрольные расходы'!F19","v":371.5122574383343},{"$f":"C14+C15","v":609.5},{"$f":"'Подконтрольные расходы'!H19","v":751.16228414658451},178.3,{"$f":"'Подконтрольные расходы'!J19","v":777.91845669210932},{"$f":"G14+G15","v":793.89},{"$f":"H14+H15","v":822.67984880087999},1086.1227041600002,1129.5676123264002,1174.7503168194562,734.5282566629877,{"$f":"M14+M15","v":0},{"$f":"N14+N15","v":0},0]
[" - подряд","х",{"$f":"C10","v":609.5},"х",{"$f":"E10","v":178.3},"х",{"$f":"G10","v":793.89},{"$f":"H10","v":822.67984880087999},{"$f":"I10","v":1086.1227041600002},1129.5676123264002,1174.7503168194562,734.5282566629877,{"$f":"M10","v":0},{"$f":"N10","v":0},{"$f":"O10","v":0}]
[" - хозспособ","х",null,"х",null,"х",null,{"$f":"'план ремонтов'!C32","v":0},{"$f":"'план ремонтов'!E32","v":0},{"$f":"'план ремонтов'!G32","v":0},{"$f":"'план ремонтов'!I32","v":0},{"$f":"'план ремонтов'!K32","v":0},{"$f":"'план ремонтов'!M32","v":0}]
[]
["Руководитель организации",null,null,{"$f":"'Инф-я'!$C$21","v":"Чижов Олег Александрович"}]

{"sheet":"П.1.16. оплата труда ОПР","index":11,"n_rows":35,"n_cols":16,"rows_kept":35,"cut":false,"hidden":false,"merged":[[0,7,0,8],[1,7,1,8],[2,0,2,8],[4,0,4,8],[34,3,34,5],[6,1,7,1],[6,2,6,3],[6,4,6,5],[6,6,6,7],[6,8,6,9],[6,0,7,0]]}
[]
[]
["Расчет расходов на оплату труда основных производственных рабочих, цехового и общеэксплуатационного персонала, в части, относящейся на передачу электроэнергии"]
[]
[{"$f":"'Инф-я'!C13","v":"ООО \"МОНОСТРОЙ\""}]
[]
["Показатели","Ед. изм.","2017 год ",null,"2018 год ",null,"2019 год ",null,"2020 год ",null,"2017 год","2018 год"]
[null,null,"Утвержденные"," Факт","Утвержденные"," Факт","Утвержденные","Ожидаемые","По данным организации","По данным экспертов","Факт по расчету экспертов","Факт по расчету экспертов"]
["Основные производственные рабочие","чел.","х",null,"х",4,"х",{"$f":"F9","v":4},4]
["СРЕДСТВА НА ОПЛАТУ ТРУДА ОСНОВНЫХ ПРОИЗВОДСТВЕННЫХ РАБОЧИХ (ОПР)"]
["Минимальная месячная тарифная ставка рабочего 1 разряда для организаций коммунального электроснабжения","руб.","х","х","х","х","х","х",{"$f":"11280*1.038","v":11708.640000000001},null,"х","х"]
["Средний межразрядный коэффициент",null,"х","х","х","х","х","х",{"$f":"P15","v":1.5625},null,"х","х",null,3,1.52,{"$f":"O12*N12","v":4.5600000000000005}]
["Среднемесячная тарифная ставка ОПР","руб.","х",null,"х",{"$f":"1398.603/F9/12*1000","v":29137.5625},"х",{"$f":"F13*1.043","v":30390.477687499999},{"$f":"I11*I12","v":18294.750000000004},null,null,null,null,1,1.69,{"$f":"O13*N13","v":1.69}]
["Выплаты, связанные с режимом работы, с условиями труда 1 рабочего",null,null,null,null,null,null,null,null,null,null,null,null,null,null,{"$f":"P12+P13","v":6.25}]
["  - процент выплаты","%","х",{"$f":"IF(D13=0,0,D16/D13)","v":0},"х",{"$f":"IF(F13=0,0,F16/F13)","v":0},"х",{"$f":"IF(H13=0,0,H16/H13)","v":0},0.125,null,null,null,null,null,null,{"$f":"P14/4","v":1.5625}]
["  - сумма выплат","руб.","х",null,"х",null,"х",{"$f":"F16*1.043","v":0},{"$f":"I13*I15","v":2286.8437500000005},{"$f":"J13*J15","v":0},{"$f":"K13*K15","v":0},{"$f":"L13*L15","v":0}]
["Оплата за совмещение профессий"]
["  - процент выплаты","%","х",{"$f":"IF(D13=0,0,D19/(D13+D16))","v":0},"х",{"$f":"IF(F13=0,0,F19/(F13+F16))","v":0},"х",{"$f":"IF(H13=0,0,H19/(H13+H16))","v":0},0]
["  - сумма выплат","руб.","х",null,"х",null,"х",null,{"$f":"(I13+I16)*I18","v":0},{"$f":"(J13+J16)*J18","v":0},{"$f":"(K13+K16)*K18","v":0},{"$f":"(L13+L16)*L18","v":0}]
["Текущее премирование:"]
["  - процент выплаты","%","х",{"$f":"IF(D13=0,0,D22/(D13+D16+D19))","v":0},"х",{"$f":"IF(F13=0,0,F22/(F13+F16+F19))","v":0},"х",{"$f":"IF(H13=0,0,H22/(H13+H16+H19))","v":0},0.5]
["  - сумма выплат","руб.","х",null,"х",null,"х",{"$f":"F22*1.043","v":0},{"$f":"(I13+I16+I19)*I21","v":10290.796875000002},{"$f":"(J13+J16+J19)*J21","v":0},{"$f":"(K13+K16+K19)*K21","v":0},{"$f":"(L13+L16+L19)*L21","v":0}]
["Вознаграждение за выслугу лет:"]
["  - процент выплаты","%","х",{"$f":"IF(D13=0,0,D25/D13)","v":0},"х",{"$f":"IF(F13=0,0,F25/F13)","v":0},"х",{"$f":"IF(H13=0,0,H25/H13)","v":0}]
["  - сумма выплат","руб.","х",null,"х",null,null,null,{"$f":"I13*I24","v":0},{"$f":"J13*J24","v":0},{"$f":"K13*K24","v":0},{"$f":"L13*L24","v":0}]
["Выплаты по итогам года:"]
["  - процент выплаты","%","х",{"$f":"IF(D13=0,0,D28/D13)","v":0},"х",{"$f":"IF(F13=0,0,F28/F13)","v":0},"х",{"$f":"IF(H13=0,0,H28/H13)","v":0},0.33]
["  - сумма выплат","руб.","х",null,"х",null,"х",null,{"$f":"I13*I27","v":6037.2675000000017},{"$f":"J13*J27","v":0},{"$f":"K13*K27","v":0},{"$f":"L13*L27","v":0}]
["Другие доплаты и премии"]
["  - процент выплаты","%","х",{"$f":"IF(D13=0,0,D31/D13)","v":0},"х",{"$f":"IF(F13=0,0,F31/F13)","v":0},"х",{"$f":"IF(H13=0,0,H31/H13)","v":0}]
["  - сумма выплат","руб.","х",null,"х",null,null,null,{"$f":"I13*I30","v":0},{"$f":"J13*J30","v":0},{"$f":"K13*K30","v":0},{"$f":"L13*L30","v":0}]
["ИТОГО средства на оплату труда основных производственных рабочих","тыс.руб.",{"$f":"'Подконтрольные расходы'!F17","v":407.87888392504595},{"$f":"D33*D9*12/1000","v":0},{"$f":"'Подконтрольные расходы'!H17","v":824.6921278368651},{"$f":"F33*F9*12/1000","v":1398.6030000000001},{"$f":"'Подконтрольные расходы'!J17","v":854.06741109460813},{"$f":"H33*H9*12/1000","v":1458.742929},{"$f":"I33*I9*12/1000","v":1771.6635900000003},{"$f":"J33*J9*12/1000","v":0},{"$f":"K33*K9*12/1000","v":0},{"$f":"L33*L9*12/1000","v":0}]
["ИТОГО среднемесячная оплата труда на 1 рабочего","руб.","х",{"$f":"D13+D16+D19+D22+D25+D28+D31","v":0},"х",{"$f":"F13+F16+F19+F22+F25+F28+F31","v":29137.5625},"х",{"$f":"H13+H16+H19+H22+H25+H28+H31","v":30390.477687499999},36909.658125000009,0,0,0]
["*Выплаты, связанные с режимом работы, расходы на текущее премирование и выплаты по итогам года опредлены на основании Отраслевого тарифного соглашения в жилищно-коммунальном хозяйстве Российской Федерации на 2017 - 2019"]
["Руководитель организации",null,null,{"$f":"'Инф-я'!$C$21","v":"Чижов Олег Александрович"}]

{"sheet":"Цеховые расходы","index":12,"n_rows":17,"n_cols":11,"rows_kept":17,"cut":false,"hidden":false,"merged":[[1,0,1,8],[0,7,0,8],[3,0,3,8],[16,3,16,5],[5,0,6,0],[5,1,5,2],[5,3,5,4],[5,5,5,6],[5,7,5,8],[13,0,13,10]]}
[]
["Цеховые расходы"]
[]
[{"$f":"'Инф-я'!C13","v":"ООО \"МОНОСТРОЙ\""}]
[]
["Показатели","2017 год ",null,"2018 год ",null,"2019 год ",null,"2020 год ",null,"2017 год","2018 год"]
[null,"Утвержденные"," Факт","Утвержденные"," Факт","Утвержденные","Ожидаемые","По данным организации","По данным экспертов","Факт по расчету экспертов","Факт по расчету экспертов"]
[1,2,3,4,5,6,7,8,9,10,11]
["Услуги строительной техники (договор от 12.01.2009 г. с ООО \"Стальмонтаж\", акт №13 от 18.05.2018, акт №21 от 07.06.2018, акт №29 от 12.07.2018, акт №31 от 27.07.2018, акт №35 от 14.08.2018, акт №39 от 17.09.2018, акт №42 от 25.10.2018, акит №46 от 06.11.2018). Расходы на 2020 год определены исходя из фактических расходов на спецтехнику в 2018 году с учетом индексов 1,043 (2019/2018) и 1,038 (2020/2019)","х",null,"х",{"$f":"(6+9.6+9.6+7.2+6+8.4+9.6+3.6)","v":60},"х",{"$f":"E9*1.043","v":62.58},{"$f":"G9*1.038","v":64.958039999999997}]
["Аренда автомобиля с водителем (договор №55 от 23.12.2016 с ОАО \"Монострой\", акт №5 от 31.01.2018, акт №14 от 28.02.2018, акт №19 от 30.03.2018, акт №26 от 27.04.2018, акт №29 от 31.05.2018, акт №36 от 29.06.2018, акт №39 от 31.07.2018, акт №41 от 31.08.2019, акт №44 от 28.09.2018, акт №47 от 31.10.2018, акт №53 от 30.11.2018, акт №60 от 28.12.2018). Расходы на 2020 год определены исходя из фактических расходов на аренду транспортного средства с водителем в 2018 году с учетом индексов 1,043 (2019/2018) и 1,038 (2020/2019)","х",null,"х",{"$f":"108.8+120.8+127.2+133.6+127.2+127.2+140.8+147.2+128+147.2+134.4+133.6","v":1576.0000000000002},"х",{"$f":"E10*1.043","v":1643.768},{"$f":"G10*1.038","v":1706.231184}]
["Обучение (счет-фактура ООО \"Принт-СК\" №746 от 28.11.2018, акт №577 от 28.11.2018 г., график обучения на 2020-2024 гг.). Расходы на 2020 год определены исходя из фактических расходов на обучение в 2018 году с учетом индексов 1,043 (2019/2018) и 1,038 (2020/2019)","х",null,"х",28.2,"х",{"$f":"E11*1.043","v":29.412599999999998},{"$f":"G11*1.038","v":30.530278799999998}]
[null,"х",null,"х",null,"х"]
[null,"х",null,"х",null,"х"]
["Добавить"]
["Итого цеховые расходы",{"$f":"'Подконтрольные расходы'!F20","v":92.678908417881189},{"$f":"SUM(C9:C13)","v":0},{"$f":"'Подконтрольные расходы'!H20","v":187.38789675315937},{"$f":"SUM(E9:E13)","v":1664.2000000000003},{"$f":"'Подконтрольные расходы'!J20","v":194.06259675379479},1735.7606000000001,1801.7195027999999,0,0,0]
[]
["Руководитель организации",null,null,{"$f":"'Инф-я'!$C$21","v":"Чижов Олег Александрович"}]

{"sheet":"Общеэксплуатационные расходы ","index":13,"n_rows":39,"n_cols":12,"rows_kept":39,"cut":false,"hidden":false,"merged":[[38,3,38,5],[0,9,0,10],[0,6,0,7],[1,0,1,7],[3,0,3,7],[5,0,6,0],[5,1,5,2],[5,3,5,4],[5,5,5,6],[5,7,5,8],[35,0,35,10]]}
[]
["Общеэксплуатационные расходы "]
[]
[{"$f":"'Инф-я'!C13","v":"ООО \"МОНОСТРОЙ\""}]
[]
["Показатели","2017 год ",null,"2018 год ",null,"2019 год ",null,"2020 год ",null,"2017 год","2018 год"]
[null,"Утвержденные"," Факт","Утвержденные"," Факт","Утвержденные","Ожидаемые","По данным организации","По данным экспертов","Факт по расчету экспертов","Факт по расчету экспертов"]
[1,2,3,4,5,6,7,8,9,10,11]
["Заработная плата АУП","х",null,"х",{"$f":"L9*1398603/15069542/1000","v":153.10579314498409},"х",{"$f":"E9*1.043","v":159.6893422502184},{"$f":"G9*1.038","v":165.7575372557267},null,null,null,1649670.55]
["Заработная плата свпомогательного производства","х",null,"х",250.35532572962339,"х",{"$f":"E10*1.043","v":261.12060473599718},{"$f":"G10*1.038","v":271.04318771596508},null,null,null,2697506.08]
["Амортизация","х",null,"х",12.690675438248222,"х",13.236374482092895,13.739356712412425,null,null,null,136738.35]
["Информационные услуги ","х",null,"х",72.590746850088749,"х",75.712148964642566,78.589210625298989,null,null,null,782144.26]
["Инвентарь","х",null,"х",69.381852190202594,"х",72.365271834381304,75.115152164087789,null,null,null,747569.35]
["ОПФР","х",null,"х",118.0687542604699,"х",123.1457106936701,127.82524770002956,null,null,null,1272156.6100000001]
["Спецодежда","х",null,"х",62.287376456649447,"х",64.965733644285365,67.434431522768207,null,null,null,671128.43]
["Страхование","х",null,"х",37.685887854823996,"х",39.306381032581427,40.800023511819525,null,null,null,406054.52]
["Услуги банка","х",null,"х",58.809139981714104,"х",61.337933000927805,63.668774454963064,null,null,null,633651.43999999994]
["Услуги связи","х",null,"х",77.125297582779226,"х",80.441685378838727,83.498469423234596,null,null,null,831002.73]
["Услуги стоянки","х",null,"х",25.965265421512477,"х",27.081771834637511,28.110879164353737,null,null,null,279768.21000000002]
["Компенсация при увольнении","х",null,"х",11.015474001108991,"х",11.489139383156678,11.925726679716632,null,null,null,118688.54]
["Списание в эксплуатацию","х",null,"х",14.815010069073102,"х",15.452055502043244,16.039233611120888,null,null,null,159627.44]
[null,"х",null,"х",null,"х",0,0]
[null,"х",null,"х",null,"х",0,0]
[null,"х",null,"х",null,"х",0,0]
[null,"х",null,"х",null,"х",0,0]
[null,"х",null,"х",null,"х",0,0]
[null,"х",null,"х",null,"х",0,0]
[null,"х",null,"х",null,"х",0,0]
[null,"х",null,"х",null,"х",0,0]
[null,"х",null,"х",null,"х",0,0]
[null,"х",null,"х",null,"х",0,0]
[null,"х",null,"х",null,"х",0,0]
[null,"х",null,"х",null,"х",0,0]
[null,"х",null,"х",null,"х",0,0]
[null,"х",null,"х",null,"х",0,0]
["Добавить"]
["ИТОГО общеэксплуатационные расходы ",{"$f":"'Подконтрольные расходы'!F21","v":640.23750300257188},{"$f":"SUM(C9:C35)","v":0},{"$f":"'Подконтрольные расходы'!H21","v":1294.4990522460589},963.8965989812782,{"$f":"'Подконтрольные расходы'!J21","v":1340.6087155410746},1005.3441527374732,1043.5472305414974,0,0,0]
["Для аналитического учета управленческие расходы, накопленные на счете 26 \"Общехозяйственные расходы\", на конец каждого отчетного периода списываются в себестоимость продаж по видам продукции пропорционально фонду оплаты труда работников подразделения к фонду оплаты труда предпрития. На 2018 год процент отнесения Управленческих расходов на вид деятельности \"Передача электроэнергии\" составлчяет 9,28% (1398603 руб. / 15069542 руб. * 100%). Общехозяйсмтвенные расходы на 2020 г. определены на основании фактических расходов 2018 г. с учетом индексов 1,043 (2019/2018) и 1,038 (2020/2019)"]
["Руководитель организации",null,null,{"$f":"'Инф-я'!$C$21","v":"Чижов Олег Александрович"}]

{"sheet":"Др проч","index":14,"n_rows":17,"n_cols":11,"rows_kept":17,"cut":false,"hidden":true,"merged":[[16,3,16,5],[1,0,1,7],[0,9,0,10],[0,6,0,7],[3,0,3,7],[5,0,6,0],[5,1,5,2],[5,3,5,4],[5,5,5,6],[5,7,5,8],[13,0,13,10]]}
[]
["Другие расходы, связанные с передачей электрической энергии "]
[]
[{"$f":"'Инф-я'!C13","v":"ООО \"МОНОСТРОЙ\""}]
[]
["Показатели","2017 год ",null,"2018 год ",null,"2019 год ",null,"2020 год ",null,"2017 год","2018 год"]
[null,"Утвержденные"," Факт","Утвержденные"," Факт","Утвержденные","Ожидаемые","По данным организации","По данным экспертов","Факт по расчету экспертов","Факт по расчету экспертов"]
[1,2,3,4,5,6,7,8,9,10,11]
[null,"х",null,"х",null,"х"]
[null,"х",null,"х",null,"х"]
[null,"х",null,"х",null,"х"]
[null,"х",null,"х",null,"х"]
[null,"х",null,"х",null,"х"]
["Добавить"]
["ИТОГО другие расходы, связанные с передачей электроэнергии",{"$f":"'Подконтрольные расходы'!F22","v":0},{"$f":"SUM(C9:C13)","v":0},{"$f":"'Подконтрольные расходы'!H22","v":0},{"$f":"SUM(E9:E13)","v":0},{"$f":"'Подконтрольные расходы'!J22","v":0},{"$f":"SUM(G9:G13)","v":0},{"$f":"SUM(H9:H13)","v":0},{"$f":"SUM(I9:I13)","v":0},0,0]
[]
["Руководитель организации",null,null,{"$f":"'Инф-я'!$C$21","v":"Чижов Олег Александрович"}]

{"sheet":"Расходы по кол дог","index":15,"n_rows":31,"n_cols":11,"rows_kept":31,"cut":false,"hidden":false,"merged":[[3,15,3,22],[3,23,3,30],[3,31,3,38],[3,39,3,46],[3,47,3,54],[5,0,6,0],[5,1,5,2],[5,3,5,4],[5,5,5,6],[5,7,5,8],[27,0,27,10],[18,0,18,10],[13,0,13,10],[0,9,0,10],[0,6,0,7],[1,0,1,7],[3,0,3,7],[3,8,3,14],[3,175,3,182],[3,183,3,190],[3,191,3,198],[3,199,3,206],[3,207,3,214],[3,135,3,142],[3,143,3,150],[3,151,3,158],[3,159,3,166],[3,167,3,174],[3,71,3,78],[3,79,3,86],[3,87,3,94],[3,95,3,102],[3,103,3,110],[3,111,3,118],[3,119,3,126],[3,127,3,134],[3,55,3,62],[3,63,3,70],[3,415,3,422],[3,423,3,430],[3,431,3,438],[3,439,3,446],[3,447,3,454],[3,375,3,382],[3,383,3,390],[3,391,3,398],[3,399,3,406],[3,407,3,414],[3,335,3,342],[3,343,3,350],[3,351,3,358],[3,359,3,366],[3,367,3,374],[3,295,3,302],[3,303,3,310],[3,311,3,318],[3,319,3,326],[3,327,3,334],[3,255,3,262],[3,263,3,270],[3,271,3,278],[3,279,3,286],[3,287,3,294],[3,215,3,222],[3,223,3,230],[3,231,3,238],[3,239,3,246],[3,247,3,254],[3,575,3,582],[3,583,3,590],[3,591,3,598],[3,599,3,606],[3,607,3,614],[3,535,3,542],[3,543,3,550],[3,551,3,558],[3,559,3,566],[3,567,3,574],[3,495,3,502],[3,503,3,510],[3,511,3,518],[3,519,3,526],[3,527,3,534],[3,455,3,462],[3,463,3,470],[3,471,3,478],[3,479,3,486],[3,487,3,494],[3,735,3,742],[3,743,3,750],[3,751,3,758],[3,759,3,766],[3,767,3,774],[3,695,3,702],[3,703,3,710],[3,711,3,718],[3,719,3,726],[3,727,3,734],[3,655,3,662],[3,663,3,670],[3,671,3,678],[3,679,3,686],[3,687,3,694],[3,615,3,622],[3,623,3,630],[3,631,3,638],[3,639,3,646],[3,647,3,654],[3,895,3,902],[3,903,3,910],[3,911,3,918],[3,919,3,926],[3,927,3,934],[3,855,3,862],[3,863,3,870],[3,871,3,878],[3,879,3,886],[3,887,3,894],[3,815,3,822],[3,823,3,830],[3,831,3,838],[3,839,3,846],[3,847,3,854],[3,775,3,782],[3,783,3,790],[3,791,3,798],[3,799,3,806],[3,807,3,814],[3,1055,3,1062],[3,1063,3,1070],[3,1071,3,1078],[3,1079,3,1086],[3,1087,3,1094],[3,1015,3,1022],[3,1023,3,1030],[3,1031,3,1038],[3,1039,3,1046],[3,1047,3,1054],[3,975,3,982],[3,983,3,990],[3,991,3,998],[3,999,3,1006],[3,1007,3,1014],[3,935,3,942],[3,943,3,950],[3,951,3,958],[3,959,3,966],[3,967,3,974],[3,1215,3,1222],[3,1223,3,1230],[3,1231,3,1238],[3,1239,3,1246],[3,1247,3,1254],[3,1175,3,1182],[3,1183,3,1190],[3,1191,3,1198],[3,1199,3,1206],[3,1207,3,1214],[3,1135,3,1142],[3,1143,3,1150],[3,1151,3,1158],[3,1159,3,1166],[3,1167,3,1174],[3,1095,3,1102],[3,1103,3,1110],[3,1111,3,1118],[3,1119,3,1126],[3,1127,3,1134],[3,1375,3,1382],[3,1383,3,1390],[3,1391,3,1398],[3,1399,3,1406],[3,1407,3,1414],[3,1335,3,1342],[3,1343,3,1350],[3,1351,3,1358],[3,1359,3,1366],[3,1367,3,1374],[3,1295,3,1302],[3,1303,3,1310],[3,1311,3,1318],[3,1319,3,1326],[3,1327,3,1334],[3,1255,3,1262],[3,1263,3,1270],[3,1271,3,1278],[3,1279,3,1286],[3,1287,3,1294],[3,1535,3,1542],[3,1543,3,1550],[3,1551,3,1558],[3,1559,3,1566],[3,1567,3,1574],[3,1495,3,1502],[3,1503,3,1510],[3,1511,3,1518],[3,1519,3,1526],[3,1527,3,1534],[3,1455,3,1462],[3,1463,3,1470],[3,1471,3,1478],[3,1479,3,1486],[3,1487,3,1494],[3,1415,3,1422],[3,1423,3,1430],[3,1431,3,1438],[3,1439,3,1446],[3,1447,3,1454],[3,1695,3,1702],[3,1703,3,1710],[3,1711,3,1718],[3,1719,3,1726],[3,1727,3,1734],[3,1655,3,1662],[3,1663,3,1670],[3,1671,3,1678],[3,1679,3,1686],[3,1687,3,1694],[3,1615,3,1622],[3,1623,3,1630],[3,1631,3,1638],[3,1639,3,1646],[3,1647,3,1654],[3,1575,3,1582],[3,1583,3,1590],[3,1591,3,1598],[3,1599,3,1606],[3,1607,3,1614],[3,1855,3,1862],[3,1863,3,1870],[3,1871,3,1878],[3,1879,3,1886],[3,1887,3,1894],[3,1815,3,1822],[3,1823,3,1830],[3,1831,3,1838],[3,1839,3,1846],[3,1847,3,1854],[3,1775,3,1782],[3,1783,3,1790],[3,1791,3,1798],[3,1799,3,1806],[3,1807,3,1814],[3,1735,3,1742],[3,1743,3,1750],[3,1751,3,1758],[3,1759,3,1766],[3,1767,3,1774],[3,2015,3,2022],[3,2023,3,2030],[3,2031,3,2038],[3,2039,3,2046],[3,2047,3,2054],[3,1975,3,1982],[3,1983,3,1990],[3,1991,3,1998],[3,1999,3,2006],[3,2007,3,2014],[3,1935,3,1942],[3,1943,3,1950],[3,1951,3,1958],[3,1959,3,1966],[3,1967,3,1974],[3,1895,3,1902],[3,1903,3,1910],[3,1911,3,1918],[3,1919,3,1926],[3,1927,3,1934],[3,2175,3,2182],[3,2183,3,2190],[3,2191,3,2198],[3,2199,3,2206],[3,2207,3,2214],[3,2135,3,2142],[3,2143,3,2150],[3,2151,3,2158],[3,2159,3,2166],[3,2167,3,2174],[3,2095,3,2102],[3,2103,3,2110],[3,2111,3,2118],[3,2119,3,2126],[3,2127,3,2134],[3,2055,3,2062],[3,2063,3,2070],[3,2071,3,2078],[3,2079,3,2086],[3,2087,3,2094],[3,2335,3,2342],[3,2343,3,2350],[3,2351,3,2358],[3,2359,3,2366],[3,2367,3,2374],[3,2295,3,2302],[3,2303,3,2310],[3,2311,3,2318],[3,2319,3,2326],[3,2327,3,2334],[3,2255,3,2262],[3,2263,3,2270],[3,2271,3,2278],[3,2279,3,2286],[3,2287,3,2294],[3,2215,3,2222],[3,2223,3,2230],[3,2231,3,2238],[3,2239,3,2246],[3,2247,3,2254],[3,2495,3,2502],[3,2503,3,2510],[3,2511,3,2518],[3,2519,3,2526],[3,2527,3,2534],[3,2455,3,2462],[3,2463,3,2470],[3,2471,3,2478],[3,2479,3,2486],[3,2487,3,2494],[3,2415,3,2422],[3,2423,3,2430],[3,2431,3,2438],[3,2439,3,2446],[3,2447,3,2454],[3,2375,3,2382],[3,2383,3,2390],[3,2391,3,2398],[3,2399,3,2406],[3,2407,3,2414],[3,2655,3,2662],[3,2663,3,2670],[3,2671,3,2678],[3,2679,3,2686],[3,2687,3,2694],[3,2615,3,2622],[3,2623,3,2630],[3,2631,3,2638],[3,2639,3,2646],[3,2647,3,2654],[3,2575,3,2582],[3,2583,3,2590],[3,2591,3,2598],[3,2599,3,2606],[3,2607,3,2614],[3,2535,3,2542],[3,2543,3,2550],[3,2551,3,2558],[3,2559,3,2566],[3,2567,3,2574],[3,2815,3,2822],[3,2823,3,2830],[3,2831,3,2838],[3,2839,3,2846],[3,2847,3,2854],[3,2775,3,2782],[3,2783,3,2790],[3,2791,3,2798],[3,2799,3,2806],[3,2807,3,2814],[3,2735,3,2742],[3,2743,3,2750],[3,2751,3,2758],[3,2759,3,2766],[3,2767,3,2774],[3,2695,3,2702],[3,2703,3,2710],[3,2711,3,2718],[3,2719,3,2726],[3,2727,3,2734],[3,2975,3,2982],[3,2983,3,2990],[3,2991,3,2998],[3,2999,3,3006],[3,3007,3,3014],[3,2935,3,2942],[3,2943,3,2950],[3,2951,3,2958],[3,2959,3,2966],[3,2967,3,2974],[3,2895,3,2902],[3,2903,3,2910],[3,2911,3,2918],[3,2919,3,2926],[3,2927,3,2934],[3,2855,3,2862],[3,2863,3,2870],[3,2871,3,2878],[3,2879,3,2886],[3,2887,3,2894],[3,3135,3,3142],[3,3143,3,3150],[3,3151,3,3158],[3,3159,3,3166],[3,3167,3,3174],[3,3095,3,3102],[3,3103,3,3110],[3,3111,3,3118],[3,3119,3,3126],[3,3127,3,3134],[3,3055,3,3062],[3,3063,3,3070],[3,3071,3,3078],[3,3079,3,3086],[3,3087,3,3094],[3,3015,3,3022],[3,3023,3,3030],[3,3031,3,3038],[3,3039,3,3046],[3,3047,3,3054],[3,3295,3,3302],[3,3303,3,3310],[3,3311,3,3318],[3,3319,3,3326],[3,3327,3,3334],[3,3255,3,3262],[3,3263,3,3270],[3,3271,3,3278],[3,3279,3,3286],[3,3287,3,3294],[3,3215,3,3222],[3,3223,3,3230],[3,3231,3,3238],[3,3239,3,3246],[3,3247,3,3254],[3,3175,3,3182],[3,3183,3,3190],[3,3191,3,3198],[3,3199,3,3206],[3,3207,3,3214],[3,3455,3,3462],[3,3463,3,3470],[3,3471,3,3478],[3,3479,3,3486],[3,3487,3,3494],[3,3415,3,3422],[3,3423,3,3430],[3,3431,3,3438],[3,3439,3,3446],[3,3447,3,3454],[3,3375,3,3382],[3,3383,3,3390],[3,3391,3,3398],[3,3399,3,3406],[3,3407,3,3414],[3,3335,3,3342],[3,3343,3,3350],[3,3351,3,3358],[3,3359,3,3366],[3,3367,3,3374],[3,3615,3,3622],[3,3623,3,3630],[3,3631,3,3638],[3,3639,3,3646],[3,3647,3,3654],[3,3575,3,3582],[3,3583,3,3590],[3,3591,3,3598],[3,3599,3,3606],[3,3607,3,3614],[3,3535,3,3542],[3,3543,3,3550],[3,3551,3,3558],[3,3559,3,3566],[3,3567,3,3574],[3,3495,3,3502],[3,3503,3,3510],[3,3511,3,3518],[3,3519,3,3526],[3,3527,3,3534],[3,3775,3,3782],[3,3783,3,3790],[3,3791,3,3798],[3,3799,3,3806],[3,3807,3,3814],[3,3735,3,3742],[3,3743,3,3750],[3,3751,3,3758],[3,3759,3,3766],[3,3767,3,3774],[3,3695,3,3702],[3,3703,3,3710],[3,3711,3,3718],[3,3719,3,3726],[3,3727,3,3734],[3,3655,3,3662],[3,3663,3,3670],[3,3671,3,3678],[3,3679,3,3686],[3,3687,3,3694],[3,3935,3,3942],[3,3943,3,3950],[3,3951,3,3958],[3,3959,3,3966],[3,3967,3,3974],[3,3895,3,3902],[3,3903,3,3910],[3,3911,3,3918],[3,3919,3,3926],[3,3927,3,3934],[3,3855,3,3862],[3,3863,3,3870],[3,3871,3,3878],[3,3879,3,3886],[3,3887,3,3894],[3,3815,3,3822],[3,3823,3,3830],[3,3831,3,3838],[3,3839,3,3846],[3,3847,3,3854],[3,4095,3,4102],[3,4103,3,4110],[3,4111,3,4118],[3,4119,3,4126],[3,4127,3,4134],[3,4055,3,4062],[3,4063,3,4070],[3,4071,3,4078],[3,4079,3,4086],[3,4087,3,4094],[3,4015,3,4022],[3,4023,3,4030],[3,4031,3,4038],[3,4039,3,4046],[3,4047,3,4054],[3,3975,3,3982],[3,3983,3,3990],[3,3991,3,3998],[3,3999,3,4006],[3,4007,3,4014],[3,4255,3,4262],[3,4263,3,4270],[3,4271,3,4278],[3,4279,3,4286],[3,4287,3,4294],[3,4215,3,4222],[3,4223,3,4230],[3,4231,3,4238],[3,4239,3,4246],[3,4247,3,4254],[3,4175,3,4182],[3,4183,3,4190],[3,4191,3,4198],[3,4199,3,4206],[3,4207,3,4214],[3,4135,3,4142],[3,4143,3,4150],[3,4151,3,4158],[3,4159,3,4166],[3,4167,3,4174],[3,4415,3,4422],[3,4423,3,4430],[3,4431,3,4438],[3,4439,3,4446],[3,4447,3,4454],[3,4375,3,4382],[3,4383,3,4390],[3,4391,3,4398],[3,4399,3,4406],[3,4407,3,4414],[3,4335,3,4342],[3,4343,3,4350],[3,4351,3,4358],[3,4359,3,4366],[3,4367,3,4374],[3,4295,3,4302],[3,4303,3,4310],[3,4311,3,4318],[3,4319,3,4326],[3,4327,3,4334],[3,4575,3,4582],[3,4583,3,4590],[3,4591,3,4598],[3,4599,3,4606],[3,4607,3,4614],[3,4535,3,4542],[3,4543,3,4550],[3,4551,3,4558],[3,4559,3,4566],[3,4567,3,4574],[3,4495,3,4502],[3,4503,3,4510],[3,4511,3,4518],[3,4519,3,4526],[3,4527,3,4534],[3,4455,3,4462],[3,4463,3,4470],[3,4471,3,4478],[3,4479,3,4486],[3,4487,3,4494],[3,4735,3,4742],[3,4743,3,4750],[3,4751,3,4758],[3,4759,3,4766],[3,4767,3,4774],[3,4695,3,4702],[3,4703,3,4710],[3,4711,3,4718],[3,4719,3,4726],[3,4727,3,4734],[3,4655,3,4662],[3,4663,3,4670],[3,4671,3,4678],[3,4679,3,4686],[3,4687,3,4694],[3,4615,3,4622],[3,4623,3,4630],[3,4631,3,4638],[3,4639,3,4646],[3,4647,3,4654],[3,4895,3,4902],[3,4903,3,4910],[3,4911,3,4918],[3,4919,3,4926],[3,4927,3,4934],[3,4855,3,4862],[3,4863,3,4870],[3,4871,3,4878],[3,4879,3,4886],[3,4887,3,4894],[3,4815,3,4822],[3,4823,3,4830],[3,4831,3,4838],[3,4839,3,4846],[3,4847,3,4854],[3,4775,3,4782],[3,4783,3,4790],[3,4791,3,4798],[3,4799,3,4806],[3,4807,3,4814],[3,5055,3,5062],[3,5063,3,5070],[3,5071,3,5078],[3,5079,3,5086],[3,5087,3,5094],[3,5015,3,5022],[3,5023,3,5030],[3,5031,3,5038],[3,5039,3,5046],[3,5047,3,5054],[3,4975,3,4982],[3,4983,3,4990],[3,4991,3,4998],[3,4999,3,5006],[3,5007,3,5014],[3,4935,3,4942],[3,4943,3,4950],[3,4951,3,4958],[3,4959,3,4966],[3,4967,3,4974],[3,5215,3,5222],[3,5223,3,5230],[3,5231,3,5238],[3,5239,3,5246],[3,5247,3,5254],[3,5175,3,5182],[3,5183,3,5190],[3,5191,3,5198],[3,5199,3,5206],[3,5207,3,5214],[3,5135,3,5142],[3,5143,3,5150],[3,5151,3,5158],[3,5159,3,5166],[3,5167,3,5174],[3,5095,3,5102],[3,5103,3,5110],[3,5111,3,5118],[3,5119,3,5126],[3,5127,3,5134],[3,5375,3,5382],[3,5383,3,5390],[3,5391,3,5398],[3,5399,3,5406],[3,5407,3,5414],[3,5335,3,5342],[3,5343,3,5350],[3,5351,3,5358],[3,5359,3,5366],[3,5367,3,5374],[3,5295,3,5302],[3,5303,3,5310],[3,5311,3,5318],[3,5319,3,5326],[3,5327,3,5334],[3,5255,3,5262],[3,5263,3,5270],[3,5271,3,5278],[3,5279,3,5286],[3,5287,3,5294],[3,5535,3,5542],[3,5543,3,5550],[3,5551,3,5558],[3,5559,3,5566],[3,5567,3,5574],[3,5495,3,5502],[3,5503,3,5510],[3,5511,3,5518],[3,5519,3,5526],[3,5527,3,5534],[3,5455,3,5462],[3,5463,3,5470],[3,5471,3,5478],[3,5479,3,5486],[3,5487,3,5494],[3,5415,3,5422],[3,5423,3,5430],[3,5431,3,5438],[3,5439,3,5446],[3,5447,3,5454],[3,5695,3,5702],[3,5703,3,5710],[3,5711,3,5718],[3,5719,3,5726],[3,5727,3,5734],[3,5655,3,5662],[3,5663,3,5670],[3,5671,3,5678],[3,5679,3,5686],[3,5687,3,5694],[3,5615,3,5622],[3,5623,3,5630],[3,5631,3,5638],[3,5639,3,5646],[3,5647,3,5654],[3,5575,3,5582],[3,5583,3,5590],[3,5591,3,5598],[3,5599,3,5606],[3,5607,3,5614],[3,5855,3,5862],[3,5863,3,5870],[3,5871,3,5878],[3,5879,3,5886],[3,5887,3,5894],[3,5815,3,5822],[3,5823,3,5830],[3,5831,3,5838],[3,5839,3,5846],[3,5847,3,5854],[3,5775,3,5782],[3,5783,3,5790],[3,5791,3,5798],[3,5799,3,5806],[3,5807,3,5814],[3,5735,3,5742],[3,5743,3,5750],[3,5751,3,5758],[3,5759,3,5766],[3,5767,3,5774],[3,6015,3,6022],[3,6023,3,6030],[3,6031,3,6038],[3,6039,3,6046],[3,6047,3,6054],[3,5975,3,5982],[3,5983,3,5990],[3,5991,3,5998],[3,5999,3,6006],[3,6007,3,6014],[3,5935,3,5942],[3,5943,3,5950],[3,5951,3,5958],[3,5959,3,5966],[3,5967,3,5974],[3,5895,3,5902],[3,5903,3,5910],[3,5911,3,5918],[3,5919,3,5926],[3,5927,3,5934],[3,6175,3,6182],[3,6183,3,6190],[3,6191,3,6198],[3,6199,3,6206],[3,6207,3,6214],[3,6135,3,6142],[3,6143,3,6150],[3,6151,3,6158],[3,6159,3,6166],[3,6167,3,6174],[3,6095,3,6102],[3,6103,3,6110],[3,6111,3,6118],[3,6119,3,6126],[3,6127,3,6134],[3,6055,3,6062],[3,6063,3,6070],[3,6071,3,6078],[3,6079,3,6086],[3,6087,3,6094],[3,6335,3,6342],[3,6343,3,6350],[3,6351,3,6358],[3,6359,3,6366],[3,6367,3,6374],[3,6295,3,6302],[3,6303,3,6310],[3,6311,3,6318],[3,6319,3,6326],[3,6327,3,6334],[3,6255,3,6262],[3,6263,3,6270],[3,6271,3,6278],[3,6279,3,6286],[3,6287,3,6294],[3,6215,3,6222],[3,6223,3,6230],[3,6231,3,6238],[3,6239,3,6246],[3,6247,3,6254],[3,6495,3,6502],[3,6503,3,6510],[3,6511,3,6518],[3,6519,3,6526],[3,6527,3,6534],[3,6455,3,6462],[3,6463,3,6470],[3,6471,3,6478],[3,6479,3,6486],[3,6487,3,6494],[3,6415,3,6422],[3,6423,3,6430],[3,6431,3,6438],[3,6439,3,6446],[3,6447,3,6454],[3,6375,3,6382],[3,6383,3,6390],[3,6391,3,6398],[3,6399,3,6406],[3,6407,3,6414],[3,6655,3,6662],[3,6663,3,6670],[3,6671,3,6678],[3,6679,3,6686],[3,6687,3,6694],[3,6615,3,6622],[3,6623,3,6630],[3,6631,3,6638],[3,6639,3,6646],[3,6647,3,6654],[3,6575,3,6582],[3,6583,3,6590],[3,6591,3,6598],[3,6599,3,6606],[3,6607,3,6614],[3,6535,3,6542],[3,6543,3,6550],[3,6551,3,6558],[3,6559,3,6566],[3,6567,3,6574],[3,6815,3,6822],[3,6823,3,6830],[3,6831,3,6838],[3,6839,3,6846],[3,6847,3,6854],[3,6775,3,6782],[3,6783,3,6790],[3,6791,3,6798],[3,6799,3,6806],[3,6807,3,6814],[3,6735,3,6742],[3,6743,3,6750],[3,6751,3,6758],[3,6759,3,6766],[3,6767,3,6774],[3,6695,3,6702],[3,6703,3,6710],[3,6711,3,6718],[3,6719,3,6726],[3,6727,3,6734],[3,6975,3,6982],[3,6983,3,6990],[3,6991,3,6998],[3,6999,3,7006],[3,7007,3,7014],[3,6935,3,6942],[3,6943,3,6950],[3,6951,3,6958],[3,6959,3,6966],[3,6967,3,6974],[3,6895,3,6902],[3,6903,3,6910],[3,6911,3,6918],[3,6919,3,6926],[3,6927,3,6934],[3,6855,3,6862],[3,6863,3,6870],[3,6871,3,6878],[3,6879,3,6886],[3,6887,3,6894],[3,7135,3,7142],[3,7143,3,7150],[3,7151,3,7158],[3,7159,3,7166],[3,7167,3,7174],[3,7095,3,7102],[3,7103,3,7110],[3,7111,3,7118],[3,7119,3,7126],[3,7127,3,7134],[3,7055,3,7062],[3,7063,3,7070],[3,7071,3,7078],[3,7079,3,7086],[3,7087,3,7094],[3,7015,3,7022],[3,7023,3,7030],[3,7031,3,7038],[3,7039,3,7046],[3,7047,3,7054],[3,7295,3,7302],[3,7303,3,7310],[3,7311,3,7318],[3,7319,3,7326],[3,7327,3,7334],[3,7255,3,7262],[3,7263,3,7270],[3,7271,3,7278],[3,7279,3,7286],[3,7287,3,7294],[3,7215,3,7222],[3,7223,3,7230],[3,7231,3,7238],[3,7239,3,7246],[3,7247,3,7254],[3,7175,3,7182],[3,7183,3,7190],[3,7191,3,7198],[3,7199,3,7206],[3,7207,3,7214],[3,7455,3,7462],[3,7463,3,7470],[3,7471,3,7478],[3,7479,3,7486],[3,7487,3,7494],[3,7415,3,7422],[3,7423,3,7430],[3,7431,3,7438],[3,7439,3,7446],[3,7447,3,7454],[3,7375,3,7382],[3,7383,3,7390],[3,7391,3,7398],[3,7399,3,7406],[3,7407,3,7414],[3,7335,3,7342],[3,7343,3,7350],[3,7351,3,7358],[3,7359,3,7366],[3,7367,3,7374],[3,7615,3,7622],[3,7623,3,7630],[3,7631,3,7638],[3,7639,3,7646],[3,7647,3,7654],[3,7575,3,7582],[3,7583,3,7590],[3,7591,3,7598],[3,7599,3,7606],[3,7607,3,7614],[3,7535,3,7542],[3,7543,3,7550],[3,7551,3,7558],[3,7559,3,7566],[3,7567,3,7574],[3,7495,3,7502],[3,7503,3,7510],[3,7511,3,7518],[3,7519,3,7526],[3,7527,3,7534],[3,7775,3,7782],[3,7783,3,7790],[3,7791,3,7798],[3,7799,3,7806],[3,7807,3,7814],[3,7735,3,7742],[3,7743,3,7750],[3,7751,3,7758],[3,7759,3,7766],[3,7767,3,7774],[3,7695,3,7702],[3,7703,3,7710],[3,7711,3,7718],[3,7719,3,7726],[3,7727,3,7734],[3,7655,3,7662],[3,7663,3,7670],[3,7671,3,7678],[3,7679,3,7686],[3,7687,3,7694],[3,7935,3,7942],[3,7943,3,7950],[3,7951,3,7958],[3,7959,3,7966],[3,7967,3,7974],[3,7895,3,7902],[3,7903,3,7910],[3,7911,3,7918],[3,7919,3,7926],[3,7927,3,7934],[3,7855,3,7862],[3,7863,3,7870]],"merged_total":2060,"flags":["merged_cut"]}
[]
["Расходы по коллективным договорам"]
[]
[{"$f":"'Инф-я'!C13","v":"ООО \"МОНОСТРОЙ\""}]
[]
["Показатели","2017 год ",null,"2018 год ",null,"2019 год ",null,"2020 год ",null,"2017 год","2018 год"]
[null,"Утвержденные"," Факт","Утвержденные"," Факт","Утвержденные","Ожидаемые","По данным организации","По данным экспертов","Факт по расчету экспертов","Факт по расчету экспертов"]
[1,2,3,4,5,6,7,8,9,10,11]
["  Вознаграждения, премии, всего, в том числе:","х",{"$f":"SUM(C10:C13)","v":0},"х",{"$f":"SUM(E10:E13)","v":0},"х",{"$f":"SUM(G10:G13)","v":0},{"$f":"SUM(H10:H13)","v":0},{"$f":"SUM(I10:I13)","v":0},{"$f":"SUM(J10:J13)","v":0},0]
["Введите название","х",null,"х",null,"х",{"$f":"E10*1.043","v":0},{"$f":"G10*1.038","v":0}]
["Введите название","х",null,"х",null,"х"]
["Введите название","х",null,"х",null,"х"]
["Введите название","х",null,"х",null,"х"]
["Добавить"]
["  Материальная помощь, всего, в том числе:","х",{"$f":"SUM(C16:C18)","v":40},"х",{"$f":"SUM(E16:E18)","v":40},"х",{"$f":"SUM(G16:G18)","v":41.72},{"$f":"SUM(H16:H18)","v":43.30536},{"$f":"SUM(I16:I18)","v":0},{"$f":"SUM(J16:J18)","v":0},0]
["Материальная помощь ко Дню Рождения","х",40,"х",{"$f":"10*4","v":40},"х",{"$f":"E16*1.043","v":41.72},{"$f":"G16*1.038","v":43.30536}]
["Введите название","х",null,"х",null,"х",{"$f":"E17*1.043","v":0},{"$f":"G17*1.038","v":0}]
["Введите название","х",null,"х",null,"х",{"$f":"E18*1.043","v":0},{"$f":"G18*1.038","v":0}]
["Добавить"]
["  Оплата дополнительных отпусков","х",null,"х",null,"х"]
["  Оплата проезда","х",null,"х",null,"х"]
["  Оплата путевок на лечение и отдых","х",null,"х",null,"х"]
["Прочие расходы социального характера, всего, в том числе:","х",{"$f":"SUM(C24:C27)","v":0},"х",{"$f":"SUM(E24:E27)","v":0},"х",{"$f":"SUM(G24:G27)","v":0},{"$f":"SUM(H24:H27)","v":0},{"$f":"SUM(I24:I27)","v":0},{"$f":"SUM(J24:J27)","v":0},0]
["Введите название","х",null,"х",null,"х"]
["Введите название","х",null,"х",null,"х"]
["Введите название","х",null,"х",null,"х"]
["Введите название","х",null,"х",null,"х"]
["Добавить"]
["ИТОГО расходов на выплаты социального характера",{"$f":"'Подконтрольные расходы'!F23","v":0},{"$f":"C9+C15+C20+C21+C22+C23","v":40},{"$f":"'Подконтрольные расходы'!H23","v":0},{"$f":"E9+E15+E20+E21+E22+E23","v":40},{"$f":"'Подконтрольные расходы'!J23","v":0},{"$f":"G9+G15+G20+G21+G22+G23","v":41.72},{"$f":"H9+H15+H20+H21+H22+H23","v":43.30536},{"$f":"I9+I15+I20+I21+I22+I23","v":0},{"$f":"J9+J15+J20+J21+J22+J23","v":0},0]
[]
["Руководитель организации",null,null,{"$f":"'Инф-я'!$C$21","v":"Чижов Олег Александрович"}]

{"sheet":"Расчет аморт. max срок ","index":16,"n_rows":67,"n_cols":23,"rows_kept":67,"cut":false,"hidden":false,"merged":[[56,0,56,22],[57,0,57,22],[63,0,63,22],[66,0,66,2],[66,5,66,7],[51,0,51,22],[25,0,25,22],[26,0,26,22],[30,0,30,22],[31,0,31,22],[35,0,35,22],[36,0,36,22],[40,0,40,22],[41,0,41,22],[45,0,45,22],[46,0,46,22],[50,0,50,22],[21,0,21,22],[4,16,5,16],[4,17,4,18],[4,19,5,19],[4,20,5,20],[4,21,4,22],[6,0,6,22],[10,0,10,22],[11,0,11,22],[15,0,15,22],[16,0,16,22],[20,0,20,22],[1,0,1,19],[2,0,2,19],[4,0,5,0],[4,1,5,1],[4,2,4,3],[4,4,4,6],[4,7,4,10],[4,11,4,13],[4,14,5,14],[4,15,5,15]]}
["Заполняется в Рублях !"]
["Расчет амортизационных отчислений основных средств, участвующих в передаче электрической энергии по максимальному сроку использования и расчет среднегодовой стоимости ОС"]
[{"$f":"'Инф-я'!C13","v":"ООО \"МОНОСТРОЙ\""}]
[]
["Группа учета ОС \\ Амортизационная группа \\ Основное средство, Инвентарный номер, Дата принятия к учету","Год ввода","Срок полезного использования, мес.",null,"На начало 01.01.2019 г.",null,null,"За 1 квартал 2019 года",null,null,null,"На конец 31.03.2019 г.",null,null,"Амортизация (2-4 квартал 2019)","Амортизация (2019 год)","Остаточная стоимость на начало 2020 года","Амортизация на 2020 год",null,"Остаточная стоимость на начало 2021 года","Налоговая ставка (%)","Среднегодовая остаточная стоимость ОС"]
[null,null,"бух.учет","Максимальный срок по группе ","Стоимость","Накопленная амортизация (износ)","Остаточная стоимость","Увеличение стоимости","Начисление амортизации (износа)","Уменьшение стоимости","Списание амортизации (износа)","Стоимость","Накопленная амортизация (износ)","Остаточная стоимость",null,"Амортизация (2015 год)","Остаточная стоимость на начало 2016 года","бух.учет","Максимальный срок по группе",null,null,"облагаемых по ставке 2,2 %"," необлагаемых налогом (движимое имущество)"]
["Первая группа (от 1 года до 2 лет включительно)"]
[null,null,null,24,null,null,null,null,null,null,null,null,null,null,{"$f":"IF(C8>0,IF(N8>L8/C8*9,(L8/C8*9),N8),0)","v":0},{"$f":"I8+O8","v":0},{"$f":"IF((N8-O8)>0,(N8-O8),0)","v":0},{"$f":"IF(C8>0,IF(Q8>L8/C8*12,(L8/C8*12),Q8),0)","v":0},{"$f":"IF(D8>0,IF(Q8>L8/D8*12,(L8/D8*12),Q8),0)","v":0},{"$f":"IF((Q8-R8)>0,(Q8-R8),0)","v":0},null,{"$f":"IF(U8=2.2,(T8+Q8)/2,0)","v":0},{"$f":"IF(U8=0,(T8+Q8)/2,0)","v":0}]
[null,null,null,{"$f":"$D$8","v":24},null,null,null,null,null,null,null,null,null,null,0,{"$f":"I9+O9","v":0},{"$f":"IF((N9-O9)>0,(N9-O9),0)","v":0},{"$f":"IF(C9>0,IF(Q9>L9/C9*12,(L9/C9*12),Q9),0)","v":0},{"$f":"IF(D9>0,IF(Q9>L9/D9*12,(L9/D9*12),Q9),0)","v":0},{"$f":"IF((Q9-R9)>0,(Q9-R9),0)","v":0},null,{"$f":"IF(U9=2.2,(T9+Q9)/2,0)","v":0},{"$f":"IF(U9=0,(T9+Q9)/2,0)","v":0}]
[null,null,null,{"$f":"$D$8","v":24},null,null,null,null,null,null,null,null,null,null,0,{"$f":"I10+O10","v":0},{"$f":"IF((N10-O10)>0,(N10-O10),0)","v":0},{"$f":"IF(C10>0,IF(Q10>L10/C10*12,(L10/C10*12),Q10),0)","v":0},{"$f":"IF(D10>0,IF(Q10>L10/D10*12,(L10/D10*12),Q10),0)","v":0},{"$f":"IF((Q10-R10)>0,(Q10-R10),0)","v":0},null,{"$f":"IF(U10=2.2,(T10+Q10)/2,0)","v":0},{"$f":"IF(U10=0,(T10+Q10)/2,0)","v":0}]
["Добавить"]
["Вторая группа (свыше 2 лет до 3 лет включительно)"]
[null,null,null,36,null,null,null,null,null,null,null,null,null,null,{"$f":"IF(C13>0,IF(N13>L13/C13*9,(L13/C13*9),N13),0)","v":0},{"$f":"I13+O13","v":0},{"$f":"IF((N13-O13)>0,(N13-O13),0)","v":0},{"$f":"IF(C13>0,IF(Q13>L13/C13*12,(L13/C13*12),Q13),0)","v":0},{"$f":"IF(D13>0,IF(Q13>L13/D13*12,(L13/D13*12),Q13),0)","v":0},{"$f":"IF((Q13-R13)>0,(Q13-R13),0)","v":0},2.2000000000000002,{"$f":"IF(U13=2.2,(T13+Q13)/2,0)","v":0},{"$f":"IF(U13=0,(T13+Q13)/2,0)","v":0}]
[null,null,null,{"$f":"$D$13","v":36},null,null,null,null,null,null,null,null,null,null,{"$f":"IF(C14>0,IF(N14>L14/C14*9,(L14/C14*9),N14),0)","v":0},{"$f":"I14+O14","v":0},{"$f":"IF((N14-O14)>0,(N14-O14),0)","v":0},{"$f":"IF(C14>0,IF(Q14>L14/C14*12,(L14/C14*12),Q14),0)","v":0},{"$f":"IF(D14>0,IF(Q14>L14/D14*12,(L14/D14*12),Q14),0)","v":0},{"$f":"IF((Q14-R14)>0,(Q14-R14),0)","v":0},null,{"$f":"IF(U14=2.2,(T14+Q14)/2,0)","v":0},{"$f":"IF(U14=0,(T14+Q14)/2,0)","v":0}]
[null,null,null,{"$f":"$D$13","v":36},null,null,null,null,null,null,null,null,null,null,0,{"$f":"I15+O15","v":0},{"$f":"IF((N15-O15)>0,(N15-O15),0)","v":0},{"$f":"IF(C15>0,IF(Q15>L15/C15*12,(L15/C15*12),Q15),0)","v":0},{"$f":"IF(D15>0,IF(Q15>L15/D15*12,(L15/D15*12),Q15),0)","v":0},{"$f":"IF((Q15-R15)>0,(Q15-R15),0)","v":0},null,{"$f":"IF(U15=2.2,(T15+Q15)/2,0)","v":0},{"$f":"IF(U15=0,(T15+Q15)/2,0)","v":0}]
["Добавить"]
["Третья группа (свыше 3 лет до 5 лет включительно)"]
[null,null,null,60,null,null,null,null,null,null,null,null,null,null,{"$f":"IF(C18>0,IF(N18>L18/C18*9,(L18/C18*9),N18),0)","v":0},{"$f":"I18+O18","v":0},{"$f":"IF((N18-O18)>0,(N18-O18),0)","v":0},{"$f":"IF(C18>0,IF(Q18>L18/C18*12,(L18/C18*12),Q18),0)","v":0},{"$f":"IF(D18>0,IF(Q18>L18/D18*12,(L18/D18*12),Q18),0)","v":0},{"$f":"IF((Q18-R18)>0,(Q18-R18),0)","v":0},null,{"$f":"IF(U18=2.2,(T18+Q18)/2,0)","v":0},{"$f":"IF(U18=0,(T18+Q18)/2,0)","v":0}]
[null,null,null,{"$f":"$D$18","v":60},null,null,null,null,null,null,null,null,null,null,0,{"$f":"I19+O19","v":0},{"$f":"IF((N19-O19)>0,(N19-O19),0)","v":0},{"$f":"IF(C19>0,IF(Q19>L19/C19*12,(L19/C19*12),Q19),0)","v":0},{"$f":"IF(D19>0,IF(Q19>L19/D19*12,(L19/D19*12),Q19),0)","v":0},{"$f":"IF((Q19-R19)>0,(Q19-R19),0)","v":0},null,{"$f":"IF(U19=2.2,(T19+Q19)/2,0)","v":0},{"$f":"IF(U19=0,(T19+Q19)/2,0)","v":0}]
[null,null,null,{"$f":"$D$18","v":60},null,null,null,null,null,null,null,null,null,null,0,{"$f":"I20+O20","v":0},{"$f":"IF((N20-O20)>0,(N20-O20),0)","v":0},{"$f":"IF(C20>0,IF(Q20>L20/C20*12,(L20/C20*12),Q20),0)","v":0},{"$f":"IF(D20>0,IF(Q20>L20/D20*12,(L20/D20*12),Q20),0)","v":0},{"$f":"IF((Q20-R20)>0,(Q20-R20),0)","v":0},null,{"$f":"IF(U20=2.2,(T20+Q20)/2,0)","v":0},{"$f":"IF(U20=0,(T20+Q20)/2,0)","v":0}]
["Добавить"]
["Четвертая группа (свыше 5 лет до 7 лет включительно)"]
[null,null,null,84,null,null,null,null,null,null,null,null,null,null,{"$f":"IF(C23>0,IF(N23>L23/C23*9,(L23/C23*9),N23),0)","v":0},{"$f":"I23+O23","v":0},{"$f":"IF((N23-O23)>0,(N23-O23),0)","v":0},{"$f":"IF(C23>0,IF(Q23>L23/C23*12,(L23/C23*12),Q23),0)","v":0},{"$f":"IF(D23>0,IF(Q23>L23/D23*12,(L23/D23*12),Q23),0)","v":0},{"$f":"IF((Q23-R23)>0,(Q23-R23),0)","v":0},null,{"$f":"IF(U23=2.2,(T23+Q23)/2,0)","v":0},{"$f":"IF(U23=0,(T23+Q23)/2,0)","v":0}]
[null,null,null,{"$f":"$D$23","v":84},null,null,null,null,null,null,null,null,null,null,0,{"$f":"I24+O24","v":0},{"$f":"IF((N24-O24)>0,(N24-O24),0)","v":0},{"$f":"IF(C24>0,IF(Q24>L24/C24*12,(L24/C24*12),Q24),0)","v":0},{"$f":"IF(D24>0,IF(Q24>L24/D24*12,(L24/D24*12),Q24),0)","v":0},{"$f":"IF((Q24-R24)>0,(Q24-R24),0)","v":0},null,{"$f":"IF(U24=2.2,(T24+Q24)/2,0)","v":0},{"$f":"IF(U24=0,(T24+Q24)/2,0)","v":0}]
[null,null,null,{"$f":"$D$23","v":84},null,null,null,null,null,null,null,null,null,null,0,{"$f":"I25+O25","v":0},{"$f":"IF((N25-O25)>0,(N25-O25),0)","v":0},{"$f":"IF(C25>0,IF(Q25>L25/C25*12,(L25/C25*12),Q25),0)","v":0},{"$f":"IF(D25>0,IF(Q25>L25/D25*12,(L25/D25*12),Q25),0)","v":0},{"$f":"IF((Q25-R25)>0,(Q25-R25),0)","v":0},null,{"$f":"IF(U25=2.2,(T25+Q25)/2,0)","v":0},{"$f":"IF(U25=0,(T25+Q25)/2,0)","v":0}]
["Добавить"]
["Пятая группа (свыше 7 лет до 10 лет включительно)"]
[null,null,null,120,null,null,null,null,null,null,null,null,null,null,{"$f":"IF(C28>0,IF(N28>L28/C28*9,(L28/C28*9),N28),0)","v":0},{"$f":"I28+O28","v":0},{"$f":"IF((N28-O28)>0,(N28-O28),0)","v":0},{"$f":"IF(C28>0,IF(Q28>L28/C28*12,(L28/C28*12),Q28),0)","v":0},{"$f":"IF(D28>0,IF(Q28>L28/D28*12,(L28/D28*12),Q28),0)","v":0},{"$f":"IF((Q28-R28)>0,(Q28-R28),0)","v":0},null,{"$f":"IF(U28=2.2,(T28+Q28)/2,0)","v":0},{"$f":"IF(U28=0,(T28+Q28)/2,0)","v":0}]
[null,null,null,{"$f":"$D$28","v":120},null,null,null,null,null,null,null,null,null,null,0,{"$f":"I29+O29","v":0},{"$f":"IF((N29-O29)>0,(N29-O29),0)","v":0},{"$f":"IF(C29>0,IF(Q29>L29/C29*12,(L29/C29*12),Q29),0)","v":0},{"$f":"IF(D29>0,IF(Q29>L29/D29*12,(L29/D29*12),Q29),0)","v":0},{"$f":"IF((Q29-R29)>0,(Q29-R29),0)","v":0},null,{"$f":"IF(U29=2.2,(T29+Q29)/2,0)","v":0},{"$f":"IF(U29=0,(T29+Q29)/2,0)","v":0}]
[null,null,null,{"$f":"$D$28","v":120},null,null,null,null,null,null,null,null,null,null,0,{"$f":"I30+O30","v":0},{"$f":"IF((N30-O30)>0,(N30-O30),0)","v":0},{"$f":"IF(C30>0,IF(Q30>L30/C30*12,(L30/C30*12),Q30),0)","v":0},{"$f":"IF(D30>0,IF(Q30>L30/D30*12,(L30/D30*12),Q30),0)","v":0},{"$f":"IF((Q30-R30)>0,(Q30-R30),0)","v":0},null,{"$f":"IF(U30=2.2,(T30+Q30)/2,0)","v":0},{"$f":"IF(U30=0,(T30+Q30)/2,0)","v":0}]
["Добавить"]
["Шестая группа (свыше 10 лет до 15 лет включительно)"]
["Нежилое здание трансформаторная подстанция ТП-553, 45,2 кв. м г. Владимир, ул. Н.Дуброва, 19Б (8ЮЗ-63)",2014,{"$f":"30*12","v":360},180,4469296.3499999996,{"$f":"595906.08","v":595906.07999999996},{"$f":"E33-F33","v":3873390.2699999996},0,{"$f":"148976.52/12*3","v":37244.129999999997},0,0,{"$f":"E33","v":4469296.3499999996},{"$f":"F33+I33","v":633150.21},{"$f":"L33-M33","v":3836146.1399999997},{"$f":"IF(C33>0,IF(N33>L33/C33*9,(L33/C33*9),N33),0)","v":111732.40874999999},{"$f":"I33+O33","v":148976.53874999998},{"$f":"IF((N33-O33)>0,(N33-O33),0)","v":3724413.7312499997},{"$f":"IF(C33>0,IF(Q33>L33/C33*12,(L33/C33*12),Q33),0)","v":148976.54499999998},{"$f":"IF(D33>0,IF(Q33>L33/D33*12,(L33/D33*12),Q33),0)","v":297953.08999999997},{"$f":"IF((Q33-R33)>0,(Q33-R33),0)","v":3575437.1862499998},2.2000000000000002,{"$f":"IF(U33=2.2,(T33+Q33)/2,0)","v":3649925.4587499998},{"$f":"IF(U33=0,(T33+Q33)/2,0)","v":0}]
[null,null,null,{"$f":"$D$33","v":180},null,null,null,null,null,null,null,null,null,null,0,{"$f":"I34+O34","v":0},{"$f":"IF((N34-O34)>0,(N34-O34),0)","v":0},{"$f":"IF(C34>0,IF(Q34>L34/C34*12,(L34/C34*12),Q34),0)","v":0},{"$f":"IF(D34>0,IF(Q34>L34/D34*12,(L34/D34*12),Q34),0)","v":0},{"$f":"IF((Q34-R34)>0,(Q34-R34),0)","v":0},null,{"$f":"IF(U34=2.2,(T34+Q34)/2,0)","v":0},{"$f":"IF(U34=0,(T34+Q34)/2,0)","v":0}]
[null,null,null,{"$f":"$D$33","v":180},null,null,null,null,null,null,null,null,null,null,0,{"$f":"I35+O35","v":0},{"$f":"IF((N35-O35)>0,(N35-O35),0)","v":0},{"$f":"IF(C35>0,IF(Q35>L35/C35*12,(L35/C35*12),Q35),0)","v":0},{"$f":"IF(D35>0,IF(Q35>L35/D35*12,(L35/D35*12),Q35),0)","v":0},{"$f":"IF((Q35-R35)>0,(Q35-R35),0)","v":0},null,{"$f":"IF(U35=2.2,(T35+Q35)/2,0)","v":0},{"$f":"IF(U35=0,(T35+Q35)/2,0)","v":0}]
["Добавить"]
["Седьмая группа (свыше 15 лет до 20 лет включительно)"]
[null,null,null,240,null,null,null,null,null,null,null,null,null,null,{"$f":"IF(C38>0,IF(N38>L38/C38*9,(L38/C38*9),N38),0)","v":0},{"$f":"I38+O38","v":0},{"$f":"IF((N38-O38)>0,(N38-O38),0)","v":0},{"$f":"IF(C38>0,IF(Q38>L38/C38*12,(L38/C38*12),Q38),0)","v":0},{"$f":"IF(D38>0,IF(Q38>L38/D38*12,(L38/D38*12),Q38),0)","v":0},{"$f":"IF((Q38-R38)>0,(Q38-R38),0)","v":0},null,{"$f":"IF(U38=2.2,(T38+Q38)/2,0)","v":0},{"$f":"IF(U38=0,(T38+Q38)/2,0)","v":0}]
[null,null,null,{"$f":"$D$38","v":240},null,null,null,null,null,null,null,null,null,null,0,{"$f":"I39+O39","v":0},{"$f":"IF((N39-O39)>0,(N39-O39),0)","v":0},{"$f":"IF(C39>0,IF(Q39>L39/C39*12,(L39/C39*12),Q39),0)","v":0},{"$f":"IF(D39>0,IF(Q39>L39/D39*12,(L39/D39*12),Q39),0)","v":0},{"$f":"IF((Q39-R39)>0,(Q39-R39),0)","v":0},null,{"$f":"IF(U39=2.2,(T39+Q39)/2,0)","v":0},{"$f":"IF(U39=0,(T39+Q39)/2,0)","v":0}]
[null,null,null,{"$f":"$D$38","v":240},null,null,null,null,null,null,null,null,null,null,0,{"$f":"I40+O40","v":0},{"$f":"IF((N40-O40)>0,(N40-O40),0)","v":0},{"$f":"IF(C40>0,IF(Q40>L40/C40*12,(L40/C40*12),Q40),0)","v":0},{"$f":"IF(D40>0,IF(Q40>L40/D40*12,(L40/D40*12),Q40),0)","v":0},{"$f":"IF((Q40-R40)>0,(Q40-R40),0)","v":0},null,{"$f":"IF(U40=2.2,(T40+Q40)/2,0)","v":0},{"$f":"IF(U40=0,(T40+Q40)/2,0)","v":0}]
["Добавить"]
["Восьмая группа (свыше 20 лет до 25 лет включительно)"]
[null,null,null,300,null,null,null,null,null,null,null,null,null,null,{"$f":"IF(C43>0,IF(N43>L43/C43*9,(L43/C43*9),N43),0)","v":0},{"$f":"I43+O43","v":0},{"$f":"IF((N43-O43)>0,(N43-O43),0)","v":0},{"$f":"IF(C43>0,IF(Q43>L43/C43*12,(L43/C43*12),Q43),0)","v":0},{"$f":"IF(D43>0,IF(Q43>L43/D43*12,(L43/D43*12),Q43),0)","v":0},{"$f":"IF((Q43-R43)>0,(Q43-R43),0)","v":0},null,{"$f":"IF(U43=2.2,(T43+Q43)/2,0)","v":0},{"$f":"IF(U43=0,(T43+Q43)/2,0)","v":0}]
[null,null,null,{"$f":"$D$43","v":300},null,null,null,null,null,null,null,null,null,null,0,{"$f":"I44+O44","v":0},{"$f":"IF((N44-O44)>0,(N44-O44),0)","v":0},{"$f":"IF(C44>0,IF(Q44>L44/C44*12,(L44/C44*12),Q44),0)","v":0},{"$f":"IF(D44>0,IF(Q44>L44/D44*12,(L44/D44*12),Q44),0)","v":0},{"$f":"IF((Q44-R44)>0,(Q44-R44),0)","v":0},null,{"$f":"IF(U44=2.2,(T44+Q44)/2,0)","v":0},{"$f":"IF(U44=0,(T44+Q44)/2,0)","v":0}]
[null,null,null,{"$f":"$D$43","v":300},null,null,null,null,null,null,null,null,null,null,0,{"$f":"I45+O45","v":0},{"$f":"IF((N45-O45)>0,(N45-O45),0)","v":0},{"$f":"IF(C45>0,IF(Q45>L45/C45*12,(L45/C45*12),Q45),0)","v":0},{"$f":"IF(D45>0,IF(Q45>L45/D45*12,(L45/D45*12),Q45),0)","v":0},{"$f":"IF((Q45-R45)>0,(Q45-R45),0)","v":0},null,{"$f":"IF(U45=2.2,(T45+Q45)/2,0)","v":0},{"$f":"IF(U45=0,(T45+Q45)/2,0)","v":0}]
["Добавить"]
["Девятая группа (свыше 25 лет до 30 лет включительно)"]
[null,null,null,360,null,null,null,null,null,null,null,null,null,null,{"$f":"IF(C48>0,IF(N48>L48/C48*9,(L48/C48*9),N48),0)","v":0},{"$f":"I48+O48","v":0},{"$f":"IF((N48-O48)>0,(N48-O48),0)","v":0},{"$f":"IF(C48>0,IF(Q48>L48/C48*12,(L48/C48*12),Q48),0)","v":0},{"$f":"IF(D48>0,IF(Q48>L48/D48*12,(L48/D48*12),Q48),0)","v":0},{"$f":"IF((Q48-R48)>0,(Q48-R48),0)","v":0},2.2000000000000002,{"$f":"IF(U48=2.2,(T48+Q48)/2,0)","v":0},{"$f":"IF(U48=0,(T48+Q48)/2,0)","v":0}]
[null,null,null,{"$f":"$D$48","v":360},null,null,null,null,null,null,null,null,null,null,0,{"$f":"I49+O49","v":0},{"$f":"IF((N49-O49)>0,(N49-O49),0)","v":0},{"$f":"IF(C49>0,IF(Q49>L49/C49*12,(L49/C49*12),Q49),0)","v":0},{"$f":"IF(D49>0,IF(Q49>L49/D49*12,(L49/D49*12),Q49),0)","v":0},{"$f":"IF((Q49-R49)>0,(Q49-R49),0)","v":0},null,{"$f":"IF(U49=2.2,(T49+Q49)/2,0)","v":0},{"$f":"IF(U49=0,(T49+Q49)/2,0)","v":0}]
[null,null,null,{"$f":"$D$48","v":360},null,null,null,null,null,null,null,null,null,null,0,{"$f":"I50+O50","v":0},{"$f":"IF((N50-O50)>0,(N50-O50),0)","v":0},{"$f":"IF(C50>0,IF(Q50>L50/C50*12,(L50/C50*12),Q50),0)","v":0},{"$f":"IF(D50>0,IF(Q50>L50/D50*12,(L50/D50*12),Q50),0)","v":0},{"$f":"IF((Q50-R50)>0,(Q50-R50),0)","v":0},null,{"$f":"IF(U50=2.2,(T50+Q50)/2,0)","v":0},{"$f":"IF(U50=0,(T50+Q50)/2,0)","v":0}]
["Добавить"]
["Десятая группа (свыше 30 лет)"]
[null,null,null,{"$f":"MAX(361,C53)","v":361},null,null,null,null,null,null,null,null,null,null,{"$f":"IF(C53>0,IF(N53>L53/C53*9,(L53/C53*9),N53),0)","v":0},{"$f":"I53+O53","v":0},{"$f":"IF((N53-O53)>0,(N53-O53),0)","v":0},{"$f":"IF(C53>0,IF(Q53>L53/C53*12,(L53/C53*12),Q53),0)","v":0},{"$f":"IF(D53>0,IF(Q53>L53/D53*12,(L53/D53*12),Q53),0)","v":0},{"$f":"IF((Q53-R53)>0,(Q53-R53),0)","v":0},null,{"$f":"IF(U53=2.2,(T53+Q53)/2,0)","v":0},{"$f":"IF(U53=0,(T53+Q53)/2,0)","v":0}]
[null,null,null,{"$f":"MAX(361,C54)","v":361},null,null,null,null,null,null,null,null,null,null,0,{"$f":"I54+O54","v":0},{"$f":"IF((N54-O54)>0,(N54-O54),0)","v":0},{"$f":"IF(C54>0,IF(Q54>L54/C54*12,(L54/C54*12),Q54),0)","v":0},{"$f":"IF(D54>0,IF(Q54>L54/D54*12,(L54/D54*12),Q54),0)","v":0},{"$f":"IF((Q54-R54)>0,(Q54-R54),0)","v":0},null,{"$f":"IF(U54=2.2,(T54+Q54)/2,0)","v":0},{"$f":"IF(U54=0,(T54+Q54)/2,0)","v":0}]
[null,null,null,361,null,null,null,null,null,null,null,null,null,null,0,{"$f":"I55+O55","v":0},{"$f":"IF((N55-O55)>0,(N55-O55),0)","v":0},{"$f":"IF(C55>0,IF(Q55>L55/C55*12,(L55/C55*12),Q55),0)","v":0},{"$f":"IF(D55>0,IF(Q55>L55/D55*12,(L55/D55*12),Q55),0)","v":0},{"$f":"IF((Q55-R55)>0,(Q55-R55),0)","v":0},null,{"$f":"IF(U55=2.2,(T55+Q55)/2,0)","v":0},{"$f":"IF(U55=0,(T55+Q55)/2,0)","v":0}]
[null,null,null,361,null,null,null,null,null,null,null,null,null,null,0,{"$f":"I56+O56","v":0},{"$f":"IF((N56-O56)>0,(N56-O56),0)","v":0},{"$f":"IF(C56>0,IF(Q56>L56/C56*12,(L56/C56*12),Q56),0)","v":0},{"$f":"IF(D56>0,IF(Q56>L56/D56*12,(L56/D56*12),Q56),0)","v":0},{"$f":"IF((Q56-R56)>0,(Q56-R56),0)","v":0},null,{"$f":"IF(U56=2.2,(T56+Q56)/2,0)","v":0},{"$f":"IF(U56=0,(T56+Q56)/2,0)","v":0}]
["Добавить"]
["Неамортизируемое имущество (Земельные участки)"]
[null,null,null,null,null,null,null,null,null,null,null,null,null,null,"х","х","х","х","х",{"$f":"Q59","v":"х"},"х","х","х"]
[null,null,null,null,null,null,null,null,null,null,null,null,null,null,"х","х","х","х","х",{"$f":"Q60","v":"х"},"х","х","х"]
[null,null,null,null,null,null,null,null,null,null,null,null,null,null,"х","х","х","х","х",{"$f":"Q61","v":"х"},"х","х","х"]
[null,null,null,null,null,null,null,null,null,null,null,null,null,null,"х","х","х","х","х",{"$f":"Q62","v":"х"},"х","х","х"]
[null,null,null,null,null,null,null,null,null,null,null,null,null,null,"х","х","х","х","х",{"$f":"Q63","v":"х"},"х","х","х"]
["Добавить"]
["Итого","x","x","x",{"$f":"SUM(E7:E63)","v":4469296.3499999996},595906.07999999996,3873390.2699999996,0,37244.129999999997,0,0,4469296.3499999996,633150.21,3836146.1399999997,{"$f":"SUM(O8:O10)+SUM(O13:O15)+SUM(O18:O20)+SUM(O23:O25)+SUM(O28:O30)+SUM(O33:O35)+SUM(O38:O40)+SUM(O43:O45)+SUM(O48:O50)+SUM(O53:O56)+SUM(O59:O63)","v":111732.40874999999},148976.53874999998,3724413.7312499997,148976.54499999998,297953.08999999997,3575437.1862499998,"х",{"$f":"SUM(V8:V10)+SUM(V13:V15)+SUM(V18:V20)+SUM(V23:V25)+SUM(V28:V30)+SUM(V33:V35)+SUM(V38:V40)+SUM(V43:V45)+SUM(V48:V50)+SUM(V53:V56)","v":3649925.4587499998},{"$f":"SUM(W8:W10)+SUM(W13:W15)+SUM(W18:W20)+SUM(W23:W25)+SUM(W28:W30)+SUM(W33:W35)+SUM(W38:W40)+SUM(W43:W45)+SUM(W48:W50)+SUM(W53:W56)+SUM(W59:W63)","v":0}]
[]
["Руководитель организации",null,null,null,null,{"$f":"'Инф-я'!$C$21","v":"Чижов Олег Александрович"}]

{"sheet":"Ввод выбытие ОС  ","index":17,"n_rows":34,"n_cols":21,"rows_kept":34,"cut":false,"hidden":false,"merged":[[31,0,31,4],[33,0,34,16],[17,0,17,16],[17,17,17,23],[20,0,21,0],[28,0,28,20],[20,11,20,20],[20,1,20,10],[13,0,13,20],[1,0,1,16],[3,0,3,16],[5,0,6,0],[5,1,5,10],[5,11,5,20]]}
[]
["Справка о вводе основных средств в 2019 году  (с 01.04.2019 г.), участвующих в передаче электрической энергии"]
[]
[{"$f":"'Инф-я'!C13","v":"ООО \"МОНОСТРОЙ\""}]
[]
["Наименование вводимых  объектов основных фондов","По данным организации",null,null,null,null,null,null,null,null,null,"По данным экспертов"]
[null,"Является ли  ОС недвижимым имуществом? (да/нет)","Амортизационная группа","Порядковый номер месяца ввода","Первоначальная стоимость, тыс. руб. ","Норма амортизационных отчислений, %","Корректировка годовой суммы амортизационных отчислений по вводимым объектам (тыс. руб.)","Амортизация  2019 год","Остаточная стоимость на 01.01.2020","Остаточная стоимость на 01.01.2021","Среднегодовая остаточная стоимость ОС за 2020 год","Является ли  ОС недвижимым имуществом? (да/нет)","Амортизационная группа","Порядковый номер месяца ввода","Первоначальная стоимость, тыс. руб. ","Норма амортизационных отчислений, %","Корректировка годовой суммы амортизационных отчислений по вводимым объектам (тыс. руб.)","Амортизация  2019 год","Остаточная стоимость на 01.01.2020","Остаточная стоимость на 01.01.2021","Среднегодовая остаточная стоимость ОС за 2020 год"]
[1,2,3,4,5,6,7,8,9,10,11,12,13,14,15,16,17,18,19,20,21]
[null,null,null,null,null,null,{"$f":"E9*F9","v":0},{"$f":"(12-D9)*E9/12*F9","v":0},{"$f":"E9-H9","v":0},{"$f":"I9-G9","v":0},{"$f":"IF(B9=\"да\",(I9+J9)/2,\"\")","v":""},null,null,null,null,null,{"$f":"O9*P9","v":0},{"$f":"(12-N9)*O9/12*P9","v":0},{"$f":"O9-R9","v":0},{"$f":"S9-Q9","v":0},{"$f":"IF(L9=\"да\",(S9+T9)/2,\"\")","v":""}]
[null,null,null,null,null,null,{"$f":"E10*F10","v":0},{"$f":"(12-D10)*E10/12*F10","v":0},{"$f":"E10-H10","v":0},{"$f":"I10-G10","v":0},{"$f":"IF(B10=\"да\",(I10+J10)/2,\"\")","v":""},null,null,null,null,null,{"$f":"O10*P10","v":0},{"$f":"(12-N10)*O10/12*P10","v":0},{"$f":"O10-R10","v":0},{"$f":"S10-Q10","v":0},{"$f":"IF(L10=\"да\",(S10+T10)/2,\"\")","v":""}]
[null,null,null,null,null,null,0,0,0,0,"",null,null,null,null,null,0,{"$f":"(12-N11)*O11/12*P11","v":0},{"$f":"O11-R11","v":0},{"$f":"S11-Q11","v":0},{"$f":"IF(L11=\"да\",(S11+T11)/2,\"\")","v":""}]
[null,null,null,null,null,null,0,0,0,0,"",null,null,null,null,null,0,{"$f":"(12-N12)*O12/12*P12","v":0},{"$f":"O12-R12","v":0},{"$f":"S12-Q12","v":0},{"$f":"IF(L12=\"да\",(S12+T12)/2,\"\")","v":""}]
[null,null,null,null,null,null,0,0,0,0,"",null,null,null,null,null,0,{"$f":"(12-N13)*O13/12*P13","v":0},{"$f":"O13-R13","v":0},{"$f":"S13-Q13","v":0},{"$f":"IF(L13=\"да\",(S13+T13)/2,\"\")","v":""}]
["Добавить"]
["Всего по вводимым объектам в 2019 году  (с 01.04.2019 г.), участвующим в передаче электрической энергии","х","х","х",{"$f":"SUM(E9:E13)","v":0},"х",{"$f":"SUM(G9:G13)","v":0},{"$f":"SUM(H9:H13)","v":0},0,0,0,"х","х","х","х","х",{"$f":"SUM(Q9:Q13)","v":0},{"$f":"SUM(R9:R13)","v":0},0,0,0]
[]
[]
["Справка о выбытии не полностью самортизированных основных средств в 2019 году  (с 01.04.2019 г.), участвующих в передаче электрической энергии"]
[]
[]
["Наименование вводимых  объектов основных фондов","По данным организации",null,null,null,null,null,null,null,null,null,"По данным экспертов"]
[null,"Является ли  ОС недвижимым имуществом? (да/нет)","Амортизационная группа","Остаточная стоимость на начало 2019 года, тыс. руб. ","Первоначальная стоимость, тыс. руб. ","Норма амортизационных отчислений, %","Корректировка годовой суммы амортизационных отчислений по вводимым объектам (тыс. руб.)","Амортизация  в год","Остаточная стоимость на 01.01.2020","Остаточная стоимость на 01.01.2021","Среднегодовая остаточная стоимость ОС за 2020 год","Является ли  ОС недвижимым имуществом? (да/нет)","Амортизационная группа","Порядковый номер месяца ввода","Первоначальная стоимость, тыс. руб. ","Норма амортизационных отчислений, %","Корректировка годовой суммы амортизационных отчислений по вводимым объектам (тыс. руб.)","Амортизация  2019 год","Остаточная стоимость на 01.01.2020","Остаточная стоимость на 01.01.2021","Среднегодовая остаточная стоимость ОС за 2020 год"]
[1,2,3,4,5,6,7,8,9,10,11,12,13,14,15,16,17,18,19,20,21]
[null,null,null,null,null,null,{"$f":"E24*F24","v":0},{"$f":"E24*F24","v":0},{"$f":"IF(D24>H24,D24-H24,0)","v":0},{"$f":"IF(I24>H24,I24-H24,0)","v":0},{"$f":"IF(B24=\"да\",(I24+J24)/2,\"\")","v":""},null,null,null,null,null,{"$f":"O24*P24","v":0},{"$f":"O24*P24","v":0},{"$f":"IF(N24>R24,N24-R24,0)","v":0},{"$f":"IF(S24>R24,S24-R24,0)","v":0},{"$f":"IF(L24=\"да\",(S24+T24)/2,\"\")","v":""}]
[null,null,null,null,null,null,{"$f":"E25*F25","v":0},{"$f":"E25*F25","v":0},{"$f":"IF(D25>H25,D25-H25,0)","v":0},{"$f":"IF(I25>H25,I25-H25,0)","v":0},{"$f":"IF(B25=\"да\",(I25+J25)/2,\"\")","v":""},null,null,null,null,null,{"$f":"O25*P25","v":0},{"$f":"O25*P25","v":0},{"$f":"IF(N25>R25,N25-R25,0)","v":0},{"$f":"IF(S25>R25,S25-R25,0)","v":0},{"$f":"IF(L25=\"да\",(S25+T25)/2,\"\")","v":""}]
[null,null,null,null,null,null,0,0,0,0,"",null,null,null,null,null,0,0,0,0,""]
[null,null,null,null,null,null,{"$f":"E27*F27","v":0},{"$f":"E27*F27","v":0},{"$f":"IF(D27>H27,D27-H27,0)","v":0},{"$f":"IF(I27>H27,I27-H27,0)","v":0},{"$f":"IF(B27=\"да\",(I27+J27)/2,\"\")","v":""},null,null,null,null,null,{"$f":"O27*P27","v":0},{"$f":"O27*P27","v":0},{"$f":"IF(N27>R27,N27-R27,0)","v":0},{"$f":"IF(S27>R27,S27-R27,0)","v":0},{"$f":"IF(L27=\"да\",(S27+T27)/2,\"\")","v":""}]
[null,null,null,null,null,null,0,0,0,0,"",null,null,null,null,null,0,0,0,0,""]
["Добавить"]
["Всего по выбывающим объектам в 2019 году  (с 01.04.2019 г.), участвующим в передаче электрической энергии","х","х","х",{"$f":"SUM(E24:E28)","v":0},"х",{"$f":"SUM(G24:G28)","v":0},"х","х","х",{"$f":"SUM(K24:K28)","v":0},"х","х","х","х","х",{"$f":"SUM(Q24:Q28)","v":0},"х","х","х",{"$f":"SUM(U24:U28)","v":0}]
[]
["Руководитель организации",null,null,null,null,null,{"$f":"'Инф-я'!$C$21","v":"Чижов Олег Александрович"}]
[]
["В справке о выбытии основных средств указывается информация о выбывающих объектах (продажа, ликвидация)"]

{"sheet":"Свод по амортизации","index":18,"n_rows":15,"n_cols":15,"rows_kept":15,"cut":false,"hidden":false,"merged":[[1,0,1,13],[3,0,3,13],[5,7,5,8],[5,9,5,10],[5,11,5,12],[5,13,5,14],[14,3,14,5],[5,0,6,0],[5,1,5,2],[5,3,5,4],[5,5,5,6]]}
[]
["Сводный расчет амортизационных отчислений на восстановление основных производственных фондов,  участвующих в передаче электрической энергии"]
[]
[{"$f":"'Инф-я'!C13","v":"ООО \"МОНОСТРОЙ\""}]
[null,null,null,null,null,null,null,null,null,null,null,null,null,"тыс. руб."]
["Наименование","2018 год",null,"2019 год",null,"2020 год",null,"2021 год",null,"2022 год",null,"2023 год",null,"2024 год"]
[null,"Утверждено","Факт","Утверждено","Ожидаемые","По данным организации","По данным экспертов","По данным организации","По данным экспертов","По данным организации","По данным экспертов","По данным организации","По данным экспертов","По данным организации","По данным экспертов"]
[1,2,3,4,5,6,null,7," ",8," ",9," ",10," "]
["Амортизационные отчисления на 2019 год по основным средствам по состоянию на 01.04.2019 г.","х","х","х","х",{"$f":"'Расчет аморт. max срок '!S65/1000","v":297.95308999999997},null,"х","х","х","х","х","х","х","х"]
["Корректировка годовой суммы амортизационных отчислений, в том числе:","х","х","х","х",{"$f":"F11-F12","v":0},{"$f":"G11-G12","v":0},"х","х","х","х","х","х","х","х"]
["по вводимым объектам основных средств после 01.04.2019 г. (+)","х","х","х","х",{"$f":"'Ввод выбытие ОС  '!G15","v":0},{"$f":"'Ввод выбытие ОС  '!Q15","v":0},"х","х","х","х","х","х","х","х"]
["по выбывающим объектам основных средств  после 01.04.2019 г.(-)","х","х","х","х",{"$f":"'Ввод выбытие ОС  '!G30","v":0},{"$f":"'Ввод выбытие ОС  '!Q30","v":0},"х","х","х","х","х","х","х","х"]
["Годовая сумма амортизационных отчислений",210.95,148.97651999999999,210.95,148.97651999999999,{"$f":"F9+F10","v":297.95308999999997},{"$f":"G9+G10","v":0},{"$f":"F13","v":297.95308999999997},{"$f":"G13","v":0},{"$f":"H13","v":297.95308999999997},0,297.95308999999997,0,297.95308999999997,0]
[]
["Руководитель организации",null,null,{"$f":"'Инф-я'!C21","v":"Чижов Олег Александрович"}]

{"sheet":"Страховые взносы","index":19,"n_rows":38,"n_cols":18,"rows_kept":38,"cut":false,"hidden":false,"merged":[[1,1,1,15],[3,1,3,15],[26,0,26,8],[5,0,6,0],[5,1,6,1],[5,2,6,2],[5,3,5,4],[5,5,5,6],[5,7,5,8],[5,9,5,10],[5,11,5,12],[5,13,5,14],[5,15,5,16],[23,4,23,6]]}
[]
[null,"Расчет расходов на страховые взносы"]
[]
[null,{"$f":"'Инф-я'!C13","v":"ООО \"МОНОСТРОЙ\""}]
[null,null,null,null,null,null,null,null,null,null,null,null,null,null,null,"тыс. руб."]
["№ п/п","Наименование","Ед.изм.","2018 год",null,"2019 год",null,"2020 год",null,"2021 год",null,"2022 год",null,"2023 год",null,"2024 год",null,"2018 год"]
[null,null,null,"Утверждено","Факт","Утверждено","Ожидаемые","По данным организации","По данным экспертов","По данным организации","По данным экспертов","По данным организации","По данным экспертов","По данным организации","По данным экспертов","По данным организации","По данным экспертов","Факт по данным экспертов"]
[1,2,3,4,5,6,7,8,9,10,11,12,13,14,15,16,17,18]
["1.","Сумма выплат и иных вознаграждений, начисленных в пользу физических лиц, в соответствии со статьей 420 НК РФ","тыс. руб.","х","х","х",{"$f":"G10+G11","v":1500.462929},{"$f":"H10+H11","v":1814.9689500000004},0,1868.6920309200004,0,1924.0053150352326,0,1980.9558723602756,0,2039.5921661821401,0,"х"]
["1.1.","Расходы из фонда оплаты труда","тыс. руб.","х","х","х",{"$f":"'П.1.16. оплата труда ОПР'!H32","v":1458.742929},{"$f":"'Подконтрольные расходы'!N17","v":1771.6635900000003},{"$f":"'Подконтрольные расходы'!Q17","v":0},{"$f":"'Подконтрольные расходы'!R17","v":1824.1048322640004},{"$f":"'Подконтрольные расходы'!S17","v":0},{"$f":"'Подконтрольные расходы'!T17","v":1878.0983352990149},{"$f":"'Подконтрольные расходы'!U17","v":0},{"$f":"'Подконтрольные расходы'!V17","v":1933.690046023866},{"$f":"'Подконтрольные расходы'!W17","v":0},{"$f":"'Подконтрольные расходы'!X17","v":1990.9272713861726},{"$f":"'Подконтрольные расходы'!Y17","v":0},"х"]
["1.2.","Расходы по коллективным договорам","тыс. руб.","х","х","х",{"$f":"'Расходы по кол дог'!G29","v":41.72},{"$f":"'Подконтрольные расходы'!N23","v":43.30536},{"$f":"'Подконтрольные расходы'!Q23","v":0},{"$f":"'Подконтрольные расходы'!R23","v":44.587198656000005},{"$f":"'Подконтрольные расходы'!S23","v":0},{"$f":"'Подконтрольные расходы'!T23","v":45.906979736217608},{"$f":"'Подконтрольные расходы'!U23","v":0},{"$f":"'Подконтрольные расходы'!V23","v":47.265826336409653},{"$f":"'Подконтрольные расходы'!W23","v":0},{"$f":"'Подконтрольные расходы'!X23","v":48.664894795967385},{"$f":"'Подконтрольные расходы'!Y23","v":0},"х"]
["2.","Суммы, не подлежащие обложению страховыми взносами, в соответствии со статьей 422 НК РФ","тыс. руб.","х","х","х",null,null,null,null,null,null,null,null,null,null,null,"х"]
["3.","Тарифы страховых взносов:","%","х","х","х","х","х","х","х","х","х","х","х","х","х","х","х"]
["3.1.","на обязательное пенсионное страхование","%","х","х",0.22,0.22,0.22,0.22,0.22,0.22,0.22,0.22,0.22,0.22,0.22,0.22,"х"]
["3.2.","на обязательное медицинское страхование ","%","х","х",5.0999999999999997E-2,5.0999999999999997E-2,5.0999999999999997E-2,5.0999999999999997E-2,5.0999999999999997E-2,5.0999999999999997E-2,5.0999999999999997E-2,5.0999999999999997E-2,5.0999999999999997E-2,5.0999999999999997E-2,5.0999999999999997E-2,5.0999999999999997E-2,"х"]
["3.3.","на обязательное социальное страхование на случай временной нетрудоспособности и в связи с материнством","%","х","х",2.9000000000000001E-2,2.9000000000000001E-2,2.9000000000000001E-2,2.9000000000000001E-2,2.9000000000000001E-2,2.9000000000000001E-2,2.9000000000000001E-2,2.9000000000000001E-2,2.9000000000000001E-2,2.9000000000000001E-2,2.9000000000000001E-2,2.9000000000000001E-2,"х"]
["3.4.","на обязательное страхование от несчастных случаев","%","х","х",8.9999999999999993E-3,8.9999999999999993E-3,8.9999999999999993E-3,null,8.9999999999999993E-3,null,8.9999999999999993E-3,null,8.9999999999999993E-3,null,8.9999999999999993E-3,null,"х"]
["4.","Расходы на страховые взносы:","тыс. руб.",302.29000000000002,{"$f":"'П.1.16. оплата труда ОПР'!F32*30.9%","v":432.16832700000003},313.04000000000002,{"$f":"G19+G20+G21+G22","v":463.64304506099995},560.82540555000014,0,577.42583755428006,0,594.51764234588688,0,612.11536455932514,0,630.23397935028129,0]
["4.1.","на обязательное пенсионное страхование","тыс. руб.","х",null,"х",{"$f":"(G9-G12)*G14","v":330.10184437999999},399.29316900000009,0,411.11224680240008,0,423.28116930775116,0,435.81029191926064,0,448.71027656007084,0]
["4.2.","на обязательное медицинское страхование ","тыс. руб.","х",null,"х",{"$f":"(G9-G12)*G15","v":76.523609378999993},92.56341645000002,0,95.303293576920012,0,98.124271066796851,0,101.02874949037405,0,104.01920047528914,0]
["4.3.","на обязательное социальное страхование на случай временной нетрудоспособности и в связи с материнством","тыс. руб.","х",null,"х",{"$f":"(G9-G12)*G16","v":43.513424941000004},52.634099550000016,0,54.192068896680013,0,55.796154136021748,0,57.447720298447997,0,59.148172819282067,0]
["4.4.","на обязательное страхование от несчастных случаев","тыс. руб.","х",null,"х",{"$f":"(G9-G12)*G17","v":13.504166360999999},16.334720550000004,0,16.818228278280003,0,17.316047835317093,0,17.828602851242479,0,18.356329495639258,0]
[]
[null,"Руководитель организации",null,null,{"$f":"'Инф-я'!$C$21","v":"Чижов Олег Александрович"}]
[]
[]
[]
[]
[]
[]
["№ п./п.","Показатели","По расчету Общества"]
[1,2,3]
["1.","Расходы на оплату труда, включаемые в базу для начисления страховых взносов",{"$f":"H9","v":1814.9689500000004}]
["2.","Выплаты работникам по коллективному договору - всего. в т. ч.",0]
["3.","суммы, не подлежащие обложению страховыми взносами в соответствии со ст. 9 закона от 24.07.2009 г. № 212-ФЗ",0]
["4.","Итого база страховых взносов  (п.1+п.2-п.3)",{"$f":"C33+C34","v":1814.9689500000004}]
["5.","Отчисления во внебюджетные фонды ",{"$f":"C36*C38/100","v":551.75056080000013}]
["6.","Процент отчислений (%)",30.4]

{"sheet":"Расходы рег. орг-ий","index":20,"n_rows":25,"n_cols":16,"rows_kept":25,"cut":false,"hidden":true,"merged":[[12,0,12,15],[16,0,16,15],[21,0,21,15],[24,3,24,4],[1,0,1,6],[3,0,3,6],[6,0,7,0],[6,1,6,2],[6,3,6,4],[6,5,6,6],[6,7,6,8],[6,9,6,10],[6,11,6,12],[6,13,6,14]]}
[]
["Расходы на оплату услуг организаций, осуществляющих регулируемые виды деятельности"]
[]
[{"$f":"'Инф-я'!C13","v":"ООО \"МОНОСТРОЙ\""}]
[]
[null,null,null,null,null,null,null,null,null,null,null,null,null,"тыс. руб."]
["Наименование","2018 год",null,"2019 год",null,"2020 год",null,"2021 год",null,"2022 год",null,"2023 год",null,"2024 год",null,"2018 год"]
[null,"Утверждено","Факт","Утверждено","Ожидаемые","По данным организации","По данным экспертов","По данным организации","По данным экспертов","По данным организации","По данным экспертов","По данным организации","По данным экспертов","По данным организации","По данным экспертов","Факт по данным экспертов"]
[1,2,3,4,5,6,7,6,7,6,7,6,7,6,7,8]
["Тепловая энергия",null,{"$f":"SUM(C11:C12)","v":0},null,{"$f":"SUM(E11:E12)","v":0},0,0,{"$f":"SUM(H11:H12)","v":0},0,{"$f":"SUM(J11:J12)","v":0},0,{"$f":"SUM(L11:L12)","v":0},0,{"$f":"SUM(N11:N12)","v":0},0,0]
["договор  с _____ от_____№  __ на_________","х",null,"х"]
["договор  с _____ от_____№  __ на_________","х",null,"х"]
["Добавить"]
["Водоснабжение и канализация",null,{"$f":"SUM(C15:C16)","v":0},null,{"$f":"SUM(E15:E16)","v":0},0,0,{"$f":"SUM(H15:H16)","v":0},0,{"$f":"SUM(J15:J16)","v":0},0,{"$f":"SUM(L15:L16)","v":0},0,{"$f":"SUM(N15:N16)","v":0},0,0]
["договор  с _____ от_____№  __ на_________","х",null,"х"]
["договор  с _____ от_____№  __ на_________","х",null,"х"]
["Добавить"]
["Прочие услуги по регулируемым тарифам ",null,{"$f":"SUM(C19:C21)","v":0},null,{"$f":"SUM(E19:E21)","v":0},0,0,{"$f":"SUM(H19:H21)","v":0},0,{"$f":"SUM(J19:J21)","v":0},0,{"$f":"SUM(L19:L21)","v":0},0,{"$f":"SUM(N19:N21)","v":0},0,0]
["договор  с _____ от_____№  __ на_________","х",null,"х"]
["договор  с _____ от_____№  __ на_________","х",null,"х"]
["договор  с _____ от_____№  __ на_________","х",null,"х"]
["Добавить"]
["Итого",{"$f":"B10+B14+B18","v":0},0,0,0,0,{"$f":"G10+G14+G18","v":0},{"$f":"H10+H14+H18","v":0},{"$f":"I10+I14+I18","v":0},{"$f":"J10+J14+J18","v":0},{"$f":"K10+K14+K18","v":0},{"$f":"L10+L14+L18","v":0},{"$f":"M10+M14+M18","v":0},{"$f":"N10+N14+N18","v":0},{"$f":"O10+O14+O18","v":0},{"$f":"P10+P14+P18","v":0}]
[]
["Руководитель организации",null,null,{"$f":"'Инф-я'!C21","v":"Чижов Олег Александрович"}]

{"sheet":"Аренда имущества","index":21,"n_rows":40,"n_cols":30,"rows_kept":40,"cut":false,"hidden":true,"merged":[[14,0,14,29],[20,0,20,29],[24,0,24,29],[31,0,31,29],[39,3,39,5],[5,29,8,29],[6,5,6,12],[6,13,6,20],[7,5,8,5],[7,6,8,6],[7,7,7,12],[7,13,8,13],[7,14,8,14],[7,15,7,20],[5,21,7,22],[5,23,7,24],[5,25,7,26],[5,27,7,28],[5,0,8,0],[5,1,7,2],[5,3,7,4],[5,5,5,20],[1,0,1,27],[3,0,3,27]]}
[]
["Расходы по аренде имущества в части амортизации и налогов, относимых к арендуемому имуществу"]
[]
[{"$f":"'Инф-я'!C13","v":"ООО \"МОНОСТРОЙ\""}]
[]
["Наименование","2018 год",null,"2019 год",null,"2020 год",null,null,null,null,null,null,null,null,null,null,null,null,null,null,null,"2021 год",null,"2022 год",null,"2023 год",null,"2024 год",null,"2018 год Факт по данным экспертов"]
[null,null,null,null,null,"По данным организации",null,null,null,null,null,null,null,"По расчету экспертов"]
[null,null,null,null,null,"Сумма арендной платы для включения в тариф","Стоимость арендной платы по договору","Стоимость арендной платы в соответствии с требованиями п. 28 Основ ценообразования",null,null,null,null,null,"Сумма арендной платы для включения в тариф","Стоимость арендной платы по договору","Стоимость арендной платы расчитанной в соответствии с требованиями п. 28 Основ ценообразования"]
[null,"Утверждено","Факт","Утверждено","Ожидаемые",null,null,"Всего","амортизационные отчисления","налог на имущество","транспортный налог","плата за землю","иные обязательные платежи предусмотренные законодательством, связанные с арендуемым имуществом",null,null,"Всего","амортизационные отчисления","налог на имущество","транспортный налог","плата за землю","иные обязательные платежи предусмотренные законодательством, связанные с арендуемым имуществом","По данным организации","По данным экспертов","По данным организации","По данным экспертов","По данным организации","По данным экспертов","По данным организации","По данным экспертов"]
[1,2,3,4,5,6,7,8,9,10,11,12,13,14,15,16,17,18,19,20,21,22,23,24,25,26,27,28,29,30]
["Аренда объектов электросетевого хозяйства",{"$f":"SUM(B12:B14)","v":0},{"$f":"SUM(C12:C14)","v":0},0,0,0,0,0,0,0,0,0,0,{"$f":"SUM(N12:N14)","v":0},{"$f":"SUM(O12:O14)","v":0},0,0,0,0,0,0,0,0,{"$f":"SUM(X12:X14)","v":0},0,{"$f":"SUM(Z12:Z14)","v":0},0,{"$f":"SUM(AB12:AB14)","v":0},0,0]
["договор  с _____ от_____№  __ ",null,null,null,null,{"$f":"MIN(G12,H12)","v":0},null,{"$f":"I12+J12+K12+L12+M12","v":0},null,null,null,null,null,{"$f":"MIN(O12,P12)","v":0},null,{"$f":"Q12+R12+S12+T12+U12","v":0}]
["договор  с _____ от_____№  __ ",null,null,null,null,0,null,0,null,null,null,null,null,0,null,0]
["договор  с _____ от_____№  __ ",null,null,null,null,0,null,0,null,null,null,null,null,0,null,0]
["Добавить "]
["Аренда зданий, соружений, помещений, основных средств",{"$f":"SUM(B17:B20)","v":0},{"$f":"SUM(C17:C20)","v":0},0,0,0,0,0,0,0,0,0,0,{"$f":"SUM(N17:N20)","v":0},{"$f":"SUM(O17:O20)","v":0},0,0,0,0,0,0,0,0,{"$f":"SUM(X17:X20)","v":0},0,{"$f":"SUM(Z17:Z20)","v":0},0,{"$f":"SUM(AB17:AB20)","v":0},0,0]
["договор  с _____ от_____№  __ ",null,null,null,null,{"$f":"MIN(G17,H17)","v":0},null,{"$f":"I17+J17+K17+L17+M17","v":0},null,null,null,null,null,{"$f":"MIN(O17,P17)","v":0},null,{"$f":"Q17+R17+S17+T17+U17","v":0}]
["договор  с _____ от_____№  __ ",null,null,null,null,0,null,0,null,null,null,null,null,0,null,0]
["договор  с _____ от_____№  __ ",null,null,null,null,0,null,0,null,null,null,null,null,0,null,0]
["договор  с _____ от_____№  __ ",null,null,null,null,0,null,0,null,null,null,null,null,0,null,0]
["Добавить"]
["Аренда транспортных средств",{"$f":"SUM(B23:B24)","v":0},{"$f":"SUM(C23:C24)","v":0},0,0,0,0,0,0,0,0,0,0,{"$f":"SUM(N23:N24)","v":0},{"$f":"SUM(O23:O24)","v":0},0,0,0,0,0,0,0,0,{"$f":"SUM(X23:X24)","v":0},0,{"$f":"SUM(Z23:Z24)","v":0},0,{"$f":"SUM(AB23:AB24)","v":0},0,0]
["договор  с _____ от_____№  __ ",null,null,null,null,{"$f":"MIN(G23,H23)","v":0},null,{"$f":"I23+J23+K23+L23+M23","v":0},null,null,null,null,null,{"$f":"MIN(O23,P23)","v":0},null,{"$f":"Q23+R23+S23+T23+U23","v":0}]
["договор  с _____ от_____№  __ ",null,null,null,null,{"$f":"MIN(G24,H24)","v":0},null,{"$f":"I24+J24+K24+L24+M24","v":0},null,null,null,null,null,{"$f":"MIN(O24,P24)","v":0},null,{"$f":"Q24+R24+S24+T24+U24","v":0}]
["Добавить"]
["Лизинг",{"$f":"SUM(B27:B31)","v":0},{"$f":"SUM(C27:C31)","v":0},0,0,0,"х","х","х","х","х","х","х",{"$f":"SUM(N27:N31)","v":0},"х","х","х","х","х","х","х",{"$f":"SUM(V27:V31)","v":0},0,{"$f":"SUM(X27:X31)","v":0},0,{"$f":"SUM(Z27:Z31)","v":0},0,{"$f":"SUM(AB27:AB31)","v":0},0,{"$f":"SUM(AD27:AD31)","v":0}]
["объектов электросетевого хозяйства договор  с _____ от_____№  __ ",null,null,null,null,null,"х","х","х","х","х","х","х",null,"х","х","х","х","х","х","х"]
["иного имущества договор  с _____ от_____№  __ ",null,null,null,null,null,"х","х","х","х","х","х","х",null,"х","х","х","х","х","х","х"]
["договор  с _____ от_____№  __ ",null,null,null,null,null,"х","х","х","х","х","х","х",null,"х","х","х","х","х","х","х"]
["договор  с _____ от_____№  __ ",null,null,null,null,null,"х","х","х","х","х","х","х",null,"х","х","х","х","х","х","х"]
["договор  с _____ от_____№  __ ",null,null,null,null,null,"х","х","х","х","х","х","х",null,"х","х","х","х","х","х","х"]
["Добавить"]
["ИТОГО расходы по аренде имущества, всего в том числе",{"$f":"B11+B16+B22+B26","v":0},{"$f":"C11+C16+C22+C26","v":0},{"$f":"D11+D16+D22+D26","v":0},{"$f":"E11+E16+E22+E26","v":0},{"$f":"F11+F16+F22+F26","v":0},{"$f":"G11+G16+G22","v":0},{"$f":"H11+H16+H22","v":0},0,0,0,0,0,{"$f":"N11+N16+N22+N26","v":0},{"$f":"O11+O16+O22","v":0},{"$f":"P11+P16+P22","v":0},0,0,0,0,0,{"$f":"V11+V16+V22+V26","v":0},0,0,0,0,0,0,0,0]
["в т.ч. по уровням напряжения:  ВН","х","х",null,"х",null,"х","х","х","х","х","х","х",null,"х","х","х","х","х","х","х",null,"х",null,"х",null,"х",null,"х"]
["СН1","х","х",null,"х",null,"х","х","х","х","х","х","х",null,"х","х","х","х","х","х","х",null,"х",null,"х",null,"х",null,"х"]
["СН2","х","х",null,"х",null,"х","х","х","х","х","х","х",null,"х","х","х","х","х","х","х",null,"х",null,"х",null,"х",null,"х"]
["НН","х","х",null,"х",null,"х","х","х","х","х","х","х",null,"х","х","х","х","х","х","х",null,"х",null,"х",null,"х",null,"х"]
["Для проверки прибыли на капитальные вложения (аренда и лизинг  объектов электросетевого хозяйства)",{"$f":"B11+B27","v":0},{"$f":"C11+C27","v":0},{"$f":"D11+D27","v":0},{"$f":"E11+E27","v":0},{"$f":"F11+F27","v":0},"х","х","х","х","х","х","х",{"$f":"N11+N27","v":0},"х","х","х","х","х","х","х",{"$f":"V11+V27","v":0},0,0,0,0,0,0,0,0]
[]
["Руководитель организации",null,null,{"$f":"'Инф-я'!$C$21","v":"Чижов Олег Александрович"}]

{"sheet":"Плата за землю","index":22,"n_rows":20,"n_cols":16,"rows_kept":20,"cut":false,"hidden":true,"merged":[[1,0,1,13],[3,0,3,13],[16,0,16,15],[19,0,19,1],[19,3,19,5],[5,0,6,0],[5,1,5,2],[5,3,5,4],[5,5,5,6],[5,7,5,8],[5,9,5,10],[5,11,5,12],[5,13,5,14]]}
[]
["Плата за землю "]
[]
[{"$f":"'Инф-я'!C13","v":"ООО \"МОНОСТРОЙ\""}]
[null,null,null,null,null,null,null,null,null,null,null,null,null,null,"тыс. руб."]
["Наименование","2018 год",null,"2019 год",null,"2020 год",null,"2021 год",null,"2022 год",null,"2023 год",null,"2024 год",null,"2018 год"]
[null,"Утверждено","Факт","Утверждено","Ожидаемые","По данным организации","По данным экспертов","По данным организации","По данным экспертов","По данным организации","По данным экспертов","По данным организации","По данным экспертов","По данным организации","По данным экспертов","Факт по данным экспертов"]
[1,2,3,4,5,6,7,8,9,10,11,12,13,14,15,16]
["Земельный налог"]
[]
["Арендная плата за землю",null,{"$f":"SUM(C12:C16)","v":0},null,{"$f":"SUM(E12:E16)","v":0},0,0,0,0,0,0,0,0,0,0,0]
["договор № ___ от ____","x",null,"x"]
["договор № ___ от ____","x",null,"x"]
["договор № ___ от ____","x",null,"x"]
["договор № ___ от ____","x",null,"x"]
["договор № ___ от ____","x",null,"x"]
["Добавить"]
["Всего плата за землю",{"$f":"B9+B11","v":0},0,0,0,0,0,{"$f":"H9+H11","v":0},0,{"$f":"J9+J11","v":0},0,{"$f":"L9+L11","v":0},0,{"$f":"N9+N11","v":0},0,0]
[]
["Руководитель организации",null,null,{"$f":"'Инф-я'!$C$21","v":"Чижов Олег Александрович"}]

{"sheet":"Транспортный налог","index":23,"n_rows":19,"n_cols":20,"rows_kept":19,"cut":false,"hidden":true,"merged":[[1,0,1,17],[3,0,3,17],[5,15,6,16],[5,17,6,18],[6,19,7,19],[14,0,14,19],[18,0,18,1],[18,3,18,6],[5,11,6,12],[5,13,6,14],[5,0,7,0],[5,1,7,1],[5,2,7,2],[5,3,6,4],[5,5,6,6],[5,7,5,10],[6,7,6,8],[6,9,6,10]]}
[]
["Расчет транспортного налога "]
[]
[{"$f":"'Инф-я'!C13","v":"ООО \"МОНОСТРОЙ\""}]
[null,null,null,null,null,null,null,null,"тыс. руб."]
["Объект налогообложения (вид и марка транспортного средства)","Налоговая база, (л.с.)","Налоговая ставка, руб.","2018 год",null,"2019 год",null,"2020 год",null,null,null,"2021 год",null,"2022 год",null,"2023 год",null,"2024 год",null,"2018 год"]
[null,null,null,null,null,null,null,"По расчету организации",null,"По расчету экспертов",null,null,null,null,null,null,null,null,null,"Факт по данным экспертов"]
[null,null,null,"Утверждено","Факт","Утверждено","Ожидаемые","Коэф. использ.","Годовая сумма налога,  тыс.руб.","Коэф. использ.","Годовая сумма налога, тыс. руб.","По данным организации","По данным экспертов","По данным организации","По данным экспертов","По данным организации","По данным экспертов","По данным организации","По данным экспертов"]
[1,2,3,4,5,6,7,8,9,10,11,12,13,14,15,16,17,18,19,20]
[null,null,null,"х",null,"х",null,null,{"$f":"B10*C10*H10/1000","v":0},null,{"$f":"B10*C10*J10/1000","v":0}]
[null,null,null,"х",null,"х",null,null,{"$f":"B11*C11*H11/1000","v":0},null,{"$f":"B11*C11*J11/1000","v":0}]
[null,null,null,"х",null,"х",null,null,0,null,0]
[null,null,null,"х",null,"х",null,null,0,null,0]
[null,null,null,"х",null,"х",null,null,0,null,0]
["Добавить"]
["Транспортный налог всего, в т.ч.","х","х",null,{"$f":"SUM(E10:E14)","v":0},null,{"$f":"SUM(G10:G14)","v":0},"х",{"$f":"SUM(I10:I14)","v":0},"х",{"$f":"SUM(K10:K14)","v":0},0,0,0,0,0,0,0,0,0]
[" относимый на услугу по передаче электрической энергии","х","х",null,null,null,null,"х",null,"х"]
["* Условное форматирование: если в ячейке не указано значение - форматируется красным цветом"]
["Руководитель организации",null,null,{"$f":"'Инф-я'!$C$21","v":"Чижов Олег Александрович"}]

{"sheet":"Налог на имущество","index":24,"n_rows":19,"n_cols":16,"rows_kept":19,"cut":false,"hidden":false,"merged":[[1,0,1,13],[3,0,3,13],[5,7,5,8],[5,9,5,10],[5,11,5,12],[5,13,5,14],[16,0,16,1],[16,3,16,5],[5,0,6,0],[5,1,5,2],[5,3,5,4],[5,5,5,6]]}
[]
["Налог на имущество"]
[]
[{"$f":"'Инф-я'!C13","v":"ООО \"МОНОСТРОЙ\""}]
[null,null,null,null,null,null,null,null,null,null,null,null,null,"тыс. руб."]
["Наименование","2018 год",null,"2019 год",null,"2020 год",null,"2021 год",null,"2022 год",null,"2023 год",null,"2024 год",null,"2018 год"]
[null,"Утверждено","Факт","Утверждено","Ожидаемые","По данным организации","По данным экспертов","По данным организации","По данным экспертов","По данным организации","По данным экспертов","По данным организации","По данным экспертов","По данным организации","По данным экспертов","Факт по данным экспертов"]
[1,2,3,4,5,6,7,6,7,6,7,6,7,6,7,8]
["Среднегодовая остаточная стоимость основных средств, всего, в том числе:","х",{"$f":"C10+C12+C11","v":3947.87853},"х",{"$f":"E10+E11","v":3798.9020099999998},3649.92545875,0,3500.9489699999995,0,3351.9724499999993,0,3202.9959299999991,0,3054.019409999999,0,{"$f":"P10+P12+P11","v":0}]
["-облагаемых по ставке 2,2 %","х",3947.87853,"х",{"$f":"((4469.29635-595.90608)+(4469.29635-595.90608-148.97652))/2","v":3798.9020099999998},{"$f":"'Расчет аморт. max срок '!V65/1000+'Ввод выбытие ОС  '!K15-'Ввод выбытие ОС  '!K30","v":3649.92545875},null,{"$f":"((4469.29635-595.90608-148.97652-148.97652)+(4469.29635-595.90608-148.97652-148.97652-148.97652))/2","v":3500.9489699999995},null,{"$f":"((4469.29635-595.90608-148.97652-148.97652-148.97652)+(4469.29635-595.90608-148.97652-148.97652-148.97652-148.97652))/2","v":3351.9724499999993},null,{"$f":"((4469.29635-595.90608-148.97652-148.97652-148.97652-148.97652)+(4469.29635-595.90608-148.97652-148.97652-148.97652-148.97652-148.97652))/2","v":3202.9959299999991},null,{"$f":"((4469.29635-595.90608-148.97652-148.97652-148.97652-148.97652-148.97652)+(4469.29635-595.90608-148.97652-148.97652-148.97652-148.97652-148.97652-148.97652))/2","v":3054.019409999999}]
["- необлагаемых (движимое имущество)","х",null,"х",null,{"$f":"'Расчет аморт. max срок '!W65/1000","v":0}]
["-облагаемых по льготной ставке ","х",null,"х","х","х","х","х","х","х","х","х","х","х","х"]
["Льготная ставка налога ","х",1.9E-2,"х","х","х","х","х","х","х","х","х","х","х","х",1.9E-2]
["Налог на имущество",86.8,{"$f":"C10*2.2%+C12*C13","v":86.853327660000005},100.55,{"$f":"E10*2.2%","v":83.575844220000008},80.298360092500005,0,77.020877339999998,0,73.743393899999987,0,70.465910459999989,0,67.188427019999978,0,{"$f":"P10*2.2%+P12*P13","v":0}]
["Налог на имущество, относимый на услугу по передаче электрической энергии",{"$f":"B14","v":86.8},{"$f":"C14","v":86.853327660000005},{"$f":"D14","v":100.55},{"$f":"E14","v":83.575844220000008},{"$f":"F14","v":80.298360092500005},null,{"$f":"H14","v":77.020877339999998},null,{"$f":"J14","v":73.743393899999987},null,{"$f":"L14","v":70.465910459999989},null,{"$f":"N14","v":67.188427019999978}]
[]
["Руководитель организации",null,null,{"$f":"'Инф-я'!$C$21","v":"Чижов Олег Александрович"}]
[]
[null,null,null,null,null,{"$f":"((4469.29635-595.90608-148.97652)+(4469.29635-595.90608-148.97652-148.97652))/2","v":3649.9254899999996}]

{"sheet":"Налог на прибыль","index":25,"n_rows":24,"n_cols":16,"rows_kept":24,"cut":false,"hidden":true,"merged":[[23,0,23,6],[19,0,19,1],[21,0,21,1],[5,0,6,0],[5,1,6,1],[5,2,5,3],[5,5,5,6],[21,3,21,4],[5,7,5,8],[5,9,5,10],[5,11,5,12],[5,13,5,14],[1,1,1,13],[3,1,3,13]]}
[]
[null,"Налог на прибыль от услуги по передаче электрической энергии и осуществления технологического присоединения к электрическим сетям"]
[]
[null,{"$f":"'Инф-я'!C13","v":"ООО \"МОНОСТРОЙ\""}]
[null,null,null,null,null,null,null,null,null,null,null,null,null,"тыс. руб."]
["№ п/п","Наименование","2018 год",null,"2019 год","2020 год",null,"2021 год",null,"2022 год",null,"2023 год",null,"2024 год",null,"2018 год"]
[null,null,"Утверждено","Факт","Утверждено","По данным организации","По данным экспертов","По данным организации","По данным экспертов","По данным организации","По данным экспертов","По данным организации","По данным экспертов","По данным организации","По данным экспертов","Факт по данным экспертов"]
[1,2,3,4,5,6,7,6,7,6,7,6,7,6,7,8]
[1,"Прибыль до налогообложения","х",{"$f":"D10+D12+D11","v":0},"х","х","х","х","х","х","х","х","х","х","х",{"$f":"P10+P12+P11","v":0}]
["1.1.","от услуги по передаче электроэнергии","х",null,"х","х","х","х","х","х","х","х","х","х","х"]
["1.2.","от технологического присоединения","х",null,"х","х","х","х","х","х","х","х","х","х","х"]
["1.3.","от прочих услуг","х",null,"х","х","х","х","х","х","х","х","х","х","х"]
["2.","Постоянные налоговые обязательства, относящиеся к передаче электроэнергии и технологическому присоединению","х",null,"х","х","х","х","х","х","х","х","х","х","х"]
["3.","Изменение отложенных налоговых обязательств, относящиеся к передаче электроэнергии и технологическому присоединению","х",null,"х","х","х","х","х","х","х","х","х","х","х"]
["4.","Изменение отложенных налоговых активов, относящиеся к передаче электроэнергии и технологическому присоединению","х",null,"х","х","х","х","х","х","х","х","х","х","х"]
["5.","Налог на прибыль по декларации, в том числе по видам деятельности:","х",{"$f":"D17+D18+D19","v":0},"х","х","х","х","х","х","х","х","х","х","х",{"$f":"P17+P18+P19","v":0}]
["5.1.","передача электроэнергии","х",null,"х","х","х","х","х","х","х","х","х","х","х"]
["5.2.","технологическое присоединение","х",null,"х","х","х","х","х","х","х","х","х","х","х"]
["5.3.","прочие услуги","х",null,"х","х","х","х","х","х","х","х","х","х","х"]
["Итого налог на прибыль от услуги по передаче и от технологического присоединения (п.5.1.+п.5.2)",null,null,{"$f":"D17+D18","v":0},null,{"$f":"D20","v":0},{"$f":"P20","v":0},{"$f":"F20","v":0},{"$f":"$G$20","v":0},{"$f":"H20","v":0},{"$f":"$G$20","v":0},{"$f":"J20","v":0},{"$f":"$G$20","v":0},{"$f":"L20","v":0},{"$f":"$G$20","v":0},{"$f":"P17+P18","v":0}]
[]
["Руководитель организации",null,null,{"$f":"'Инф-я'!$C$21","v":"Чижов Олег Александрович"}]
[]
["Постановлением Правительства РФ от 11 июня 2014 года № 542 внесены изменения в п. 20 Основ ценообразования в области регулируемых цен (тарифов) в электроэнергетике, утвержденных постановлением Правительства РФ от 29 декабря 2011 г. № 1178 в части определения налога на прибыль:\n«В необходимую валовую выручку включается величина налога на прибыль организаций по регулируемому виду деятельности, сформированная по данным бухгалтерского учета за последний истекший период.\nПри установлении тарифов на услуги по передаче электрической энергии учитывается величина налога на прибыль организаций, которая относится по данным раздельного учета к деятельности по оказанию услуг по передаче электрической энергии и осуществлению технологического присоединения к электрическим сетям»."]

{"sheet":"Негативное возд. на окр. среду ","index":26,"n_rows":60,"n_cols":17,"rows_kept":60,"cut":false,"hidden":true,"merged":[[1,1,1,14],[3,1,3,14],[28,0,28,1],[30,1,30,2],[30,4,30,6],[5,0,6,0],[5,1,6,1],[5,2,5,3],[5,4,5,5],[5,6,5,7],[5,8,5,9],[5,10,5,11],[5,12,5,13],[5,14,5,15],[27,0,27,1]]}
[]
[null,"Расчет платы за негативное воздействие на окружающую среду"]
[]
[null,{"$f":"'Инф-я'!C13","v":"ООО \"МОНОСТРОЙ\""}]
[null,null,null,null,null,null,null,null,null,null,null,null,null,null,"тыс. руб."]
["№ п./п.","Наименование","2018 год",null,"2019 год",null,"2020 год",null,"2021 год",null,"2022 год",null,"2023 год",null,"2024 год",null,"2018 год"]
[null,null,"Утверждено","Факт","Утверждено","Ожидаемые","По данным организации","По данным экспертов","По данным организации","По данным экспертов","По данным организации","По данным экспертов","По данным организации","По данным экспертов","По данным организации","По данным экспертов","Факт по данным экспертов"]
[1,2,3,4,5,6,7,null,8,null,9,null,10,null,11]
["1.","Плата за выбросы загрязняющих веществ в атмосферный воздух стационарными объектами, исчисленная без учета корректировки, в том числе:","x",{"$f":"SUM(D10:D12)","v":0},"x","x",{"$f":"SUM(G10:G12)","v":0},{"$f":"SUM(H10:H12)","v":0},{"$f":"SUM(I10:I12)","v":0},{"$f":"SUM(J10:J12)","v":0},{"$f":"SUM(K10:K12)","v":0},0,{"$f":"SUM(M10:M12)","v":0},{"$f":"SUM(N10:N12)","v":0},{"$f":"SUM(O10:O12)","v":0},0,0]
["1.1.","плата за выбросы в пределах предельно-допустимых выбросов (ПДВ) ","x",null,"x","x"]
["1.2.","плата за выбросы в пределах лимитов на выбросы загрязняющих веществ (временно согласованные выбросы ВСВ)","x",null,"x","x"]
["1.3.","плата за выбросы, превышающие установленные разрешениями на выброс загрязняющих веществ в атмосферный воздух ","x",null,"x","x"]
["2.","Плата за сбросы загрязняющих веществ в водные объекты  ","x",{"$f":"SUM(D14:D16)","v":0},"x","x",{"$f":"SUM(G14:G16)","v":0},{"$f":"SUM(H14:H16)","v":0},{"$f":"SUM(I14:I16)","v":0},{"$f":"SUM(J14:J16)","v":0},{"$f":"SUM(K14:K16)","v":0},0,{"$f":"SUM(M14:M16)","v":0},{"$f":"SUM(N14:N16)","v":0},{"$f":"SUM(O14:O16)","v":0},0,0]
["2.1.","плата за сбросы в пределах нормативов допустимых сбросов (НДС)","x",null,"x","x"]
["2.2.","плата за сбросы в пределах лимитов на сбросы загрязняющих веществ (временно согласованный сбор ВСС)","x",null,"x","x"]
["2.3.","плата за сбросы, превышающие установленные разрешениями  на сброс загрязняющих веществ (сверх лимита на сбросы)","x",null,"x","x"]
["3.","Плата за размещение отходов производства и потребления, исчисленная без учета корректировки, в том числе:","x",{"$f":"SUM(D18:D19)","v":0},"x","x",{"$f":"SUM(G18:G19)","v":0},{"$f":"SUM(H18:H19)","v":0},{"$f":"SUM(I18:I19)","v":0},{"$f":"SUM(J18:J19)","v":0},{"$f":"SUM(K18:K19)","v":0},0,{"$f":"SUM(M18:M19)","v":0},{"$f":"SUM(N18:N19)","v":0},{"$f":"SUM(O18:O19)","v":0},0,0]
["3.1.","плата за размещение отходов в пределах установленного лимита на их размещение  ","x",null,"x","x"]
["3.2.","плата за размещение отходов сверх установленного лимита на их размещение","x",null,"x","x"]
["4.","Сумма средств на выполнение мероприятий по снижению негативного воздействия на окружающую среду, всего (п.4.1.+п.4.2.+п.4.3.), в том числе","x",{"$f":"D21+D23+D25","v":0},"x","x",{"$f":"G21+G23+G25","v":0},{"$f":"H21+H23+H25","v":0},{"$f":"I21+I23+I25","v":0},{"$f":"J21+J23+J25","v":0},{"$f":"K21+K23+K25","v":0},0,{"$f":"M21+M23+M25","v":0},{"$f":"N21+N23+N25","v":0},{"$f":"O21+O23+O25","v":0},0,0]
["4.1.","платы за выбросы","x",null,"x","x"]
["4.1.1.","средства, уменьшающие плату за выбросы в части предельно допустимых выбросов","x",{"$f":"IF(D9=0,0,D21*((D10+D11)/D9))","v":0},"x","x",{"$f":"IF(G9=0,0,G21*((G10+G11)/G9))","v":0},{"$f":"IF(H9=0,0,H21*((H10+H11)/H9))","v":0},{"$f":"IF(I9=0,0,I21*((I10+I11)/I9))","v":0},{"$f":"IF(J9=0,0,J21*((J10+J11)/J9))","v":0},{"$f":"IF(K9=0,0,K21*((K10+K11)/K9))","v":0},0,{"$f":"IF(M9=0,0,M21*((M10+M11)/M9))","v":0},{"$f":"IF(N9=0,0,N21*((N10+N11)/N9))","v":0},{"$f":"IF(O9=0,0,O21*((O10+O11)/O9))","v":0},0,0]
["4.2.","платы за сбросы","x",null,"x","x"]
["4.2.1.","средства, уменьшающие плату за сбросы в части нормативов сбросов","x",{"$f":"IF(D13=0,0,D23*((D14+D15)/D13))","v":0},"x","x",{"$f":"IF(G13=0,0,G23*((G14+G15)/G13))","v":0},{"$f":"IF(H13=0,0,H23*((H14+H15)/H13))","v":0},{"$f":"IF(I13=0,0,I23*((I14+I15)/I13))","v":0},{"$f":"IF(J13=0,0,J23*((J14+J15)/J13))","v":0},{"$f":"IF(K13=0,0,K23*((K14+K15)/K13))","v":0},0,{"$f":"IF(M13=0,0,M23*((M14+M15)/M13))","v":0},{"$f":"IF(N13=0,0,N23*((N14+N15)/N13))","v":0},{"$f":"IF(O13=0,0,O23*((O14+O15)/O13))","v":0},0,0]
["4.3.","платы за размещение отходов","x",null,"x","x"]
["4.3.1.","средства, уменьшающие плату за размещение отходов в части лимита","x",{"$f":"IF(D17=0,0,D25*(D18/D17))","v":0},"x","x",{"$f":"IF(G17=0,0,G25*(G18/G17))","v":0},{"$f":"IF(H17=0,0,H25*(H18/H17))","v":0},{"$f":"IF(I17=0,0,I25*(I18/I17))","v":0},{"$f":"IF(J17=0,0,J25*(J18/J17))","v":0},{"$f":"IF(K17=0,0,K25*(K18/K17))","v":0},0,{"$f":"IF(M17=0,0,M25*(M18/M17))","v":0},{"$f":"IF(N17=0,0,N25*(N18/N17))","v":0},{"$f":"IF(O17=0,0,O25*(O18/O17))","v":0},0,0]
["5.","Сумма платы, подлежащей внесению в бюджет, всего (п.1+п.2+п.3-п.4), в том числе","x",{"$f":"D9+D13+D17-D20","v":0},"x","x",{"$f":"G9+G13+G17-G20","v":0},{"$f":"H9+H13+H17-H20","v":0},{"$f":"I9+I13+I17-I20","v":0},{"$f":"J9+J13+J17-J20","v":0},{"$f":"K9+K13+K17-K20","v":0},0,{"$f":"M9+M13+M17-M20","v":0},{"$f":"N9+N13+N17-N20","v":0},{"$f":"O9+O13+O17-O20","v":0},0,0]
["Плата за негативное воздействие на окружающую среду в пределах лимитов",null,null,{"$f":"D10+D11-D22+D14+D15-D24+D18-D26","v":0},null,null,{"$f":"G10+G11-G22+G14+G15-G24+G18-G26","v":0},0,0,0,0,0,0,0,0,0,{"$f":"Q10+Q11-Q22+Q14+Q15-Q24+Q18-Q26","v":0}]
["Плата за негативное воздействие на окружающую среду, относимая на услугу по передаче электрической энергии"]
[]
[null,"Руководитель организации",null,null,{"$f":"'Инф-я'!$C$21","v":"Чижов Олег Александрович"}]
[]
[]
[]
[null,"Плата вносится раздельно по четырем компонентам окружающей среды: плата за выбросы, плата за выбросы ПНГ, плата за сбросы в водные объекты и плата за размещение отходов. Каждая по своему КБК (коду бюджетной классификации)"]
[null,"1. Плата за выбросы загрязняющих веществ в атмосферный воздух стационарными объектами, исчисленная без учета корректировки, в том числе:"]
[null,"1.1. плата за выбросы в пределах предельно-допустимых выбросов (ПДВ) "]
[null,"1.2. плата за выбросы в пределах лимитов на выбросы загрязняющих веществ (временно согласованные выбросы ВСВ)"]
[null,"1.3. плата за выбросы, превышающие установленные разрешениями на выброс загрязняющих веществ в атмосферный воздух "]
[null,"2. Плата за выбросы загрязняющих веществ при сжигании и (или) рассеивании попутного нефтяного газа"]
[null,"2.1. плата за выбросы ПНГ в пределах ПДВ"]
[null,"2.2. плата за выбросы ПНГ в пределах лимитов  на выбросы загрязняющих веществ (ВСВ)"]
[null,"2.3. плата за выбросы ПНГ сверх лимита на выбросы"]
[null,"3. Плата за сбросы загрязняющих веществ в водные объекты  "]
[null,"3.1. плата за сбросы в пределах НДС"]
[null,"3.2. плата за сбросы в пределах лимитов на сбросы загрязняющих веществ (ВСС)"]
[null,"3.3. плата за сбросы, превышающие установленные разрешениями  на сброс загрязняющих веществ (сверх лимита на сбросы)"]
[null,"4. Плата за размещение отходов производства и потребления, исчисленная без учета корректировки, в том числе:"]
[null,"4.1. плата за размещение отходов в пределах установленного лимита на их размещение  "]
[null,"4.2. плата за размещение отходов сверх установленного лимита на их размещение"]
[null,"5. Сумма средств на выполнение мероприятий по снижению негативного воздействия на окружающую среду, всего    "]
[null,"5.1. платы за выбросы "]
[null,"5.2. платы за выбросы ПНГ"]
[null,"5.3. платы за сбросы"]
[null,"5.4. платы за размещение отходов"]
[null,"Сумма платы, подлежащей внесению в бюджет, всего (п.1+п.2+п.3+п.4-п.5)"]
[]
[null,"НК, Статья 270. Расходы, не учитываемые в целях налогообложения"]
[null,"4) в виде суммы налога, а также суммы платежей за выбросы загрязняющих веществ в атмосферный воздух, сбросы загрязняющих веществ в составе сточных вод в водные объекты, "]
[null,"осуществляемые с превышением нормативов допустимых сбросов, за размещение отходов производства и потребления с превышением установленных лимитов на их размещение;"]

{"sheet":"Услуги ФСК","index":27,"n_rows":35,"n_cols":24,"rows_kept":35,"cut":false,"hidden":true,"merged":[[5,23,6,23],[18,0,18,1],[20,0,20,14],[4,0,6,0],[4,1,4,4],[4,5,4,8],[4,9,4,14],[5,2,5,4],[5,6,5,8],[5,9,5,11],[5,12,5,14],[5,16,6,16],[5,15,6,15],[18,3,18,6],[1,0,1,21],[2,0,2,21],[4,21,4,22],[5,21,6,21],[5,22,6,22],[4,15,4,16],[4,17,4,18],[5,17,6,17],[5,18,6,18],[4,19,4,20],[5,19,6,19],[5,20,6,20]]}
[]
["Оплата услуг ПАО \"ФСК ЕЭС\""]
[{"$f":"'Инф-я'!C13","v":"ООО \"МОНОСТРОЙ\""}]
[null,null,null,null,null,null,null,null,null,null,null,null,null,null,null,null,null,null,null,null,null,"тыс. руб."]
["Показатели","2018 год",null,null,null,"2019 год",null,null,null,"2020 год",null,null,null,null,null,"2021 год",null,"2022 год",null,"2023 год",null,"2024 год",null,"2018 год"]
[null,"Утверждено","Факт",null,null,"Утверждено","Ожидаемые",null,null,"По данным организации",null,null,"По данным экспертов",null,null,"По данным организации","По данным экспертов","По данным организации","По данным экспертов","По данным организации","По данным экспертов","По данным организации","По данным экспертов","Факт по данным экспертов"]
[null,"год","1 полугодие","2 полугодие","год","год","1 полугодие","2 полугодие","год","1 полугодие","2 полугодие","год","1 полугодие","2 полугодие","год",null,"По данным экспертов",null,"По данным экспертов",null,"По данным экспертов",null,"По данным экспертов"]
[1,2,3,4,5,6,7,8,9,10,11,12,13,14,15,16,17,18,19,20,21,22,23,24]
["Расходы на содержание сетей, тыс. руб.","х",{"$f":"O26","v":0},{"$f":"P26","v":0},{"$f":"D9+C9","v":0},"х",{"$f":"G10*G11*6/1000","v":0},{"$f":"H10*H11*6/1000","v":0},{"$f":"H9+G9","v":0},{"$f":"J10*J11*6/1000","v":0},{"$f":"K10*K11*6/1000","v":0},{"$f":"K9+J9","v":0},{"$f":"M10*M11*6/1000","v":0},{"$f":"N10*N11*6/1000","v":0},{"$f":"M9+N9","v":0},"х","х","х","х","х","х","х","х","х"]
["Заявленная мощность в точках присоединения к сетям ПАО \"ФСК ЕЭС\", МВт","х",{"$f":"B24","v":0},{"$f":"H24","v":0},"х","х",null,null,"х",null,null,"х",null,null,"х","х","х","х","х","х","х","х","х","х"]
["Ставка тарифа услуги по передаче электрической энергии на содержание объектов электросетевого хозяйства, входящих в ЕНЭС, руб. МВт/мес.","х",{"$f":"B25","v":0},{"$f":"H25","v":0},"х","х",null,null,"х",null,null,"х",null,null,"х","х","х","х","х","х","х","х","х","х"]
["Расходы на компенсацию потерь, тыс. руб.","х",{"$f":"C13*C16","v":{"$error":"#DIV/0!"}},{"$f":"D13*D16","v":{"$error":"#DIV/0!"}},{"$f":"D12+C12","v":{"$error":"#DIV/0!"}},"х",{"$f":"G13*G16","v":0},{"$f":"H13*H16","v":0},{"$f":"G12+H12","v":0},{"$f":"J13*J16","v":0},{"$f":"K13*K16","v":0},{"$f":"J12+K12","v":0},{"$f":"M13*M16","v":0},{"$f":"N13*N16","v":0},{"$f":"M12+N12","v":0},"х","х","х","х","х","х","х","х","х"]
["Объем технологических потерь электрической энергии при ее передаче по ЕНЭС, млн. кВт.ч","х",{"$f":"C14*C15%","v":0},{"$f":"D14*D15%","v":0},{"$f":"E14*E15%","v":0},"х",{"$f":"G14*G15%","v":0},0,0,0,0,0,0,0,0,"х","х","х","х","х","х","х","х","х"]
["Объем отпуска электроэнергии из сети ПАО \"ФСК ЕЭС\" в сеть организации, млн. кВт.ч","х",{"$f":"O28/1000","v":0},{"$f":"P28/1000","v":0},{"$f":"D14+C14","v":0},"х",null,null,{"$f":"H14+G14","v":0},null,null,{"$f":"K14+J14","v":0},null,null,{"$f":"N14+M14","v":0},"х","х","х","х","х","х","х","х","х"]
["Норматив технологических потерь электрической энергии при ее передаче по ЕНЭС, применяемый к отпуску электроэнергии из сети ПАО \"ФСК ЕЭС\", %","х",{"$f":"B29","v":4.25},{"$f":"B29","v":4.25},{"$f":"B29","v":4.25},"х",3.89,3.89,3.89,3.89,3.89,3.89,3.89,3.89,3.89,"х","х","х","х","х","х","х","х","х"]
["Ставка тарифа на оплату нормативных технологических потерь электрической энергии в ЕНЭС, руб./МВт.ч","х",{"$f":"O31","v":{"$error":"#DIV/0!"}},{"$f":"P31","v":{"$error":"#DIV/0!"}},"х","х",null,null,"х",null,null,"х",null,null,"х","х","х","х","х","х","х","х","х","х"]
["ИТОГО оплата услуг ПАО \"ФСК ЕЭС\"",null,{"$f":"C9+C12","v":{"$error":"#DIV/0!"}},{"$error":"#DIV/0!"},{"$f":"IFERROR(E9+E12,0)","v":0},null,{"$f":"G9+G12","v":0},0,0,0,0,0,0,0,0]
[]
["Руководитель организации",null,null,{"$f":"'Инф-я'!$C$21","v":"Чижов Олег Александрович"}]
[]
["Факт по данным организации за 2018 год"]
[]
[null,"янв","фев","мар","апр","май","июн","июль","авг","сент","окт","ноя","дек","Итого","1 полуг","2 полуг"]
["Заявленная мощность в точках присоединения к сетям ПАО \"ФСК ЕЭС\", МВт",null,null,null,null,null,null,null,null,null,null,null,null,"х","х","х"]
["Ставка тарифа услуги по передаче электрической энергии на содержание объектов электросетевого хозяйства, входящих в ЕНЭС, руб. МВт/мес.",null,{"$f":"B25","v":0},{"$f":"C25","v":0},0,0,0,null,{"$f":"H25","v":0},{"$f":"I25","v":0},0,0,{"$f":"L25","v":0},"х","х","х"]
["Стоимость услуги по передаче электрической энергии на содержание объектов элкутросетевого хозяйства, тыс. руб.",{"$f":"B24*B25/1000","v":0},{"$f":"C24*C25/1000","v":0},0,0,0,0,0,0,0,0,0,{"$f":"M24*M25/1000","v":0},{"$f":"SUM(B26:M26)","v":0},{"$f":"SUM(B26:G26)","v":0},{"$f":"SUM(H26:M26)","v":0}]
[null,"янв","фев","мар","апр","май","июн","июль","авг","сент","окт","ноя","дек","Итого","1 полуг","2 полуг"]
["Отпуск электрической энергии из сетей ПАО \"ФСК ЕЭС\" напряжением 220 кВ и ниже, МВт.ч",null,null,null,null,null,null,null,null,null,null,null,null,{"$f":"SUM(B28:M28)","v":0},{"$f":"SUM(B28:G28)","v":0},{"$f":"SUM(H28:M28)","v":0}]
["Норматив технологических потерь электрической энергии при ее передаче по ЕНЭС, применяемый к отпуску электроэнергии из сети ПАО \"ФСК ЕЭС\" , %",4.25,{"$f":"B29","v":4.25},{"$f":"C29","v":4.25},4.25,4.25,4.25,4.25,4.25,4.25,4.25,4.25,{"$f":"L29","v":4.25},"х","х","х"]
["Объем технологических потерь электрической энергии при ее передаче по ЕНЭС, МВт.ч",{"$f":"ROUND(B28*B29/100,3)","v":0},{"$f":"ROUND(C28*C29/100,3)","v":0},0,0,0,0,0,0,0,0,0,{"$f":"ROUND(M28*M29/100,3)","v":0},{"$f":"SUM(B30:M30)","v":0},{"$f":"SUM(B30:G30)","v":0},{"$f":"SUM(H30:M30)","v":0}]
["Ставка тарифа на оплату нормативных технологических потерь электрической энергии в ЕНЭС, руб./МВт.ч",null,null,null,null,null,null,null,null,null,null,null,null,{"$f":"N32/N30*1000","v":{"$error":"#DIV/0!"}},{"$f":"O32/O30*1000","v":{"$error":"#DIV/0!"}},{"$f":"P32/P30*1000","v":{"$error":"#DIV/0!"}}]
["Расходы на компенсацию потерь, тыс. руб.",{"$f":"B30*B31/1000","v":0},{"$f":"C30*C31/1000","v":0},0,0,0,0,0,0,0,0,0,{"$f":"M30*M31/1000","v":0},{"$f":"SUM(B32:M32)","v":0},{"$f":"SUM(B32:G32)","v":0},{"$f":"SUM(H32:M32)","v":0}]
["Итого расходы на услуги ФСК, тыс. руб.",{"$f":"B26+B32","v":0},{"$f":"C26+C32","v":0},0,0,0,0,0,0,0,0,0,{"$f":"M26+M32","v":0},{"$f":"N26+N32","v":0},{"$f":"O26+O32","v":0},{"$f":"P26+P32","v":0}]
[]
["Приказ Минэнерго от 27.12.2018 г. №1251 \"Об утверждении норматива потерь на 2019 год\" 220 кВ и ниже - 3,89, 330 кВ и выше  - 3,46"]

{"sheet":"Прочие НР","index":28,"n_rows":17,"n_cols":16,"rows_kept":17,"cut":false,"hidden":false,"merged":[[1,0,1,15],[2,0,2,15],[13,0,13,15],[16,0,16,1],[16,3,16,5],[4,0,5,0],[4,1,4,2],[4,3,4,4],[4,5,4,6],[4,7,4,8],[4,9,4,10],[4,11,4,12],[4,13,4,14]]}
[]
["Прочие обоснованные неподконтрольные расходы"]
[{"$f":"'Инф-я'!C13","v":"ООО \"МОНОСТРОЙ\""}]
[null,null,null,null,null,null,null,null,null,null,null,null,null,"тыс. руб."]
["Наименование","2018 год",null,"2019 год",null,"2020 год",null,"2021 год",null,"2022 год",null,"2023 год",null,"2024 год",null,"2018 год"]
[null,"Утверждено","Факт","Утверждено","Ожидаемые","По данным организации","По данным экспертов","По данным организации","По данным экспертов","По данным организации","По данным экспертов","По данным организации","По данным экспертов","По данным организации","По данным экспертов","Факт по данным экспертов"]
[1,2,3,4,5,6,7,8,9,10,11,12,13,14,15,16]
["Экспертиза экономической обоснованности затрат на услуги по передаче электрической энергии по сетям ООО \"МОНОСТРОЙ\" на 2019 год (Договор с ООО \"Владрегионэнерго\" №21/18-Э от 19.02.2018 г., акт; договор с ООО \"Владрегионэнерго\" №6/19-Э от 06.02.2019 г.)",99.99,99.992000000000004,104,99.995000000000005,{"$f":"C8*1.04*1.038","v":107.94336384},null,{"$f":"F8*1.04","v":112.26109839360001},null,{"$f":"H8*1.04","v":116.75154232934402},null,{"$f":"J8*1.04","v":121.42160402251778},null,{"$f":"L8*1.04","v":126.2784681834185}]
[]
[]
[]
[]
[]
["Добавить"]
["ИТОГО прочие обоснованные неподконтрольные расходы",{"$f":"SUM(B8:B13)","v":99.99},99.992000000000004,104,99.995000000000005,107.94336384,0,{"$f":"SUM(H8:H13)","v":112.26109839360001},0,{"$f":"SUM(J8:J13)","v":116.75154232934402},0,{"$f":"SUM(L8:L13)","v":121.42160402251778},0,{"$f":"SUM(N8:N13)","v":126.2784681834185},0,0]
[]
["Руководитель организации",null,null,{"$f":"'Инф-я'!$C$21","v":"Чижов Олег Александрович"}]

{"sheet":" КВЛ","index":29,"n_rows":22,"n_cols":15,"rows_kept":22,"cut":false,"hidden":true,"merged":[[21,0,21,1],[21,3,21,5],[5,0,6,0],[5,1,5,2],[5,3,5,4],[5,5,5,6],[15,0,15,14],[1,0,2,13],[3,0,3,13],[5,7,5,8],[5,9,5,10],[5,11,5,12],[5,13,5,14]]}
[]
["Расходы на капитальные вложения"]
[]
[{"$f":"'Инф-я'!C13","v":"ООО \"МОНОСТРОЙ\""}]
[null,null,null,null,null,null,null,null,null,null,null,null,null,"тыс. руб."]
["Наименование капитальных вложений","2018 год",null,"2019 год",null,"2020 год",null,"2021 год",null,"2022 год",null,"2023 год",null,"2024 год"]
[null,"Утверждено","Факт","Утверждено","Ожидаемые","По данным организации","По данным экспертов","По данным организации","По данным экспертов","По данным организации","По данным экспертов","По данным организации","По данным экспертов","По данным организации","По данным экспертов"]
[1,2,3,4,5,6,7,8,9,10,11,12,13,14,15]
["Введите название"]
["Введите название"]
["Введите название"]
["Введите название"]
["Введите название"]
["Введите название"]
["Введите название"]
["Добавить"]
["ИТОГО капитальных вложений",{"$f":"SUM(B9:B15)","v":0},{"$f":"SUM(C9:C15)","v":0},0,0,0,0,{"$f":"SUM(H9:H15)","v":0},0,0,0,0,0,0,0]
[" - амортизация",null,{"$f":"'Свод по амортизации'!C13","v":148.97651999999999},null,{"$f":"'Свод по амортизации'!E13","v":148.97651999999999},{"$f":"'Свод по амортизации'!F13","v":297.95308999999997},{"$f":"'Свод по амортизации'!G13","v":0},{"$f":"'Свод по амортизации'!H13","v":297.95308999999997},{"$f":"'Свод по амортизации'!I13","v":0},{"$f":"'Свод по амортизации'!J13","v":297.95308999999997},{"$f":"'Свод по амортизации'!K13","v":0},{"$f":"'Свод по амортизации'!L13","v":297.95308999999997},{"$f":"'Свод по амортизации'!M13","v":0},{"$f":"'Свод по амортизации'!N13","v":297.95308999999997},{"$f":"'Свод по амортизации'!O13","v":0}]
[" - прочие средства "]
[" - прибыль",{"$f":"IF((B17-B18-B19)<=0,0,(B17-B18-B19))","v":0},0,0,0,{"$f":"IF((F17-F18-F19)<=0,0,(F17-F18-F19))","v":0},0,{"$f":"IF((H17-H18-H19)<=0,0,(H17-H18-H19))","v":0},{"$f":"IF((I17-I18-I19)<=0,0,(I17-I18-I19))","v":0},{"$f":"IF((J17-J18-J19)<=0,0,(J17-J18-J19))","v":0},{"$f":"IF((K17-K18-K19)<=0,0,(K17-K18-K19))","v":0},{"$f":"IF((L17-L18-L19)<=0,0,(L17-L18-L19))","v":0},{"$f":"IF((M17-M18-M19)<=0,0,(M17-M18-M19))","v":0},{"$f":"IF((N17-N18-N19)<=0,0,(N17-N18-N19))","v":0},{"$f":"IF((O17-O18-O19)<=0,0,(O17-O18-O19))","v":0}]
[]
["Руководитель организации",null,null,{"$f":"'Инф-я'!$C$21","v":"Чижов Олег Александрович"}]

{"sheet":"Выпадающий доход","index":30,"n_rows":26,"n_cols":5,"rows_kept":26,"cut":false,"hidden":true,"merged":[[25,0,25,1],[25,2,25,3],[1,0,1,4],[3,0,3,4],[5,0,6,0],[5,3,5,4],[23,0,23,4]]}
[]
["Расходы, связанные с компенсацией выпадающих доходов по льготному технологическому присоединению"]
[]
[{"$f":"'Инф-я'!C13","v":"ООО \"МОНОСТРОЙ\""}]
[null,null,null,"тыс. руб."]
["Наименование","2018 год","2019 год","2020 год"]
[null,"Утверждено","Утверждено","По данным организации","По данным экспертов"]
[1,2,3,4,5]
["   выпадающие доходы сетевой организации от присоединения энергопринимающих устройств максимальной мощностью, не превышающей 15 кВт включительно, исходя из стоимости мероприятий по технологическому присоединению в размере не более 550 рублей;",{"$f":"SUM(B10:B14)","v":0},0,0,0]
["             за 2016 год",{"$f":"'Расчет выпадающих до 15 кВт'!C50","v":0},"х","х","х"]
["             за 2017 год","х",null,"х","х"]
["             за 2018 год",{"$f":"'Расчет выпадающих до 15 кВт'!C51","v":0},"х",{"$f":"'Расчет выпадающих до 15 кВт'!C53","v":0}]
["             за 2019 год","х",null,"х","х"]
["             за 2020 год","х","х",{"$f":"'Расчет выпадающих до 15 кВт'!C54","v":0}]
["   выпадающие доходы сетевой организации от присоединения энергопринимающих устройств максимальной мощностью не более, чем 150 кВт на покрытие расходов на строительство объектов электросетевого хозяйства ",{"$f":"SUM(B16:B20)","v":0},{"$f":"SUM(C16:C20)","v":0},0,0]
["             за 2016 год",{"$f":"'Расчет выпадающих до 150 кВт'!C57","v":0},"х","х","х"]
["             за 2017 год","х",null,"х","х"]
["             за 2018 год",{"$f":"'Расчет выпадающих до 150 кВт'!C58","v":0},"х",{"$f":"'Расчет выпадающих до 150 кВт'!C60","v":0}]
["             за 2019 год","х",null,"х","х"]
["             за 2020 год","х","х",{"$f":"'Расчет выпадающих до 150 кВт'!C61","v":0}]
["   выпадающие доходы сетевой организации от выплаты процентов по кредитным договорам, связанным с рассрочкой по оплате субъектами малого и среднего предпринимательства технологического присоединения энергопринимающих устройств максимальной мощностью свыше 15 кВт и до 150 кВт включительно",null,null,{"$f":"'СВОД по % по рассрочке'!J18","v":0}]
["Итого расходы, связанные с компенсацией выпадающих доходов по льготному технологическому присоединению",{"$f":"B9+B21+B15","v":0},{"$f":"C9+C21+C15","v":0},0,0]
[]
[]
[]
["Руководитель организации",null,{"$f":"'Инф-я'!$C$21","v":"Чижов Олег Александрович"}]

{"sheet":"Расчет выпадающих до 15 кВт","index":31,"n_rows":289,"n_cols":11,"rows_kept":289,"cut":false,"hidden":true,"merged":[[49,2,49,4],[50,2,50,4],[51,2,51,4],[92,1,93,1],[92,2,93,2],[92,3,93,3],[92,4,93,4],[22,0,22,10],[24,0,24,10],[26,0,26,10],[28,0,28,10],[31,0,31,10],[43,5,43,7],[44,2,44,4],[44,5,44,7],[46,1,46,7],[95,1,95,4],[42,2,42,4],[42,5,42,7],[3,0,3,10],[4,0,4,10],[6,0,6,9],[8,0,10,0],[8,1,10,1],[8,2,9,4],[8,5,9,7],[8,8,9,10],[38,1,38,7],[40,2,40,4],[40,5,40,7],[41,2,41,4],[41,5,41,7],[51,6,51,7],[52,2,52,4],[53,2,53,4],[43,2,43,4],[48,2,48,4],[54,2,54,4],[56,1,56,2],[56,3,56,5],[126,1,126,4],[135,1,135,4],[137,1,137,4],[145,1,145,4],[146,1,146,4],[96,1,96,4],[104,1,104,4],[109,1,109,4],[110,1,110,4],[119,1,119,4],[161,2,161,3],[162,1,162,4],[152,2,152,3],[153,2,153,3],[154,2,154,3],[155,1,155,4],[157,1,157,4],[147,2,147,3],[148,1,148,4],[149,2,149,3],[150,2,150,3],[151,2,151,3],[178,2,178,3],[19,0,19,10],[182,1,183,1],[182,2,183,2],[182,3,183,3],[182,4,183,4],[173,1,173,4],[174,2,174,3],[175,1,175,4],[176,2,176,3],[177,1,177,4],[168,2,168,3],[169,2,169,3],[170,2,170,3],[171,2,171,3],[172,2,172,3],[163,2,163,3],[164,2,164,3],[165,2,165,3],[166,2,166,3],[167,2,167,3],[158,1,158,4],[159,2,159,3],[160,2,160,3],[201,1,201,4],[211,1,211,4],[220,1,220,4],[225,1,225,4],[226,1,226,4],[185,1,185,4],[186,1,186,4],[194,1,194,4],[199,1,199,4],[200,1,200,4],[270,2,270,3],[261,1,261,4],[262,2,262,3],[263,1,263,4],[264,1,264,4],[265,2,265,3],[236,1,236,4],[245,1,245,4],[250,1,250,4],[257,1,257,4],[258,1,258,4],[286,2,286,3],[287,1,287,4],[288,2,288,3],[180,0,180,4],[90,0,90,4],[281,1,281,4],[282,1,282,4],[283,2,283,3],[284,2,284,3],[285,2,285,3],[276,2,276,3],[277,2,277,3],[278,2,278,3],[279,2,279,3],[280,1,280,4],[271,2,271,3],[272,2,272,3],[273,2,273,3],[274,2,274,3],[275,2,275,3],[266,2,266,3],[267,2,267,3],[268,2,268,3],[269,1,269,4]]}
[null,null,null,null,null,null,"Приложение 1"]
[null,null,null,null,null,null,"к Методическим указаниям, "]
[null,null,null,null,null,null,"утвержденным приказом ФСТ от 11.09.2014 г. №215-э/1"]
[]
["Расчет размера расходов, связанных с осуществлением технологического присоединения энергопринимающих устройств максимальной мощностью, не превышающей 15 кВт включительно, не включаемых в состав платы за технологическое присоединение за 2018 год и плановый период 2020 года"]
[]
[{"$f":"'Инф-я'!$C$13","v":"ООО \"МОНОСТРОЙ\""}]
[]
["№ п./п.","Показатели","Фактические данные за 2018 год",null,null,"Расчетные (фактические) данные за 2018 год",null,null,"Плановые показатели на 2020 год"]
[]
[null,null,"ставка платы (руб./кВт, руб./км, руб./шт.)","мощность, длина линий, количество (кВт, км, шт.)","Сумма (в соответствии с актами приемки выполненных работ) тыс. руб. ","стандартизированная ставка платы (руб./кВт, руб./км, руб./шт.)","мощность, длина линий, количество (кВт, км, шт.)","Сумма,   тыс. руб. ","стандартизированная ставка платы (руб./кВт, руб./км, руб./шт.)","мощность, длина линий, количество (кВт, км, шт.)","Сумма,   тыс. руб. "]
[1,2,3,4,5,6,7,8,9,10,11]
["1.","Расходы на выполнение организационно-технических мероприятий, связанные с осуществлением технологического присоединения [п. 1.1 + п. 1.2]:",{"$f":"SUM(C14:C15)","v":0},{"$f":"F44","v":0},{"$f":"SUM(E14:E15)","v":0},{"$f":"SUM(F14:F15)","v":21128.05},{"$f":"D13","v":0},{"$f":"SUM(H14:H15)","v":0},21221,{"$f":"F45","v":0},{"$f":"I13*J13/1000","v":0}]
["1.1.","подготовка и выдача сетевой организацией технических условий (ТУ) Заявителю",{"$f":"IF(D14=0,0,E14/D14*1000)","v":0},{"$f":"D13","v":0},null,4479.37,{"$f":"G13","v":0},{"$f":"F14*G14/1000","v":0},"х","х","х"]
["1.2.","проверка сетевой организацией выполнения Заявителем ТУ",{"$f":"IF(D15=0,0,E15/D15*1000)","v":0},{"$f":"D13","v":0},null,16648.68,{"$f":"G13","v":0},{"$f":"F15*G15/1000","v":0},"х","х","х"]
["2.","Расходы по мероприятиям \"последней мили\", связанные с осуществлением технологического присоединения ","х","х",{"$f":"SUM(E17:E32)","v":0},{"$f":"C16","v":"х"},"х",{"$f":"SUM(H17:H32)","v":0},{"$f":"F16","v":"х"},"х",{"$f":"SUM(K17:K32)","v":0}]
["2.1.","строительство воздушных линий, на уровне напряжения i и (или) диапазоне мощности j",{"$f":"IF(D17=0,0,E17/D17*1000)","v":0},null,null,null,{"$f":"D17","v":0},{"$f":"F17*G17/1000","v":0},null,null,{"$f":"I17*J17/1000","v":0}]
[null,"строительство воздушных линий, на уровне напряжения i и (или) диапазоне мощности j",0,null,null,null,{"$f":"D18","v":0},0,null,null,0]
[null,"строительство воздушных линий, на уровне напряжения i и (или) диапазоне мощности j",{"$f":"IF(D19=0,0,E19/D19*1000)","v":0},null,null,null,{"$f":"D19","v":0},{"$f":"F19*G19/1000","v":0},null,null,{"$f":"I19*J19/1000","v":0}]
["Добавить"]
["2.2.","строительство кабельных линий, на уровне напряжения i и (или) диапазоне мощности j",{"$f":"IF(D21=0,0,E21/D21*1000)","v":0},null,null,null,{"$f":"D21","v":0},{"$f":"F21*G21/1000","v":0},null,null,{"$f":"I21*J21/1000","v":0}]
[null,"строительство кабельных линий, на уровне напряжения i и (или) диапазоне мощности j",{"$f":"IF(D22=0,0,E22/D22*1000)","v":0},null,null,null,{"$f":"D22","v":0},{"$f":"F22*G22/1000","v":0},null,null,{"$f":"I22*J22/1000","v":0}]
["Добавить"]
["2.3.","строительством пунктов секционирования, на уровне напряжения i и (или) диапазоне мощности j",{"$f":"IF(D24=0,0,E24/D24*1000)","v":0},null,null,null,{"$f":"D24","v":0},{"$f":"F24*G24/1000","v":0},null,null,{"$f":"I24*J24/1000","v":0}]
["Добавить"]
["2.4.","строительство комплектных трансформаторных подстанций (КТП) с уровнем напряжения до 35 кВ, на уровне напряжения i и (или) диапазоне мощности j",{"$f":"IF(D26=0,0,E26/D26*1000)","v":0},null,null,null,{"$f":"D26","v":0},{"$f":"F26*G26/1000","v":0},null,null,{"$f":"I26*J26/1000","v":0}]
["Добавить"]
["2.5.","строительство распределительных трансформаторных подстанций (РТП) с уровнем напряжения до 35 кВ, на уровне напряжения i и (или) диапазоне мощности j",{"$f":"IF(D28=0,0,E28/D28*1000)","v":0},null,null,null,{"$f":"D28","v":0},{"$f":"F28*G28/1000","v":0},null,null,{"$f":"I28*J28/1000","v":0}]
["Добавить"]
["2.6.","строительство центров питания, подстанций уровнем напряжения 35 кВ и выше (ПС), на уровне напряжения i и (или) диапазоне мощности j",{"$f":"IF(D30=0,0,E30/D30*1000)","v":0},null,null,null,{"$f":"D30","v":0},{"$f":"F30*G30/1000","v":0},null,null,{"$f":"I30*J30/1000","v":0}]
["2.6.","строительство центров питания, подстанций уровнем напряжения 35 кВ и выше (ПС), на уровне напряжения i и (или) диапазоне мощности j",{"$f":"IF(D31=0,0,E31/D31*1000)","v":0},null,null,null,{"$f":"D31","v":0},{"$f":"F31*G31/1000","v":0},null,null,{"$f":"I31*J31/1000","v":0}]
["Добавить"]
["3.","Суммарный размер платы за технологическое присоединение [п. 3.1 * п. 3.2 / 1000]:","х","х",{"$f":"E34*E35/1000","v":0},"х","х",{"$f":"H34*H35/1000","v":0},"х","х",{"$f":"K34*K35/1000","v":0}]
["3.1.","Размер платы за технологическое присоединение (руб. без НДС)","х","х",466.1,"х","х",466.1,"х","х",458.33]
["3.2.","Плановое количество договоров на осуществление технологическое присоединение к электрическим сетям (плановое количество членов объединений (организаций), указанных в п. 16 Методических указаний по определению размера платы за технологическое присоединение к электрическим сетям, утвержденных приказом ФАС России от 29 августа 2017 года, N 1135/17) (шт.)","х","х",{"$f":"C44","v":0},"х","х",{"$f":"C44","v":0},"х","х",{"$f":"C45","v":0}]
["4.","Размер расходов, связанных с осуществлением технологического присоединения к электрическим сетям, не включаемых в состав платы за технологическое присоединение (п. 1 + п. 2 - п. 3)","х","х",{"$f":"E13+E16-E33","v":0},"х","х",{"$f":"H13+H16-H33","v":0},"х","х",{"$f":"K13+K16-K33","v":0}]
[]
[]
[null,"Фактические средние данные по выполненым договорам технологического присоединения за 3 предыдущих года "]
[]
[null,"Год","Количество заявителей технологического присоединения, ед. (для расчета Доходов)",null,null,"Количество  технологических присоединений, ед. (для расчета Расходов)"]
[null,"Факт 2016 г."]
[null,"Факт 2017 г."]
[null,"Факт 2018 г."]
[null,"План 2020 г. (расчет плановых значений исходя из данных за 3 предыдущих периода)",{"$f":"ROUND((C42+C43+C44)/3,0)","v":0},null,null,{"$f":"ROUND((F42+F43+F44)/3,0)","v":0}]
[]
[null,"Сводный расчет выпадающих  доходов от льготного ТП, подлежащих учету в 2020 году, тыс. руб."]
[]
[null,"Выпадающие доходы, учтенные при тарифном регулировании на 2018 год  всего в т.ч.",{"$f":"C50+C51","v":0}]
[null,"фактические по итогам 2016 года"]
[null,"планового периода 2018 года"]
[null,"Выпадающие доходы по итогам 2018 года за минусом плановых показателей 2018 года, подлежащие учету в 2020 году, тыс. руб.",{"$f":"E36-C51","v":0},null,null,null,"ИПЦ, %"]
[null,"Выпадающие доходы по итогам 2018 года c учетом ИПЦ, подлежащие учету в 2020 году, тыс. руб.",{"$f":"C52*(1+H53)*(1+H54)","v":0},null,null,null,"2020 г. к 2019 г."]
[null,"Плановые выпадающие доходы на 2020 год",{"$f":"K36","v":0},null,null,null,"2019 г. к 2018 г."]
[null,"Итого выпадающие доходы от льготного ТП подлежащие учету в 2020 году, тыс. руб.",{"$f":"C54+C53","v":0}]
[]
[null,"Руководитель организации",null,{"$f":"'Инф-я'!$C$21","v":"Чижов Олег Александрович"}]
[]
[]
[]
[]
[]
[]
[]
[]
["Виды строительства по МУ"]
[]
[3,"Строительство воздушных линий"]
["3. j","Материал опоры (деревянные (j = 1), металлические (j = 2), железобетонные (j = 3)"]
["3. j.k","Тип провода (изолированный провод (k = 1), неизолированный провод (k = 2)"]
["3. j.k.l","Материал провода (медный (l=1), стальной (l = 2), сталеалюминиевый (l = 3), алюминиевый (l = 4)"]
["3. j.k.l.m","Сечение провода (диапазон до 50 квадратных мм включительно (m = 1), от 50 до 100 квадратных мм включительно (m = 2), от 100 до 200 квадратных мм включительно (m = 3), от 200 до 500 квадратных мм включительно (m = 4), от 500 до 800 квадратных мм включительно (m = 5), свыше 800 квадратных мм (m = 6)"]
[4,"Строительство кабельных линий"]
["4. j","Способ прокладки кабельных линий (в траншеях (j = 1), в блоках (j = 2), в каналах (j = 3), в туннелях и коллекторах (j = 4), в галереях и эстакадах (j = 5), горизонтальное наклонное бурение (j = 6)"]
["4. j.k","Одножильные (k = 1) и многожильные (k = 2)"]
["4. j.k.l","Кабели с резиновой и пластмассовой изоляцией (l=1), бумажной изоляцией (l = 2)"]
["4. j.k.l.m","Сечение провода (диапазон до 50 квадратных мм включительно (m = 1), от 50 до 100 квадратных мм включительно (m = 2), от 100 до 200 квадратных мм включительно (m = 3), от 200 до 500 квадратных мм включительно (m = 4), от 500 до 800 квадратных мм включительно (m = 5), свыше 800 квадратных мм (m = 6)"]
[5,"Строительство пунктов секционирования"]
["5. j","Реклоузеры (j = 1 распределительные пункты (РП) (j = 2), переключательные пункты (ПП) (j = 3)"]
["5. j.k","Номинальный ток до 100 А включительно (k = 1), от 100 до 250 А включительно (k = 2), от 250 до 500 А включительно (k = 3), от 500 А до 1 000 А включительно (k = 4), свыше 1 000 А (k = 5)"]
[6,"Строительство трансформаторных подстанций (ТП), за исключением распределительных трансформаторных подстанций (РТП), с уровнем напряжения до 35 кВ"]
["6. j","Трансформаторные подстанции (ТП), за исключением распределительных трансформаторных подстанций (РТП)"]
["6. j.k","Однотрансформаторные (k=1), двухтрансформаторные и более (k = 2)"]
["6. j.k.l","Трансформаторная мощность до 25 кВА включительно (l = 1), от 25 до 100 кВА включительно (l = 2), от 100 до 250 кВА включительно (l = 3), от 250 до 500 кВА (l = 4), от 500 до 900 кВА включительно (l = 5), свыше 1000 кВА (l = 6)"]
[7,"Строительство распределительных трансформаторных подстанций (РТП) с уровнем напряжения до 35 кВ"]
["7. j","Распределительные трансформаторные подстанции (РТП)"]
["7. j.k","Однотрансформаторные (k=1), двухтрансформаторные и более (k = 2)"]
["7. j.k.l","Трансформаторная мощность до 25 кВА включительно (l=1), от 25 до 100 кВ А включительно (l = 2), от 100 до 250 кВА включительно (l = 3), от 250 до 500 кВА (l = 4), от 500 до 900 кВА включительно (l = 5), свыше 1000 кВА (l = 6)"]
[8,"Строительство центров питания, подстанций уровнем напряжения 35 кВ и выше (ПС)"]
["8. j","ПС 35 кВ (j = 1), ПС 110 кВ и выше (j = 2)"]
["Стандартизированные ставки, применяемые для расчета платы за технологическое присоединение устройств к электрическим сетям (С2, СЗ, С4, С5), без НДС (в ценах 2018 г.)"]
[]
["N","Стандартизированные тарифные ставки","Уровень напряжения в точке присоединения 0,4 кВ","Уровень напряжения в точке присоединения 6-10 кВ","Уровень напряжения в точке присоединения 35-110 кВ"]
["п/п"]
[1,2,3,4,5]
[2,"С2 - стандартизированная тарифная ставка на покрытие расходов сетевой организации на строительство воздушных линий электропередачи"]
["2.1.","Прокладка воздушных линий с установкой опор, руб./км"]
["2001-01-02","сечение жилы до 16 мм2",717297,"-","-"]
["2002-01-02","сечение жилы до 25 мм2",541675,"-","-"]
["2003-01-02","сечение жилы до 35 мм2",865225,1364873,"-"]
["2004-01-02","сечение жилы до 50 мм2",870017,1475522,"-"]
["2005-01-02","сечение жилы до 70 мм2",943132,1405579,"-"]
["2006-01-02","сечение жилы до 95 мм2",984942,1498292,"-"]
["2007-01-02","сечение жилы до 120 мм2",1158608,"-","-"]
["2.2.","Прокладка воздушных линий по существующим опорам, руб./км"]
["2001-02-02","сечение жилы до 16 мм2",322438,"-","-"]
["2002-02-02","сечение жилы до 25 мм2",397721,"-","-"]
["2003-02-02","сечение жилы до 35 мм2",545933,"-","-"]
["2004-02-02","сечение жилы до 50 мм2",525019,"-","-"]
[3,"С3 - стандартизированная тарифная ставка на покрытие расходов сетевой организации на строительство кабельных линий электропередачи"]
["3.1.","Прокладка одной КЛ в траншее (с благоустройством), руб./км"]
["2001-01-03","сечение жилы до 35 мм2",647881,"-","-"]
["2002-01-03","сечение жилы до 50 мм2",687655,1317933,"-"]
["2003-01-03","сечение жилы до 70 мм2",1111822,1496543,"-"]
["2004-01-03","сечение жилы до 95 мм2",931796,1682039,"-"]
["2005-01-03","сечение жилы до 120 мм2",2244755,1775170,"-"]
["2006-01-03","сечение жилы до 150 мм2",957616,2014663,"-"]
["2007-01-03","сечение жилы до 185 мм2",1232108,2256703,"-"]
["2008-01-03","сечение жилы до 240 мм2",1431202,2562382,"-"]
["3.2.","Прокладка двух КЛ в траншее (с благоустройством), руб./км"]
["2001-02-03","сечение жилы до 16 мм2",299583,"-","-"]
["2002-02-03","сечение жилы до 35 мм2",574329,"-","-"]
["2003-02-03","сечение жилы до 120 мм2","-",2260898,"-"]
["2004-02-03","сечение жилы до 150 мм2",679027,"-","-"]
["2005-02-03","сечение жилы до 185 мм2",2737754,"-","-"]
["2006-02-03","сечение жилы до 240 мм2",3866504,3478293,"-"]
["3.3.","Прокладка одной КЛ в полиэтиленовой трубе (с благоустройством), руб./км"]
["2001-03-03","сечение жилы до 35 мм2",779020,"-","-"]
["2002-03-03","сечение жилы до 50 мм2",738707,"-","-"]
["2003-03-03","сечение жилы до 70 мм2",1234707,1609675,"-"]
["2004-03-03","сечение жилы до 95 мм2",980094,1796650,"-"]
["2005-03-03","сечение жилы до 120 мм2",951115,1813010,"-"]
["2006-03-03","сечение жилы до 150 мм2",1255903,2112225,"-"]
["2007-03-03","сечение жилы до 185 мм2",1341496,2365159,"-"]
["2008-03-03","сечение жилы до 240 мм2",1519985,2673372,"-"]
["3.4.","Прокладка двух КЛ в полиэтиленовых трубах (с благоустройством), руб./км"]
["3.4.1.","сечение жилы до 120 мм2","-",4040285,"-"]
["3.5.","Прокладка одной КЛ методом ГНБ, руб./км"]
["2001-05-03","сечение жилы до 50 мм2",5482415,7092474,"-"]
["2002-05-03","сечение жилы до 70 мм2",5548401,6282313,"-"]
["2003-05-03","сечение жилы до 95 мм2",5677167,5733470,"-"]
["2004-05-03","сечение жилы до 120 мм2",5314366,6615307,"-"]
["2005-05-03","сечение жилы до 150 мм2",5798713,6656822,"-"]
["2006-05-03","сечение жилы до 185 мм2",5943888,7030091,"-"]
["2007-05-03","сечение жилы до 240 мм2",6150642,7335150,"-"]
[4,"С4 - стандартизированная тарифная ставка на покрытие расходов сетевой организации на строительство"]
["4.1.","Реклоузеры, руб./шт."]
["2001-01-04","мощностью до 630 кВА",1507393,null,"-"]
["4.2.","Переключательные пункты, руб./шт."]
["2001-02-04","мощностью до 250 кВА",1759310,null,"-"]
["2002-02-04","мощностью до 1000 кВА",1674164,null,"-"]
["2003-02-04","мощностью до 1250 кВА",2824472,null,"-"]
["2004-02-04","мощностью до 1600 кВА",1748482,null,"-"]
["2005-02-04","мощностью до 2500 кВА",1881231,null,"-"]
["2006-02-04","мощностью до 4000 кВА",3563450,null,"-"]
["4.3.","Распределительные пункты, руб./шт."]
["2001-03-04","мощностью до 4000 кВА","-","-",50072988]
[5,"С5 - стандартизированная тарифная ставка на покрытие расходов сетевой организации на строительство трансформаторных подстанций"]
["5.1.","Строительство блочных трансформаторных подстанций с двумя трансформаторами (все типы), руб./кВт"]
["2001-01-05","мощностью до 2 x 160 кВА",19698,null,"-"]
["2002-01-05","мощностью до 2 x 400 кВА",12446,null,"-"]
["2003-01-05","мощностью до 2 x 630 кВА",8538,null,"-"]
["5.2.","Строительство киосковых трансформаторных подстанций с одним трансформатором (все типы), руб./кВт"]
["2001-02-05","мощностью до 1 x 16 кВА",63383,null,"-"]
["2002-02-05","мощностью до 1 x 25 кВА",28636,null,"-"]
["2003-02-05","мощностью до 1 x 40 кВА",13463,null,"-"]
["2004-02-05","мощностью до 1 x 63 кВА",9193,null,"-"]
["2005-02-05","мощностью до 1 x 100 кВА",5836,null,"-"]
["2006-02-05","мощностью до 1 x 160 кВА",7734,null,"-"]
["2007-02-05","мощностью до 1 x 250 кВА",5231,null,"-"]
["2008-02-05","мощностью до 1 x 400 кВА",2300,null,"-"]
["2009-02-05","мощностью до 1 x 630 кВА",3339,null,"-"]
["2010-02-05","мощностью до 1 x 1000 кВА",2406,null,"-"]
["5.3.","Строительство киосковых трансформаторных подстанций с двумя трансформаторами (все типы), руб./кВт"]
["2001-03-05","мощностью до 2 x 400 кВА",4068,null,"-"]
["5.4.","Строительство столбовой трансформаторной подстанции с одним трансформатором, руб./кВт"]
["2001-04-05","мощностью до 1 x 16 кВА",24891.79,null,"-"]
[5.5,"Строительство комплектной трансформаторной подстанции с четырьмя трансформаторами, руб./кВт"]
["2001-05-05","мощностью 4 х 1000 кВА",4867.7299999999996,null,"-"]
[]
["Стандартизированные ставки, применяемые для расчета платы за технологическое присоединение устройств к электрическим сетям (С2, СЗ, С4, С5), без НДС (в ценах 2019 г.)"]
[]
["N","Стандартизированные тарифные ставки","Уровень напряжения 0,4 кВ","Уровень напряжения 6 - 10 кВ","Уровень напряжения 35 - 110 кВ"]
["п/п"]
[1,2,3,4,5]
[2,"С2 - стандартизированная тарифная ставка на покрытие расходов сетевой организации на строительство воздушных линий электропередачи"]
["2.1.","Прокладка воздушных линий с установкой опор, руб./км"]
["2001-01-02","сечение жилы до 16 мм2",561458,"-","-"]
["2002-01-02","сечение жилы до 25 мм2",680690,"-","-"]
["2003-01-02","сечение жилы до 35 мм2",930714,1422158,"-"]
["2004-01-02","сечение жилы до 50 мм2",1184804,1583985,"-"]
["2005-01-02","сечение жилы до 70 мм2",1025791,1510508,4983144]
["2006-01-02","сечение жилы до 95 мм2",1230668,"-","-"]
["2007-01-02","сечение жилы до 120 мм2",1263691,"-","-"]
["2.2.","Прокладка воздушных линий по существующим опорам, руб./км"]
["2001-02-02","сечение жилы до 16 мм2",583509,"-","-"]
["2002-02-02","сечение жилы до 25 мм2",400278,"-","-"]
["2003-02-02","сечение жилы до 35 мм2",381701,"-","-"]
["2004-02-02","сечение жилы до 50 мм2",606480,"-","-"]
[3,"С3 - стандартизированная тарифная ставка на покрытие расходов сетевой организации на строительство кабельных линий электропередачи"]
["3.1.","Прокладка одной КЛ в траншее, руб./км"]
["2001-01-03","Прокладка одной КЛ в траншее (с благоустройством), руб./км"]
["3.1.1.1","сечение жилы до 16 мм2",640869,"-","-"]
["3.1.1.2","сечение жилы до 35 мм2",639603,"-","-"]
["3.1.1.3","сечение жилы до 50 мм2",789642,"-","-"]
["3.1.1.4","сечение жилы до 70 мм2",945564,1630485,"-"]
["3.1.1.5","сечение жилы до 95 мм2",972676,1748962,"-"]
["3.1.1.6","сечение жилы до 120 мм2",1076218,1939213,"-"]
["3.1.1.7","сечение жилы до 150 мм2",1441925,2133986,"-"]
["3.1.1.8","сечение жилы до 185 мм2",1316334,2355608,"-"]
["3.1.1.9","сечение жилы до 240 мм2",1550787,2918329,"-"]
["2002-01-03","Прокладка одной КЛ в траншее (без благоустройства), руб./км"]
["3.1.2.1","сечение жилы до 35 мм2",382355,"-","-"]
["3.1.2.2","сечение жилы до 50 мм2","-",1585759,"-"]
["3.1.2.3","сечение жилы до 70 мм2",735363,"-","-"]
["3.1.2.4","сечение жилы до 95 мм2",597701,"-",","]
["3.1.2.5","сечение жилы до 120 мм2",1237450,1846495,"-"]
["3.1.2.6","сечение жилы до 150 мм2",1527436,"-","-"]
["3.1.2.7","сечение жилы до 185 мм2",784944,"-","-"]
["3.1.2.8","сечение жилы до 240 мм2",2004705,"-","-"]
["3.2.","Прокладка двух КЛ в траншее (с благоустройством), руб./км"]
["2001-02-03","сечение жилы до 120 мм2",1967587,"-","-"]
["2002-02-03","сечение жилы до 150 мм2",2346840,4077926,"-"]
["2003-02-03","сечение жилы до 185 мм2",2509234,"-","-"]
["2004-02-03","сечение жилы до 240 мм2",3013669,6017409,"-"]
["3.3.","Прокладка одной КЛ в полиэтиленовой трубе, руб./км"]
["2001-03-03","Прокладка одной КЛ в полиэтиленовой трубе (с благоустройством), руб./км"]
["3.3.1.1","сечение жилы до 16 мм2",753308,"-","-"]
["3.3.1.2","сечение жилы до 35 мм2",811856,"-","-"]
["3.3.1.3","сечение жилы до 50 мм2",995349,"-","-"]
["3.3.1.4","сечение жилы до 70 мм2",938058,1665467,"-"]
["3.3.1.5","сечение жилы до 95 мм2",1104765,1854000,"-"]
["3.3.1.6","сечение жилы до 120 мм2",1084936,2006887,"-"]
["3.3.1.7","сечение жилы до 150 мм2",1792909,2234745,"-"]
["3.3.1.8","сечение жилы до 185 мм2",1382467,2440902,"-"]
["3.3.1.9","сечение жилы до 240 мм2",1608080,3058640,"-"]
["2002-03-03","Прокладка одной КЛ в полиэтиленовой трубе (без благоустройства), руб./км"]
["3.3.2.1","сечение жилы до 35 мм2",379134,"-","-"]
["3.3.2.2","сечение жилы до 50 мм2","-",1710978,"-"]
["3.3.2.3","сечение жилы до 70 мм2",593580,"-","-"]
["3.3.2.4","сечение жилы до 95 мм2",480585,"-","-"]
["3.3.2.5","сечение жилы до 120 мм2","-",2222444,"-"]
["3.3.2.6","сечение жилы до 150 мм2",1323201,"-","-"]
["3.3.2.7","сечение жилы до 185 мм2",670565,"-","-"]
["3.3.2.8","сечение жилы до 240 мм2",2926092,"-","-"]
["3.4.","Прокладка двух КЛ в полиэтиленовых трубах (с благоустройством), руб./км"]
["2001-04-03","сечение жилы до 120 мм2",2121943,"-","-"]
["2002-04-03","сечение жилы до 150 мм2",2462129,4303639,"-"]
["2003-04-03","сечение жилы до 185 мм2",2704254,"-","-"]
["2004-04-03","сечение жилы до 240 мм2",3097080,6058233,"-"]
["3.5.","Прокладка одной КЛ методом ГНБ, руб./км"]
["2001-05-03","сечение жилы до 70 мм2","-",6911299,"-"]
["2002-05-03","сечение жилы до 95 мм2",6245335,7968367,"-"]
["2003-05-03","сечение жилы до 120 мм2",5666158,6894146,"-"]
["2004-05-03","сечение жилы до 150 мм2",7130715,7318326,"-"]
["2005-05-03","сечение жилы до 185 мм2",6322672,7533309,"-"]
["2006-05-03","сечение жилы до 240 мм2",6566589,7868175,"-"]
[4,"С4 - стандартизированная тарифная ставка на покрытие расходов сетевой организации на строительство"]
["4.1.","Реклоузеры, руб./шт."]
["2001-01-04","мощностью до 630 кВА","-",1571110,"-"]
["2002-01-04","мощностью до 1000 кВА","-",1877758,"-"]
["4.2.","Распределительные пункты, руб./шт."]
["2001-02-04","мощностью до 4000 кВА","-",null,33804569]
[5,"С5 - стандартизированная тарифная ставка на покрытие расходов сетевой организации на строительство трансформаторных подстанций"]
["5.1.","Строительство блочных трансформаторных подстанций с двумя трансформаторами (все типы), руб./кВт"]
["2001-01-05","мощностью до 2 х 160 кВА",19307,null,"-"]
["2002-01-05","мощностью до 2 х 250 кВА",19704,null,"-"]
["2003-01-05","мощностью до 2 х 400 кВА",14441,null,"-"]
["2004-01-05","мощностью до 2 х 630 кВА",9225,null,"-"]
["5.2.","Строительство киосковых трансформаторных подстанций с одним трансформатором (все типы), руб./кВт"]
["2001-02-05","мощностью до 1 х 16 кВА",54863,null,"-"]
["2002-02-05","мощностью до 1 х 25 кВА",36560,null,"-"]
["2003-02-05","мощностью до 1 х 40 кВА",12481,null,"-"]
["2004-02-05","мощностью до 1 х 63 кВА",9435,null,"-"]
["2005-02-05","мощностью до 1 х 100 кВА",5858,null,"-"]
["2006-02-05","мощностью до 1 х 160 кВА",7978,null,"-"]
["2007-02-05","мощностью до 1 х 250 кВА",3666,null,"-"]
["2008-02-05","мощностью до 1 х 400 кВА",5069,null,"-"]
["2009-02-05","мощностью до 1 х 630 кВА",3222,null,"-"]
["2010-02-05","мощностью до 1 х 1000 кВА",2508,null,"-"]
["5.3.","Строительство киосковых трансформаторных подстанций с двумя трансформаторами (все типы), руб./кВт"]
["2001-03-05","мощностью до 2 х 400 кВА"]
["5.4.","Строительство столбовой трансформаторной подстанции с одним трансформатором, руб./кВт"]
["2001-04-05","мощностью до 1 х 16 кВА",71665,null,"-"]
["2002-04-05","мощностью до 1 х 25 кВА",42208,null,"-"]
["2003-04-05","мощностью до 1 х 40 кВА",9291,null,"-"]
["2004-04-05","мощностью до 1 х 63 кВА",7971,null,"-"]
["5.5.","Строительство блочных трансформаторных подстанций с одним трансформатором (все типы), руб./кВт"]
["2001-05-05","мощностью до 1 х 1000 кВА",2991,null,"-"]

{"sheet":"Расчет выпадающих до 150 кВт","index":32,"n_rows":296,"n_cols":11,"rows_kept":296,"cut":false,"hidden":true,"merged":[[295,2,295,3],[4,0,4,10],[31,0,31,10],[289,1,289,4],[290,2,290,3],[291,2,291,3],[292,2,292,3],[293,2,293,3],[294,1,294,4],[283,2,283,3],[284,2,284,3],[285,2,285,3],[286,2,286,3],[287,1,287,4],[288,1,288,4],[277,2,277,3],[278,2,278,3],[279,2,279,3],[280,2,280,3],[281,2,281,3],[282,2,282,3],[271,1,271,4],[272,2,272,3],[273,2,273,3],[274,2,274,3],[275,2,275,3],[276,1,276,4],[257,1,257,4],[264,1,264,4],[265,1,265,4],[268,1,268,4],[269,2,269,3],[270,1,270,4],[218,1,218,4],[227,1,227,4],[232,1,232,4],[233,1,233,4],[243,1,243,4],[252,1,252,4],[192,1,192,4],[193,1,193,4],[201,1,201,4],[206,1,206,4],[207,1,207,4],[208,1,208,4],[182,1,182,4],[183,2,183,3],[184,1,184,4],[185,2,185,3],[187,0,187,4],[189,1,190,1],[189,2,190,2],[189,3,190,3],[189,4,190,4],[176,2,176,3],[177,2,177,3],[178,2,178,3],[179,2,179,3],[180,1,180,4],[181,2,181,3],[170,2,170,3],[171,2,171,3],[172,2,172,3],[173,2,173,3],[174,2,174,3],[175,2,175,3],[164,1,164,4],[165,1,165,4],[166,2,166,3],[167,2,167,3],[168,2,168,3],[169,1,169,4],[157,2,157,3],[158,2,158,3],[159,2,159,3],[160,2,160,3],[161,2,161,3],[162,1,162,4],[152,1,152,4],[153,1,153,4],[154,2,154,3],[155,1,155,4],[156,2,156,3],[111,1,111,4],[116,1,116,4],[117,1,117,4],[126,1,126,4],[133,1,133,4],[142,1,142,4],[102,1,102,4],[103,1,103,4],[59,2,59,4],[60,2,60,4],[61,2,61,4],[63,1,63,2],[63,3,63,5],[97,0,97,4],[144,1,144,4],[53,1,53,7],[55,2,55,4],[56,2,56,4],[57,2,57,4],[58,2,58,4],[58,6,58,7],[99,1,100,1],[99,2,100,2],[99,3,100,3],[99,4,100,4],[3,0,3,10],[6,0,6,9],[8,0,10,0],[8,1,10,1],[8,2,9,4],[8,5,9,7],[8,8,9,10],[45,1,45,7],[41,0,41,10],[33,0,33,10],[39,0,39,10],[37,0,37,10],[35,0,35,10],[16,0,16,10],[18,0,18,10],[20,0,20,10],[22,0,22,10],[24,0,24,10],[26,0,26,10]]}
[null,null,null,null,null,null,"Приложение 1"]
[null,null,null,null,null,null,"к Методическим указаниям, "]
[null,null,null,null,null,null,"утвержденным приказом ФСТ от 11.09.2014 г. №215-э/1"]
[]
["Расчет размера расходов, связанных с осуществлением технологического присоединения к электрическим сетям энергопринимающих устройств максимальной мощностью до 150 кВт включительно, не включаемых в состав платы за технологическое присоединение за 2018 год и плановый период 2020 года"]
[]
[{"$f":"'Инф-я'!$C$13","v":"ООО \"МОНОСТРОЙ\""}]
[]
["№ п./п.","Показатели","Фактические данные за 2018 год",null,null,"Расчетные (фактические) данные за 2018 год",null,null,"Плановые показатели на 2020 год"]
[]
[null,null,"ставка платы (руб./кВт, руб./км, руб./шт.)","мощность, длина линий, количество (кВт, км, шт.)","Сумма (в соответствии с актами приемки выполненных работ) тыс. руб. ","стандартизированная ставка платы (руб./кВт, руб./км, руб./шт.)","мощность, длина линий, количество (кВт, км, шт.)","Сумма,   тыс. руб. ","стандартизированная ставка платы (руб./кВт, руб./км, руб./шт.)","мощность, длина линий, количество (кВт, км, шт.)","Сумма,   тыс. руб. "]
[1,2,3,4,5,6,7,8,9,10,11]
["1.","Расходы по мероприятиям \"последней мили\", связанные с осуществлением технологического присоединения к электрическим сетям [п.1.1 + п.1.2 + п.1.3 + п.1.4+ п.1.5+ п.1.6]:","х","х",{"$f":"SUM(E14:E27)","v":0},{"$f":"C13","v":"х"},"х",{"$f":"SUM(H14:H27)","v":0},{"$f":"F13","v":"х"},"х",{"$f":"SUM(K14:K27)","v":0}]
["1.1.","строительство воздушных линий, на уровне напряжения i и (или) диапазоне мощности j",{"$f":"IF(D14=0,0,E14/D14*1000)","v":0},null,null,null,{"$f":"D14","v":0},{"$f":"F14*G14/1000","v":0},null,null,{"$f":"I14*J14/1000","v":0}]
[null,"строительство воздушных линий, на уровне напряжения i и (или) диапазоне мощности j",0,null,null,null,{"$f":"D15","v":0},0,null,null,0]
[null,"строительство воздушных линий, на уровне напряжения i и (или) диапазоне мощности j",{"$f":"IF(D16=0,0,E16/D16*1000)","v":0},null,null,null,{"$f":"D16","v":0},{"$f":"F16*G16/1000","v":0},null,null,0]
["Добавить"]
["1.2.","строительство кабельных линий, на уровне напряжения i и (или) диапазоне мощности j",{"$f":"IF(D18=0,0,E18/D18*1000)","v":0},null,null,null,{"$f":"D18","v":0},{"$f":"F18*G18/1000","v":0},null,null,{"$f":"I18*J18/1000","v":0}]
["Добавить"]
["1.3.","строительством пунктов секционирования, на уровне напряжения i и (или) диапазоне мощности j",{"$f":"IF(D20=0,0,E20/D20*1000)","v":0},null,null,null,{"$f":"D20","v":0},{"$f":"F20*G20/1000","v":0},null,null,{"$f":"I20*J20/1000","v":0}]
["Добавить"]
["1.4.","строительство комплектных трансформаторных подстанций (КТП) с уровнем напряжения до 35 кВ, на уровне напряжения i и (или) диапазоне мощности j",{"$f":"IF(D22=0,0,E22/D22*1000)","v":0},null,null,null,{"$f":"D22","v":0},{"$f":"F22*G22/1000","v":0},null,null,{"$f":"I22*J22/1000","v":0}]
["Добавить"]
["1.5.","строительство распределительных трансформаторных подстанций (РТП) с уровнем напряжения до 35 кВ, на уровне напряжения i и (или) диапазоне мощности j",{"$f":"IF(D24=0,0,E24/D24*1000)","v":0},null,null,null,{"$f":"D24","v":0},{"$f":"F24*G24/1000","v":0},null,null,{"$f":"I24*J24/1000","v":0}]
["Добавить"]
["1.6.","строительство центров питания, подстанций уровнем напряжения 35 кВ и выше (ПС), на уровне напряжения i и (или) диапазоне мощности j",{"$f":"IF(D26=0,0,E26/D26*1000)","v":0},null,null,null,{"$f":"D26","v":0},{"$f":"F26*G26/1000","v":0},null,null,{"$f":"I26*J26/1000","v":0}]
["Добавить"]
["2.","Суммарный размер платы за технологическое присоединение в части мероприятий \"последней мили\" [n.2.1 + п.2.2 + п.2.3 + п.2.4 + п.2.5+ п.2.6]:","х","х",{"$f":"SUM(E29:E42)","v":0},{"$f":"C28","v":"х"},{"$f":"D28","v":"х"},{"$f":"SUM(H29:H42)","v":0},{"$f":"F28","v":"х"},{"$f":"G28","v":"х"},{"$f":"SUM(K29:K42)","v":0}]
["2.1.","строительство воздушных линий, на уровне напряжения i и (или) диапазоне мощности j",{"$f":"IF(D29=0,0,E29/D29*1000)","v":0},null,null,null,{"$f":"D29","v":0},{"$f":"F29*G29/1000","v":0},null,null,{"$f":"I29*J29/1000","v":0}]
[null,"строительство воздушных линий, на уровне напряжения i и (или) диапазоне мощности j",0,null,null,null,{"$f":"D30","v":0},0,null,null,0]
[null,"строительство воздушных линий, на уровне напряжения i и (или) диапазоне мощности j",{"$f":"IF(D31=0,0,E31/D31*1000)","v":0},null,null,null,{"$f":"D31","v":0},{"$f":"F31*G31/1000","v":0},null,null,{"$f":"I31*J31/1000","v":0}]
["Добавить"]
["2.2.","строительство кабельных линий, на уровне напряжения i и (или) диапазоне мощности j",{"$f":"IF(D33=0,0,E33/D33*1000)","v":0},null,null,null,{"$f":"D33","v":0},{"$f":"F33*G33/1000","v":0},null,null,{"$f":"I33*J33/1000","v":0}]
["Добавить"]
["2.3.","строительством пунктов секционирования, на уровне напряжения i и (или) диапазоне мощности j",{"$f":"IF(D35=0,0,E35/D35*1000)","v":0},null,null,null,{"$f":"D35","v":0},{"$f":"F35*G35/1000","v":0},null,null,{"$f":"I35*J35/1000","v":0}]
["Добавить"]
["2.4.","строительство комплектных трансформаторных подстанций (КТП) с уровнем напряжения до 35 кВ, на уровне напряжения i и (или) диапазоне мощности j",{"$f":"IF(D37=0,0,E37/D37*1000)","v":0},null,null,null,{"$f":"D37","v":0},{"$f":"F37*G37/1000","v":0},null,null,{"$f":"I37*J37/1000","v":0}]
["Добавить"]
["2.5.","строительство распределительных трансформаторных подстанций (РТП) с уровнем напряжения до 35 кВ, на уровне напряжения i и (или) диапазоне мощности j",{"$f":"IF(D39=0,0,E39/D39*1000)","v":0},null,null,null,{"$f":"D39","v":0},{"$f":"F39*G39/1000","v":0},null,null,{"$f":"I39*J39/1000","v":0}]
["Добавить"]
["2.6.","строительство центров питания, подстанций уровнем напряжения 35 кВ и выше (ПС), на уровне напряжения i и (или) диапазоне мощности j",{"$f":"IF(D41=0,0,E41/D41*1000)","v":0},null,null,null,{"$f":"D41","v":0},{"$f":"F41*G41/1000","v":0},null,null,{"$f":"I41*J41/1000","v":0}]
["Добавить"]
["3.","Размер расходов по мероприятиям \"последней мили\", связанных с осуществлением технологического присоединения к электрическим сетям, не включаемых в плату за технологическое присоединение [п.1 - п.2]","х","х",{"$f":"E13-E28","v":0},"х","х",{"$f":"H13-H28","v":0},"х","х",{"$f":"K13-K28","v":0}]
[]
[]
[null,"Фактические средние данные по выполненым договорам технологического присоединения за 3 предыдущих года "]
[]
[null,"Год","строительство ВЛ, км","строительство КЛ, км","строительством пунктов секционирования, шт","строительство КТП с уровнем напряжения до 35 кВ, кВт","строительство РТП с уровнем напряжения до 35 кВ, кВт","строительство ПС, кВт"]
[null,"Факт 2016 г."]
[null,"Факт 2017 г."]
[null,"Факт 2018 г."]
[null,"План 2019 г. (расчет плановых значений исходя из данных за 3 предыдущих периода)",{"$f":"(C49+C50+C51)/3","v":0},{"$f":"(D49+D50+D51)/3","v":0},0,0,0,{"$f":"(H49+H50+H51)/3","v":0}]
[]
[null,"Сводный расчет выпадающих  доходов от льготного ТП, подлежащих учету в 2020 году, тыс. руб."]
[]
[null,"Выпадающие доходы, учтенные при тарифном регулировании на 2018 год  всего в т.ч.",{"$f":"C57+C58","v":0}]
[null,"фактические по итогам 2016 года"]
[null,"планового периода 2018 года"]
[null,"Выпадающие доходы по итогам 2018 года за минусом плановых показателей 2018 года, подлежащие учету в 2020 году, тыс. руб.",{"$f":"E43-C58","v":0},null,null,null,"ИПЦ, %"]
[null,"Выпадающие доходы по итогам 2018 года c учетом ИПЦ, подлежащие учету в 2020 году, тыс. руб.",{"$f":"C59*(1+H60)*(1+H61)","v":0},null,null,null,"2020 г. к 2019 г."]
[null,"Плановые выпадающие доходы на 2020 год",{"$f":"K43","v":0},null,null,null,"2019 г. к 2018 г."]
[null,"Итого выпадающие доходы от льготного ТП подлежащие учету в 2020 году, тыс. руб.",{"$f":"C61+C60","v":0}]
[]
[null,"Руководитель организации",null,{"$f":"'Инф-я'!$C$21","v":"Чижов Олег Александрович"}]
[]
[]
[]
[]
[]
[]
[]
[]
["Виды строительства по МУ"]
[]
[3,"Строительство воздушных линий"]
["3. j","Материал опоры (деревянные (j = 1), металлические (j = 2), железобетонные (j = 3)"]
["3. j.k","Тип провода (изолированный провод (k = 1), неизолированный провод (k = 2)"]
["3. j.k.l","Материал провода (медный (l=1), стальной (l = 2), сталеалюминиевый (l = 3), алюминиевый (l = 4)"]
["3. j.k.l.m","Сечение провода (диапазон до 50 квадратных мм включительно (m = 1), от 50 до 100 квадратных мм включительно (m = 2), от 100 до 200 квадратных мм включительно (m = 3), от 200 до 500 квадратных мм включительно (m = 4), от 500 до 800 квадратных мм включительно (m = 5), свыше 800 квадратных мм (m = 6)"]
[4,"Строительство кабельных линий"]
["4. j","Способ прокладки кабельных линий (в траншеях (j = 1), в блоках (j = 2), в каналах (j = 3), в туннелях и коллекторах (j = 4), в галереях и эстакадах (j = 5), горизонтальное наклонное бурение (j = 6)"]
["4. j.k","Одножильные (k = 1) и многожильные (k = 2)"]
["4. j.k.l","Кабели с резиновой и пластмассовой изоляцией (l=1), бумажной изоляцией (l = 2)"]
["4. j.k.l.m","Сечение провода (диапазон до 50 квадратных мм включительно (m = 1), от 50 до 100 квадратных мм включительно (m = 2), от 100 до 200 квадратных мм включительно (m = 3), от 200 до 500 квадратных мм включительно (m = 4), от 500 до 800 квадратных мм включительно (m = 5), свыше 800 квадратных мм (m = 6)"]
[5,"Строительство пунктов секционирования"]
["5. j","Реклоузеры (j = 1 распределительные пункты (РП) (j = 2), переключательные пункты (ПП) (j = 3)"]
["5. j.k","Номинальный ток до 100 А включительно (k = 1), от 100 до 250 А включительно (k = 2), от 250 до 500 А включительно (k = 3), от 500 А до 1 000 А включительно (k = 4), свыше 1 000 А (k = 5)"]
[6,"Строительство трансформаторных подстанций (ТП), за исключением распределительных трансформаторных подстанций (РТП), с уровнем напряжения до 35 кВ"]
["6. j","Трансформаторные подстанции (ТП), за исключением распределительных трансформаторных подстанций (РТП)"]
["6. j.k","Однотрансформаторные (k=1), двухтрансформаторные и более (k = 2)"]
["6. j.k.l","Трансформаторная мощность до 25 кВА включительно (l = 1), от 25 до 100 кВА включительно (l = 2), от 100 до 250 кВА включительно (l = 3), от 250 до 500 кВА (l = 4), от 500 до 900 кВА включительно (l = 5), свыше 1000 кВА (l = 6)"]
[7,"Строительство распределительных трансформаторных подстанций (РТП) с уровнем напряжения до 35 кВ"]
["7. j","Распределительные трансформаторные подстанции (РТП)"]
["7. j.k","Однотрансформаторные (k=1), двухтрансформаторные и более (k = 2)"]
["7. j.k.l","Трансформаторная мощность до 25 кВА включительно (l=1), от 25 до 100 кВ А включительно (l = 2), от 100 до 250 кВА включительно (l = 3), от 250 до 500 кВА (l = 4), от 500 до 900 кВА включительно (l = 5), свыше 1000 кВА (l = 6)"]
[8,"Строительство центров питания, подстанций уровнем напряжения 35 кВ и выше (ПС)"]
["8. j","ПС 35 кВ (j = 1), ПС 110 кВ и выше (j = 2)"]
["Стандартизированные ставки, применяемые для расчета платы за технологическое присоединение устройств к электрическим сетям (С2, СЗ, С4, С5), без НДС (в ценах 2018 г.)"]
[]
["N","Стандартизированные тарифные ставки","Уровень напряжения в точке присоединения 0,4 кВ","Уровень напряжения в точке присоединения 6-10 кВ","Уровень напряжения в точке присоединения 35-110 кВ"]
["п/п"]
[1,2,3,4,5]
[2,"С2 - стандартизированная тарифная ставка на покрытие расходов сетевой организации на строительство воздушных линий электропередачи"]
["2.1.","Прокладка воздушных линий с установкой опор, руб./км"]
["2001-01-02","сечение жилы до 16 мм2",717297,"-","-"]
["2002-01-02","сечение жилы до 25 мм2",541675,"-","-"]
["2003-01-02","сечение жилы до 35 мм2",865225,1364873,"-"]
["2004-01-02","сечение жилы до 50 мм2",870017,1475522,"-"]
["2005-01-02","сечение жилы до 70 мм2",943132,1405579,"-"]
["2006-01-02","сечение жилы до 95 мм2",984942,1498292,"-"]
["2007-01-02","сечение жилы до 120 мм2",1158608,"-","-"]
["2.2.","Прокладка воздушных линий по существующим опорам, руб./км"]
["2001-02-02","сечение жилы до 16 мм2",322438,"-","-"]
["2002-02-02","сечение жилы до 25 мм2",397721,"-","-"]
["2003-02-02","сечение жилы до 35 мм2",545933,"-","-"]
["2004-02-02","сечение жилы до 50 мм2",525019,"-","-"]
[3,"С3 - стандартизированная тарифная ставка на покрытие расходов сетевой организации на строительство кабельных линий электропередачи"]
["3.1.","Прокладка одной КЛ в траншее (с благоустройством), руб./км"]
["2001-01-03","сечение жилы до 35 мм2",647881,"-","-"]
["2002-01-03","сечение жилы до 50 мм2",687655,1317933,"-"]
["2003-01-03","сечение жилы до 70 мм2",1111822,1496543,"-"]
["2004-01-03","сечение жилы до 95 мм2",931796,1682039,"-"]
["2005-01-03","сечение жилы до 120 мм2",2244755,1775170,"-"]
["2006-01-03","сечение жилы до 150 мм2",957616,2014663,"-"]
["2007-01-03","сечение жилы до 185 мм2",1232108,2256703,"-"]
["2008-01-03","сечение жилы до 240 мм2",1431202,2562382,"-"]
["3.2.","Прокладка двух КЛ в траншее (с благоустройством), руб./км"]
["2001-02-03","сечение жилы до 16 мм2",299583,"-","-"]
["2002-02-03","сечение жилы до 35 мм2",574329,"-","-"]
["2003-02-03","сечение жилы до 120 мм2","-",2260898,"-"]
["2004-02-03","сечение жилы до 150 мм2",679027,"-","-"]
["2005-02-03","сечение жилы до 185 мм2",2737754,"-","-"]
["2006-02-03","сечение жилы до 240 мм2",3866504,3478293,"-"]
["3.3.","Прокладка одной КЛ в полиэтиленовой трубе (с благоустройством), руб./км"]
["2001-03-03","сечение жилы до 35 мм2",779020,"-","-"]
["2002-03-03","сечение жилы до 50 мм2",738707,"-","-"]
["2003-03-03","сечение жилы до 70 мм2",1234707,1609675,"-"]
["2004-03-03","сечение жилы до 95 мм2",980094,1796650,"-"]
["2005-03-03","сечение жилы до 120 мм2",951115,1813010,"-"]
["2006-03-03","сечение жилы до 150 мм2",1255903,2112225,"-"]
["2007-03-03","сечение жилы до 185 мм2",1341496,2365159,"-"]
["2008-03-03","сечение жилы до 240 мм2",1519985,2673372,"-"]
["3.4.","Прокладка двух КЛ в полиэтиленовых трубах (с благоустройством), руб./км"]
["3.4.1.","сечение жилы до 120 мм2","-",4040285,"-"]
["3.5.","Прокладка одной КЛ методом ГНБ, руб./км"]
["2001-05-03","сечение жилы до 50 мм2",5482415,7092474,"-"]
["2002-05-03","сечение жилы до 70 мм2",5548401,6282313,"-"]
["2003-05-03","сечение жилы до 95 мм2",5677167,5733470,"-"]
["2004-05-03","сечение жилы до 120 мм2",5314366,6615307,"-"]
["2005-05-03","сечение жилы до 150 мм2",5798713,6656822,"-"]
["2006-05-03","сечение жилы до 185 мм2",5943888,7030091,"-"]
["2007-05-03","сечение жилы до 240 мм2",6150642,7335150,"-"]
[4,"С4 - стандартизированная тарифная ставка на покрытие расходов сетевой организации на строительство"]
["4.1.","Реклоузеры, руб./шт."]
["2001-01-04","мощностью до 630 кВА",1507393,null,"-"]
["4.2.","Переключательные пункты, руб./шт."]
["2001-02-04","мощностью до 250 кВА",1759310,null,"-"]
["2002-02-04","мощностью до 1000 кВА",1674164,null,"-"]
["2003-02-04","мощностью до 1250 кВА",2824472,null,"-"]
["2004-02-04","мощностью до 1600 кВА",1748482,null,"-"]
["2005-02-04","мощностью до 2500 кВА",1881231,null,"-"]
["2006-02-04","мощностью до 4000 кВА",3563450,null,"-"]
["4.3.","Распределительные пункты, руб./шт."]
["2001-03-04","мощностью до 4000 кВА","-","-",50072988]
[5,"С5 - стандартизированная тарифная ставка на покрытие расходов сетевой организации на строительство трансформаторных подстанций"]
["5.1.","Строительство блочных трансформаторных подстанций с двумя трансформаторами (все типы), руб./кВт"]
["2001-01-05","мощностью до 2 x 160 кВА",19698,null,"-"]
["2002-01-05","мощностью до 2 x 400 кВА",12446,null,"-"]
["2003-01-05","мощностью до 2 x 630 кВА",8538,null,"-"]
["5.2.","Строительство киосковых трансформаторных подстанций с одним трансформатором (все типы), руб./кВт"]
["2001-02-05","мощностью до 1 x 16 кВА",63383,null,"-"]
["2002-02-05","мощностью до 1 x 25 кВА",28636,null,"-"]
["2003-02-05","мощностью до 1 x 40 кВА",13463,null,"-"]
["2004-02-05","мощностью до 1 x 63 кВА",9193,null,"-"]
["2005-02-05","мощностью до 1 x 100 кВА",5836,null,"-"]
["2006-02-05","мощностью до 1 x 160 кВА",7734,null,"-"]
["2007-02-05","мощностью до 1 x 250 кВА",5231,null,"-"]
["2008-02-05","мощностью до 1 x 400 кВА",2300,null,"-"]
["2009-02-05","мощностью до 1 x 630 кВА",3339,null,"-"]
["2010-02-05","мощностью до 1 x 1000 кВА",2406,null,"-"]
["5.3.","Строительство киосковых трансформаторных подстанций с двумя трансформаторами (все типы), руб./кВт"]
["2001-03-05","мощностью до 2 x 400 кВА",4068,null,"-"]
["5.4.","Строительство столбовой трансформаторной подстанции с одним трансформатором, руб./кВт"]
["2001-04-05","мощностью до 1 x 16 кВА",24891.79,null,"-"]
[5.5,"Строительство комплектной трансформаторной подстанции с четырьмя трансформаторами, руб./кВт"]
["2001-05-05","мощностью 4 х 1000 кВА",4867.7299999999996,null,"-"]
[]
["Стандартизированные ставки, применяемые для расчета платы за технологическое присоединение устройств к электрическим сетям (С2, СЗ, С4, С5), без НДС (в ценах 2019 г.)"]
[]
["N","Стандартизированные тарифные ставки","Уровень напряжения 0,4 кВ","Уровень напряжения 6 - 10 кВ","Уровень напряжения 35 - 110 кВ"]
["п/п"]
[1,2,3,4,5]
[2,"С2 - стандартизированная тарифная ставка на покрытие расходов сетевой организации на строительство воздушных линий электропередачи"]
["2.1.","Прокладка воздушных линий с установкой опор, руб./км"]
["2001-01-02","сечение жилы до 16 мм2",561458,"-","-"]
["2002-01-02","сечение жилы до 25 мм2",680690,"-","-"]
["2003-01-02","сечение жилы до 35 мм2",930714,1422158,"-"]
["2004-01-02","сечение жилы до 50 мм2",1184804,1583985,"-"]
["2005-01-02","сечение жилы до 70 мм2",1025791,1510508,4983144]
["2006-01-02","сечение жилы до 95 мм2",1230668,"-","-"]
["2007-01-02","сечение жилы до 120 мм2",1263691,"-","-"]
["2.2.","Прокладка воздушных линий по существующим опорам, руб./км"]
["2001-02-02","сечение жилы до 16 мм2",583509,"-","-"]
["2002-02-02","сечение жилы до 25 мм2",400278,"-","-"]
["2003-02-02","сечение жилы до 35 мм2",381701,"-","-"]
["2004-02-02","сечение жилы до 50 мм2",606480,"-","-"]
[3,"С3 - стандартизированная тарифная ставка на покрытие расходов сетевой организации на строительство кабельных линий электропередачи"]
["3.1.","Прокладка одной КЛ в траншее, руб./км"]
["2001-01-03","Прокладка одной КЛ в траншее (с благоустройством), руб./км"]
["3.1.1.1","сечение жилы до 16 мм2",640869,"-","-"]
["3.1.1.2","сечение жилы до 35 мм2",639603,"-","-"]
["3.1.1.3","сечение жилы до 50 мм2",789642,"-","-"]
["3.1.1.4","сечение жилы до 70 мм2",945564,1630485,"-"]
["3.1.1.5","сечение жилы до 95 мм2",972676,1748962,"-"]
["3.1.1.6","сечение жилы до 120 мм2",1076218,1939213,"-"]
["3.1.1.7","сечение жилы до 150 мм2",1441925,2133986,"-"]
["3.1.1.8","сечение жилы до 185 мм2",1316334,2355608,"-"]
["3.1.1.9","сечение жилы до 240 мм2",1550787,2918329,"-"]
["2002-01-03","Прокладка одной КЛ в траншее (без благоустройства), руб./км"]
["3.1.2.1","сечение жилы до 35 мм2",382355,"-","-"]
["3.1.2.2","сечение жилы до 50 мм2","-",1585759,"-"]
["3.1.2.3","сечение жилы до 70 мм2",735363,"-","-"]
["3.1.2.4","сечение жилы до 95 мм2",597701,"-",","]
["3.1.2.5","сечение жилы до 120 мм2",1237450,1846495,"-"]
["3.1.2.6","сечение жилы до 150 мм2",1527436,"-","-"]
["3.1.2.7","сечение жилы до 185 мм2",784944,"-","-"]
["3.1.2.8","сечение жилы до 240 мм2",2004705,"-","-"]
["3.2.","Прокладка двух КЛ в траншее (с благоустройством), руб./км"]
["2001-02-03","сечение жилы до 120 мм2",1967587,"-","-"]
["2002-02-03","сечение жилы до 150 мм2",2346840,4077926,"-"]
["2003-02-03","сечение жилы до 185 мм2",2509234,"-","-"]
["2004-02-03","сечение жилы до 240 мм2",3013669,6017409,"-"]
["3.3.","Прокладка одной КЛ в полиэтиленовой трубе, руб./км"]
["2001-03-03","Прокладка одной КЛ в полиэтиленовой трубе (с благоустройством), руб./км"]
["3.3.1.1","сечение жилы до 16 мм2",753308,"-","-"]
["3.3.1.2","сечение жилы до 35 мм2",811856,"-","-"]
["3.3.1.3","сечение жилы до 50 мм2",995349,"-","-"]
["3.3.1.4","сечение жилы до 70 мм2",938058,1665467,"-"]
["3.3.1.5","сечение жилы до 95 мм2",1104765,1854000,"-"]
["3.3.1.6","сечение жилы до 120 мм2",1084936,2006887,"-"]
["3.3.1.7","сечение жилы до 150 мм2",1792909,2234745,"-"]
["3.3.1.8","сечение жилы до 185 мм2",1382467,2440902,"-"]
["3.3.1.9","сечение жилы до 240 мм2",1608080,3058640,"-"]
["2002-03-03","Прокладка одной КЛ в полиэтиленовой трубе (без благоустройства), руб./км"]
["3.3.2.1","сечение жилы до 35 мм2",379134,"-","-"]
["3.3.2.2","сечение жилы до 50 мм2","-",1710978,"-"]
["3.3.2.3","сечение жилы до 70 мм2",593580,"-","-"]
["3.3.2.4","сечение жилы до 95 мм2",480585,"-","-"]
["3.3.2.5","сечение жилы до 120 мм2","-",2222444,"-"]
["3.3.2.6","сечение жилы до 150 мм2",1323201,"-","-"]
["3.3.2.7","сечение жилы до 185 мм2",670565,"-","-"]
["3.3.2.8","сечение жилы до 240 мм2",2926092,"-","-"]
["3.4.","Прокладка двух КЛ в полиэтиленовых трубах (с благоустройством), руб./км"]
["2001-04-03","сечение жилы до 120 мм2",2121943,"-","-"]
["2002-04-03","сечение жилы до 150 мм2",2462129,4303639,"-"]
["2003-04-03","сечение жилы до 185 мм2",2704254,"-","-"]
["2004-04-03","сечение жилы до 240 мм2",3097080,6058233,"-"]
["3.5.","Прокладка одной КЛ методом ГНБ, руб./км"]
["2001-05-03","сечение жилы до 70 мм2","-",6911299,"-"]
["2002-05-03","сечение жилы до 95 мм2",6245335,7968367,"-"]
["2003-05-03","сечение жилы до 120 мм2",5666158,6894146,"-"]
["2004-05-03","сечение жилы до 150 мм2",7130715,7318326,"-"]
["2005-05-03","сечение жилы до 185 мм2",6322672,7533309,"-"]
["2006-05-03","сечение жилы до 240 мм2",6566589,7868175,"-"]
[4,"С4 - стандартизированная тарифная ставка на покрытие расходов сетевой организации на строительство"]
["4.1.","Реклоузеры, руб./шт."]
["2001-01-04","мощностью до 630 кВА","-",1571110,"-"]
["2002-01-04","мощностью до 1000 кВА","-",1877758,"-"]
["4.2.","Распределительные пункты, руб./шт."]
["2001-02-04","мощностью до 4000 кВА","-",null,33804569]
[5,"С5 - стандартизированная тарифная ставка на покрытие расходов сетевой организации на строительство трансформаторных подстанций"]
["5.1.","Строительство блочных трансформаторных подстанций с двумя трансформаторами (все типы), руб./кВт"]
["2001-01-05","мощностью до 2 х 160 кВА",19307,null,"-"]
["2002-01-05","мощностью до 2 х 250 кВА",19704,null,"-"]
["2003-01-05","мощностью до 2 х 400 кВА",14441,null,"-"]
["2004-01-05","мощностью до 2 х 630 кВА",9225,null,"-"]
["5.2.","Строительство киосковых трансформаторных подстанций с одним трансформатором (все типы), руб./кВт"]
["2001-02-05","мощностью до 1 х 16 кВА",54863,null,"-"]
["2002-02-05","мощностью до 1 х 25 кВА",36560,null,"-"]
["2003-02-05","мощностью до 1 х 40 кВА",12481,null,"-"]
["2004-02-05","мощностью до 1 х 63 кВА",9435,null,"-"]
["2005-02-05","мощностью до 1 х 100 кВА",5858,null,"-"]
["2006-02-05","мощностью до 1 х 160 кВА",7978,null,"-"]
["2007-02-05","мощностью до 1 х 250 кВА",3666,null,"-"]
["2008-02-05","мощностью до 1 х 400 кВА",5069,null,"-"]
["2009-02-05","мощностью до 1 х 630 кВА",3222,null,"-"]
["2010-02-05","мощностью до 1 х 1000 кВА",2508,null,"-"]
["5.3.","Строительство киосковых трансформаторных подстанций с двумя трансформаторами (все типы), руб./кВт"]
["2001-03-05","мощностью до 2 х 400 кВА"]
["5.4.","Строительство столбовой трансформаторной подстанции с одним трансформатором, руб./кВт"]
["2001-04-05","мощностью до 1 х 16 кВА",71665,null,"-"]
["2002-04-05","мощностью до 1 х 25 кВА",42208,null,"-"]
["2003-04-05","мощностью до 1 х 40 кВА",9291,null,"-"]
["2004-04-05","мощностью до 1 х 63 кВА",7971,null,"-"]
["5.5.","Строительство блочных трансформаторных подстанций с одним трансформатором (все типы), руб./кВт"]
["2001-05-05","мощностью до 1 х 1000 кВА",2991,null,"-"]

{"sheet":"СВОД по % по рассрочке","index":33,"n_rows":45,"n_cols":20,"rows_kept":45,"cut":false,"hidden":true,"merged":[[44,0,44,9],[33,1,33,16],[35,0,36,0],[35,1,36,4],[35,5,35,9],[35,10,35,14],[35,15,35,19],[37,1,37,4],[38,1,38,4],[40,1,40,2],[40,3,40,4],[43,0,43,9],[31,0,31,16],[8,1,8,4],[9,1,9,4],[10,1,10,4],[11,1,11,4],[12,1,12,4],[13,1,13,4],[14,1,14,4],[15,1,15,4],[16,0,16,9],[17,0,17,7],[27,5,29,9],[1,1,1,9],[3,0,3,9],[5,0,7,0],[5,1,7,4],[5,5,7,5],[5,6,7,6],[5,7,7,7],[5,8,7,8],[5,9,7,9]]}
[]
[null," Выпадающие доходы сетевой организации от выплаты процентов по кредитным договорам, связанным с рассрочкой по оплате субъектами малого и среднего предпринимательства технологического присоединения энергопринимающих устройств максимальной мощностью свыше 15 кВт и до 150 кВт включительно в 2020 году"]
[]
[{"$f":"'Инф-я'!$C$13","v":"ООО \"МОНОСТРОЙ\""}]
[]
["N п/п","Информация о договоре технологического присоединения (Контрагент (наименование), № договора ТП, Дата заключения договора)",null,null,null,"Ставка рефинансирования Центрального банка Российской Федерации ","Год закрытия","Квартал закрытия","Сумма договора,тыс. руб. с НДС","Размера расходов, связанных с предоставлением беспроцентной рассрочки в 2020 году, тыс. руб. "]
[]
[]
[1,2,null,null,null,3,4,5,6,7]
[1,{"$f":"Заявитель1!A4","v":0},null,null,null,{"$f":"Заявитель1!B31","v":0},{"$f":"Заявитель1!B34","v":0},{"$f":"Заявитель1!B32","v":0},{"$f":"Заявитель1!B33","v":0},{"$f":"Заявитель1!G36","v":0}]
[2,{"$f":"Заявитель2!A4","v":0},null,null,null,{"$f":"Заявитель2!B31","v":0},{"$f":"Заявитель2!B34","v":0},{"$f":"Заявитель2!B32","v":0},{"$f":"Заявитель2!B33","v":0},{"$f":"Заявитель2!G36","v":0}]
[3,{"$f":"Заявитель3!A4","v":0},null,null,null,{"$f":"Заявитель3!B31","v":0},{"$f":"Заявитель3!B34","v":0},{"$f":"Заявитель3!B32","v":0},{"$f":"Заявитель3!B33","v":0},{"$f":"Заявитель3!G36","v":0}]
[4,{"$f":"Заявитель4!A4","v":0},null,null,null,{"$f":"Заявитель4!B31","v":0},{"$f":"Заявитель4!B34","v":0},{"$f":"Заявитель4!B32","v":0},{"$f":"Заявитель4!B33","v":0},{"$f":"Заявитель4!G36","v":0}]
[]
[]
[]
["Добавить"]
["ИТОГО",null,null,null,null,null,null,null,{"$f":"SUM(I10:I17)","v":0},{"$f":"SUM(J10:J17)","v":0}]
[]
[null,"Свод по кварталам ","Сумма по договорам"]
[null,1,{"$f":"SUMIF(H$6:H$22,B21,I$6:I$22)","v":0}]
[null,2,{"$f":"SUMIF(H$6:H$22,B22,I$6:I$22)","v":0}]
[null,3,{"$f":"SUMIF(H$6:H$22,B23,I$6:I$22)","v":0}]
[null,4,{"$f":"SUMIF(H$6:H$22,B24,I$6:I$22)","v":0}]
[null,"ГОД",{"$f":"SUM(C21:C24)","v":0}]
[null,null,{"$f":"C25-I18","v":0}]
[]
[null,null,null,null,null,"Приложение 2 к Методическим указаниям,  утвержденным приказом ФСТ от 11.09.2014 г. №215-э/1"]
[]
[]
[]
["Таблица 1. Расчет суммарного размера платы за технологическое присоединение, подлежащего беспроцентной рассрочке"]
[]
[null,{"$f":"'Инф-я'!C13","v":"ООО \"МОНОСТРОЙ\""}]
[null,null,null,null,null,null,null,null,null,null,null,null,null,null,null,null,"тыс. руб. с НДС"]
["N п/п","Показатель",null,null,null,"Фактические данные за предыдущий период регулирования",null,null,null,null,"Ожидаемые данные за текущий период регулирования",null,null,null,null,"Плановые показатели на следующий период регулирования"]
[null,null,null,null,null,"1 кв.","2 кв.","3 кв.","4 кв.","всего за год","1 кв.","2 кв.","3 кв.","4 кв.","всего за год","1 кв.","2 кв.","3 кв.","4 кв.","всего за год"]
[1,"Суммарный размер платы за технологическое присоединение, тыс. руб., в т.ч.:",null,null,null,null,null,null,null,{"$f":"SUM(F38:I38)","v":0},null,null,null,null,{"$f":"SUM(K38:N38)","v":0},{"$f":"C21","v":0},{"$f":"C22","v":0},{"$f":"C23","v":0},{"$f":"C24","v":0},{"$f":"SUM(P38:S38)","v":0}]
[2,"Суммарный размер платы за технологическое присоединение, подлежащий беспроцентной рассрочке",null,null,null,null,null,null,null,{"$f":"SUM(F39:I39)","v":0},null,null,null,null,{"$f":"SUM(K39:N39)","v":0},{"$f":"P38*0.95","v":0},{"$f":"Q38*0.95","v":0},0,0,0]
[]
[null,"Руководитель организации",null,{"$f":"'Инф-я'!C21","v":"Чижов Олег Александрович"}]
[]
["Примечание:"]
["1) Суммарный размер платы за технологическое присоединение (п. 1) за каждый квартал следующего расчетного периода регулирования представляет собой прогнозную величину платы за технологическое присоединение для заявителей, обращающихся за беспроцентной рассрочкой, определенную на основе фактических данных о заявителях, обратившихся за рассрочкой за последний год, но не ниже документально подтвержденных данных о заявителях, обратившихся за рассрочкой на следующий период регулирования."]
["2) Суммарный размер платы за технологическое присоединение, подлежащий беспроцентной рассрочке (п. 2), за каждый квартал определяется как суммарный размер платы за технологическое присоединение (п. 1) за каждый квартал, умноженный на 0,95."]

{"sheet":"Заявитель1","index":34,"n_rows":53,"n_cols":10,"rows_kept":53,"cut":false,"hidden":true,"merged":[[52,0,52,6],[35,0,35,5],[37,0,37,6],[42,0,42,6],[43,0,43,6],[44,0,44,6],[45,0,45,6],[46,0,46,6],[48,0,48,6],[49,0,49,6],[50,0,50,6],[51,0,51,6],[0,2,0,7],[2,0,2,6],[3,0,3,6],[4,1,4,6],[6,0,7,0],[6,1,7,1],[6,2,6,6],[6,7,7,7]]}
[null,null,"Приложение 2 к Методическим указаниям,  утвержденным приказом ФСТ от 11.09.2014 г. №215-э/1"]
[]
[" Расчет размера расходов, связанных с предоставлением беспроцентной рассрочки (для конкретного заявителя)\n"]
[]
[null,"(Контрагент (наименование), № договора ТП, Дата заключения договора)"]
[]
["N п/п","Квартал, на который рассчитывается размер расходов, связанных с предоставлением беспроцентной рассрочки","Расходы, связанные с предоставлением беспроцентной рассрочки, тыс. руб. (с учетом НДС)",null,null,null,null,"Номер квартала i"]
[null,null,"в отношении суммарного размера платы за технологическое присоединение в 1 квартале","в отношении суммарного размера платы за технологическое присоединение во 2 квартале","в отношении суммарного размера платы за технологическое присоединение в 3 квартале","в отношении суммарного размера платы за технологическое присоединение в 4 квартале","всего в год",null,null,"  "]
[1,{"$f":"CONCATENATE(\"1 год (\",$B$34,\"г.):\")","v":"1 год (г.):"},{"$f":"SUM(C10:C13)","v":0},{"$f":"SUM(D10:D13)","v":0},{"$f":"SUM(E10:E13)","v":0},{"$f":"SUM(F10:F13)","v":0},{"$f":"SUM(C9:F9)","v":0}]
["1.1.","1 квартал",{"$f":"IF($H10>=$B$32,Заявитель1!$B$33*0.95*((12+$B$32-$H10)/12)*($B$31/4),0)","v":0},null,null,null,0,1]
["1.2.","2 квартал",null,{"$f":"IF($H11>=$B$32,Заявитель1!$B$33*0.95*((12+$B$32-$H11)/12)*($B$31/4),0)","v":0},null,null,0,2]
["1.3.","3 квартал",null,null,{"$f":"IF($H12>=$B$32,Заявитель1!$B$33*0.95*((12+$B$32-$H12)/12)*($B$31/4),0)","v":0},null,0,3]
["1.4.","4 квартал",null,null,null,{"$f":"IF($H13>=$B$32,Заявитель1!$B$33*0.95*((12+$B$32-$H13)/12)*($B$31/4),0)","v":0},0,4]
[2,{"$f":"CONCATENATE(\"1 год (\",$B$34+1,\"г.):\")","v":"1 год (1г.):"},{"$f":"SUM(C15:C18)","v":0},{"$f":"SUM(D15:D18)","v":0},{"$f":"SUM(E15:E18)","v":0},{"$f":"SUM(F15:F18)","v":0},0]
["2.1.","5 квартал",{"$f":"Заявитель1!$B$33*0.95*((12+$B$32-$H15)/12)*($B$31/4)","v":0},null,null,null,0,5]
["2.2.","6 квартал",null,{"$f":"Заявитель1!$B$33*0.95*((12+$B$32-$H16)/12)*($B$31/4)","v":0},null,null,0,6]
["2.3.","7 квартал",null,null,{"$f":"Заявитель1!$B$33*0.95*((12+$B$32-$H17)/12)*($B$31/4)","v":0},null,0,7]
["2.4.","8 квартал",null,null,null,{"$f":"Заявитель1!$B$33*0.95*((12+$B$32-$H18)/12)*($B$31/4)","v":0},0,8]
[3,{"$f":"CONCATENATE(\"1 год (\",$B$34+2,\"г.):\")","v":"1 год (2г.):"},{"$f":"SUM(C20:C23)","v":0},{"$f":"SUM(D20:D23)","v":0},{"$f":"SUM(E20:E23)","v":0},{"$f":"SUM(F20:F23)","v":0},0]
["3.1.","9 квартал",{"$f":"Заявитель1!$B$33*0.95*((12+$B$32-$H20)/12)*($B$31/4)","v":0},null,null,null,0,9]
["3.2.","10 квартал",null,{"$f":"Заявитель1!$B$33*0.95*((12+$B$32-$H21)/12)*($B$31/4)","v":0},null,null,0,10]
["3.3.","11 квартал",null,null,{"$f":"Заявитель1!$B$33*0.95*((12+$B$32-$H22)/12)*($B$31/4)","v":0},null,0,11]
["3.4.","12 квартал",null,null,null,{"$f":"Заявитель1!$B$33*0.95*((12+$B$32-$H23)/12)*($B$31/4)","v":0},0,12]
[4,{"$f":"CONCATENATE(\"1 год (\",$B$34+3,\"г.):\")","v":"1 год (3г.):"},{"$f":"SUM(C25:C27)","v":0},{"$f":"SUM(D25:D27)","v":0},{"$f":"SUM(E25:E27)","v":0},{"$f":"SUM(F25:F27)","v":0},0]
["4.1.","13 квартал",{"$f":"Заявитель1!$B$33*0.95*((12+$B$32-$H25)/12)*($B$31/4)","v":0},null,null,null,0,13]
["4.2.","14 квартал",null,{"$f":"IF((Заявитель1!$B$33*0.95*((12+$B$32-$H26)/12)*($B$31/4))<0,0,Заявитель1!$B$33*0.95*((12+$B$32-$H26)/12)*($B$31/4))","v":0},null,null,0,14]
["4.3.","15 квартал",null,null,{"$f":"IF((Заявитель1!$B$33*0.95*((12+$B$32-$H27)/12)*($B$31/4))<0,0,Заявитель1!$B$33*0.95*((12+$B$32-$H27)/12)*($B$31/4))","v":0},null,0,15]
[5,"Итого",{"$f":"C9+C14+C19+C24","v":0},{"$f":"D9+D14+D19+D24","v":0},{"$f":"E9+E14+E19+E24","v":0},{"$f":"F9+F14+F19+F24","v":0},{"$f":"G9+G14+G19+G24","v":0}]
[]
[]
[]
["k"]
[]
["Год закрытия договора"]
[]
["Размера расходов, связанных с предоставлением беспроцентной рассрочки в 2020 году",null,null,null,null,null,{"$f":"IF(B34<2017,0,IF(B34=2017,G24,IF(B34=2018,G19,IF(B34=2019,G14))))","v":0},"тыс. руб. "]
[]
["Размер расходов, связанных с предоставлением беспроцентной рассрочки, в i-м квартале в течение трехлетнего периода предоставления беспроцентной рассрочки рассчитывается по формуле (1):"]
[]
[null,null,null,", (1)"]
[]
["где:"]
["       - суммарный размер платы за технологическое присоединение, начисляемый заявителям, которым предоставляется рассрочка, в квартале k периода регулирования (тыс. руб.);"]
["k - номер квартала по порядку в периоде регулирования, в который начисляется размер платы за технологическое присоединение (равен от 1 до 4);"]
["i - номер квартала по порядку, начиная с момента начисления размера платы за технологическое присоединение с условием предоставления беспроцентной рассрочки в квартале k, с учетом квартала, в котором произведены начисления, в течение трехлетнего периода предоставления беспроцентной рассрочки (равен от k до 12 + k - 1);"]
["          - ставка рефинансирования Центрального банка Российской Федерации на дату представления сетевой организацией заявки на установление размера платы за технологическое присоединение в регулирующий орган."]
["В случае отклонения фактического значения процентной ставки по кредитам, связанным с рассрочкой по оплате технологического присоединения, от ставки рефинансирования Центрального банка Российской Федерации, при расчете фактического размера расходов, связанных с предоставлением беспроцентной рассрочки, применяется величина процентной ставки в соответствии с пунктом 87 Основ ценообразования."]
[]
["Примечание: "]
["1) Периодом предоставления беспроцентной рассрочки считается 3 года."]
["2) Размер расходов, связанных с предоставлением беспроцентной рассрочки, в каждый квартал периода регулирования в течение трехлетнего периода предоставления беспроцентной рассрочки в отношении планируемого к получению (фактически полученного) от заявителей суммарного размера платы за технологическое присоединение, определяется в соответствии с формулой (1) Методических указаний по определению выпадающих доходов, связанных с осуществлением технологического присоединения к электрическим сетям."]
["3) При расчете планируемых значений показателей при заполнении таблиц 1 и 2 применяется планируемая к получению величина суммарного размера платы за технологическое присоединение, подлежащего беспроцентной рассрочке."]
["4) При расчете фактических значений показателей при заполнении таблиц 1 и 2 применяется суммарная плата за технологическое присоединение, начисленная с беспроцентной рассрочкой в соответствии с заключенными договорами об осуществлении технологического присоединения к электрическим сетям."]

{"sheet":"Заявитель2","index":35,"n_rows":53,"n_cols":10,"rows_kept":53,"cut":false,"hidden":true,"merged":[[52,0,52,6],[35,0,35,5],[37,0,37,6],[42,0,42,6],[43,0,43,6],[44,0,44,6],[45,0,45,6],[46,0,46,6],[48,0,48,6],[49,0,49,6],[50,0,50,6],[51,0,51,6],[0,2,0,7],[2,0,2,6],[3,0,3,6],[4,1,4,6],[6,0,7,0],[6,1,7,1],[6,2,6,6],[6,7,7,7]]}
[null,null,"Приложение 2 к Методическим указаниям,  утвержденным приказом ФСТ от 11.09.2014 г. №215-э/1"]
[]
[" Расчет размера расходов, связанных с предоставлением беспроцентной рассрочки (для конкретного заявителя)\n"]
[]
[null,"(Контрагент (наименование), № договора ТП, Дата заключения договора)"]
[]
["N п/п","Квартал, на который рассчитывается размер расходов, связанных с предоставлением беспроцентной рассрочки","Расходы, связанные с предоставлением беспроцентной рассрочки, тыс. руб. (с учетом НДС)",null,null,null,null,"Номер квартала i"]
[null,null,"в отношении суммарного размера платы за технологическое присоединение в 1 квартале","в отношении суммарного размера платы за технологическое присоединение во 2 квартале","в отношении суммарного размера платы за технологическое присоединение в 3 квартале","в отношении суммарного размера платы за технологическое присоединение в 4 квартале","всего в год",null,null,"  "]
[1,{"$f":"CONCATENATE(\"1 год (\",$B$34,\"г.):\")","v":"1 год (г.):"},{"$f":"SUM(C10:C13)","v":0},{"$f":"SUM(D10:D13)","v":0},{"$f":"SUM(E10:E13)","v":0},{"$f":"SUM(F10:F13)","v":0},{"$f":"SUM(C9:F9)","v":0}]
["1.1.","1 квартал",{"$f":"IF($H10>=$B$32,Заявитель2!$B$33*0.95*((12+$B$32-$H10)/12)*($B$31/4),0)","v":0},null,null,null,0,1]
["1.2.","2 квартал",null,{"$f":"IF($H11>=$B$32,Заявитель2!$B$33*0.95*((12+$B$32-$H11)/12)*($B$31/4),0)","v":0},null,null,0,2]
["1.3.","3 квартал",null,null,{"$f":"IF($H12>=$B$32,Заявитель2!$B$33*0.95*((12+$B$32-$H12)/12)*($B$31/4),0)","v":0},null,0,3]
["1.4.","4 квартал",null,null,null,{"$f":"IF($H13>=$B$32,Заявитель2!$B$33*0.95*((12+$B$32-$H13)/12)*($B$31/4),0)","v":0},0,4]
[2,{"$f":"CONCATENATE(\"1 год (\",$B$34+1,\"г.):\")","v":"1 год (1г.):"},{"$f":"SUM(C15:C18)","v":0},{"$f":"SUM(D15:D18)","v":0},{"$f":"SUM(E15:E18)","v":0},{"$f":"SUM(F15:F18)","v":0},0]
["2.1.","5 квартал",{"$f":"Заявитель2!$B$33*0.95*((12+$B$32-$H15)/12)*($B$31/4)","v":0},null,null,null,0,5]
["2.2.","6 квартал",null,{"$f":"Заявитель2!$B$33*0.95*((12+$B$32-$H16)/12)*($B$31/4)","v":0},null,null,0,6]
["2.3.","7 квартал",null,null,{"$f":"Заявитель2!$B$33*0.95*((12+$B$32-$H17)/12)*($B$31/4)","v":0},null,0,7]
["2.4.","8 квартал",null,null,null,{"$f":"Заявитель2!$B$33*0.95*((12+$B$32-$H18)/12)*($B$31/4)","v":0},0,8]
[3,{"$f":"CONCATENATE(\"1 год (\",$B$34+2,\"г.):\")","v":"1 год (2г.):"},{"$f":"SUM(C20:C23)","v":0},{"$f":"SUM(D20:D23)","v":0},{"$f":"SUM(E20:E23)","v":0},{"$f":"SUM(F20:F23)","v":0},0]
["3.1.","9 квартал",{"$f":"Заявитель2!$B$33*0.95*((12+$B$32-$H20)/12)*($B$31/4)","v":0},null,null,null,0,9]
["3.2.","10 квартал",null,{"$f":"Заявитель2!$B$33*0.95*((12+$B$32-$H21)/12)*($B$31/4)","v":0},null,null,0,10]
["3.3.","11 квартал",null,null,{"$f":"Заявитель2!$B$33*0.95*((12+$B$32-$H22)/12)*($B$31/4)","v":0},null,0,11]
["3.4.","12 квартал",null,null,null,{"$f":"Заявитель2!$B$33*0.95*((12+$B$32-$H23)/12)*($B$31/4)","v":0},0,12]
[4,{"$f":"CONCATENATE(\"1 год (\",$B$34+3,\"г.):\")","v":"1 год (3г.):"},{"$f":"SUM(C25:C27)","v":0},{"$f":"SUM(D25:D27)","v":0},{"$f":"SUM(E25:E27)","v":0},{"$f":"SUM(F25:F27)","v":0},0]
["4.1.","13 квартал",{"$f":"Заявитель2!$B$33*0.95*((12+$B$32-$H25)/12)*($B$31/4)","v":0},null,null,null,0,13]
["4.2.","14 квартал",null,{"$f":"IF((Заявитель2!$B$33*0.95*((12+$B$32-$H26)/12)*($B$31/4))<0,0,Заявитель2!$B$33*0.95*((12+$B$32-$H26)/12)*($B$31/4))","v":0},null,null,0,14]
["4.3.","15 квартал",null,null,{"$f":"IF((Заявитель2!$B$33*0.95*((12+$B$32-$H27)/12)*($B$31/4))<0,0,Заявитель2!$B$33*0.95*((12+$B$32-$H27)/12)*($B$31/4))","v":0},null,0,15]
[5,"Итого",{"$f":"C9+C14+C19+C24","v":0},{"$f":"D9+D14+D19+D24","v":0},{"$f":"E9+E14+E19+E24","v":0},{"$f":"F9+F14+F19+F24","v":0},{"$f":"G9+G14+G19+G24","v":0}]
[]
[]
[]
["k"]
[]
["Год закрытия договора"]
[]
["Размера расходов, связанных с предоставлением беспроцентной рассрочки в 2020 году",null,null,null,null,null,{"$f":"IF(B34<2017,0,IF(B34=2017,G24,IF(B34=2018,G19,IF(B34=2019,G14))))","v":0},"тыс. руб. "]
[]
["Размер расходов, связанных с предоставлением беспроцентной рассрочки, в i-м квартале в течение трехлетнего периода предоставления беспроцентной рассрочки рассчитывается по формуле (1):"]
[]
[null,null,null,", (1)"]
[]
["где:"]
["       - суммарный размер платы за технологическое присоединение, начисляемый заявителям, которым предоставляется рассрочка, в квартале k периода регулирования (тыс. руб.);"]
["k - номер квартала по порядку в периоде регулирования, в который начисляется размер платы за технологическое присоединение (равен от 1 до 4);"]
["i - номер квартала по порядку, начиная с момента начисления размера платы за технологическое присоединение с условием предоставления беспроцентной рассрочки в квартале k, с учетом квартала, в котором произведены начисления, в течение трехлетнего периода предоставления беспроцентной рассрочки (равен от k до 12 + k - 1);"]
["          - ставка рефинансирования Центрального банка Российской Федерации на дату представления сетевой организацией заявки на установление размера платы за технологическое присоединение в регулирующий орган."]
["В случае отклонения фактического значения процентной ставки по кредитам, связанным с рассрочкой по оплате технологического присоединения, от ставки рефинансирования Центрального банка Российской Федерации, при расчете фактического размера расходов, связанных с предоставлением беспроцентной рассрочки, применяется величина процентной ставки в соответствии с пунктом 87 Основ ценообразования."]
[]
["Примечание: "]
["1) Периодом предоставления беспроцентной рассрочки считается 3 года."]
["2) Размер расходов, связанных с предоставлением беспроцентной рассрочки, в каждый квартал периода регулирования в течение трехлетнего периода предоставления беспроцентной рассрочки в отношении планируемого к получению (фактически полученного) от заявителей суммарного размера платы за технологическое присоединение, определяется в соответствии с формулой (1) Методических указаний по определению выпадающих доходов, связанных с осуществлением технологического присоединения к электрическим сетям."]
["3) При расчете планируемых значений показателей при заполнении таблиц 1 и 2 применяется планируемая к получению величина суммарного размера платы за технологическое присоединение, подлежащего беспроцентной рассрочке."]
["4) При расчете фактических значений показателей при заполнении таблиц 1 и 2 применяется суммарная плата за технологическое присоединение, начисленная с беспроцентной рассрочкой в соответствии с заключенными договорами об осуществлении технологического присоединения к электрическим сетям."]

{"sheet":"Заявитель3","index":36,"n_rows":53,"n_cols":10,"rows_kept":53,"cut":false,"hidden":true,"merged":[[52,0,52,6],[35,0,35,5],[37,0,37,6],[42,0,42,6],[43,0,43,6],[44,0,44,6],[45,0,45,6],[46,0,46,6],[48,0,48,6],[49,0,49,6],[50,0,50,6],[51,0,51,6],[0,2,0,7],[2,0,2,6],[3,0,3,6],[4,1,4,6],[6,0,7,0],[6,1,7,1],[6,2,6,6],[6,7,7,7]]}
[null,null,"Приложение 2 к Методическим указаниям,  утвержденным приказом ФСТ от 11.09.2014 г. №215-э/1"]
[]
[" Расчет размера расходов, связанных с предоставлением беспроцентной рассрочки (для конкретного заявителя)\n"]
[]
[null,"(Контрагент (наименование), № договора ТП, Дата заключения договора)"]
[]
["N п/п","Квартал, на который рассчитывается размер расходов, связанных с предоставлением беспроцентной рассрочки","Расходы, связанные с предоставлением беспроцентной рассрочки, тыс. руб. (с учетом НДС)",null,null,null,null,"Номер квартала i"]
[null,null,"в отношении суммарного размера платы за технологическое присоединение в 1 квартале","в отношении суммарного размера платы за технологическое присоединение во 2 квартале","в отношении суммарного размера платы за технологическое присоединение в 3 квартале","в отношении суммарного размера платы за технологическое присоединение в 4 квартале","всего в год",null,null,"  "]
[1,{"$f":"CONCATENATE(\"1 год (\",$B$34,\"г.):\")","v":"1 год (г.):"},{"$f":"SUM(C10:C13)","v":0},{"$f":"SUM(D10:D13)","v":0},{"$f":"SUM(E10:E13)","v":0},{"$f":"SUM(F10:F13)","v":0},{"$f":"SUM(C9:F9)","v":0}]
["1.1.","1 квартал",{"$f":"IF($H10>=$B$32,Заявитель3!$B$33*0.95*((12+$B$32-$H10)/12)*($B$31/4),0)","v":0},null,null,null,0,1]
["1.2.","2 квартал",null,{"$f":"IF($H11>=$B$32,Заявитель3!$B$33*0.95*((12+$B$32-$H11)/12)*($B$31/4),0)","v":0},null,null,0,2]
["1.3.","3 квартал",null,null,{"$f":"IF($H12>=$B$32,Заявитель3!$B$33*0.95*((12+$B$32-$H12)/12)*($B$31/4),0)","v":0},null,0,3]
["1.4.","4 квартал",null,null,null,{"$f":"IF($H13>=$B$32,Заявитель3!$B$33*0.95*((12+$B$32-$H13)/12)*($B$31/4),0)","v":0},0,4]
[2,{"$f":"CONCATENATE(\"1 год (\",$B$34+1,\"г.):\")","v":"1 год (1г.):"},{"$f":"SUM(C15:C18)","v":0},{"$f":"SUM(D15:D18)","v":0},{"$f":"SUM(E15:E18)","v":0},{"$f":"SUM(F15:F18)","v":0},0]
["2.1.","5 квартал",{"$f":"Заявитель3!$B$33*0.95*((12+$B$32-$H15)/12)*($B$31/4)","v":0},null,null,null,0,5]
["2.2.","6 квартал",null,{"$f":"Заявитель3!$B$33*0.95*((12+$B$32-$H16)/12)*($B$31/4)","v":0},null,null,0,6]
["2.3.","7 квартал",null,null,{"$f":"Заявитель3!$B$33*0.95*((12+$B$32-$H17)/12)*($B$31/4)","v":0},null,0,7]
["2.4.","8 квартал",null,null,null,{"$f":"Заявитель3!$B$33*0.95*((12+$B$32-$H18)/12)*($B$31/4)","v":0},0,8]
[3,{"$f":"CONCATENATE(\"1 год (\",$B$34+2,\"г.):\")","v":"1 год (2г.):"},{"$f":"SUM(C20:C23)","v":0},{"$f":"SUM(D20:D23)","v":0},{"$f":"SUM(E20:E23)","v":0},{"$f":"SUM(F20:F23)","v":0},0]
["3.1.","9 квартал",{"$f":"Заявитель3!$B$33*0.95*((12+$B$32-$H20)/12)*($B$31/4)","v":0},null,null,null,0,9]
["3.2.","10 квартал",null,{"$f":"Заявитель3!$B$33*0.95*((12+$B$32-$H21)/12)*($B$31/4)","v":0},null,null,0,10]
["3.3.","11 квартал",null,null,{"$f":"Заявитель3!$B$33*0.95*((12+$B$32-$H22)/12)*($B$31/4)","v":0},null,0,11]
["3.4.","12 квартал",null,null,null,{"$f":"Заявитель3!$B$33*0.95*((12+$B$32-$H23)/12)*($B$31/4)","v":0},0,12]
[4,{"$f":"CONCATENATE(\"1 год (\",$B$34+3,\"г.):\")","v":"1 год (3г.):"},{"$f":"SUM(C25:C27)","v":0},{"$f":"SUM(D25:D27)","v":0},{"$f":"SUM(E25:E27)","v":0},{"$f":"SUM(F25:F27)","v":0},0]
["4.1.","13 квартал",{"$f":"Заявитель3!$B$33*0.95*((12+$B$32-$H25)/12)*($B$31/4)","v":0},null,null,null,0,13]
["4.2.","14 квартал",null,{"$f":"IF((Заявитель3!$B$33*0.95*((12+$B$32-$H26)/12)*($B$31/4))<0,0,Заявитель3!$B$33*0.95*((12+$B$32-$H26)/12)*($B$31/4))","v":0},null,null,0,14]
["4.3.","15 квартал",null,null,{"$f":"IF((Заявитель3!$B$33*0.95*((12+$B$32-$H27)/12)*($B$31/4))<0,0,Заявитель3!$B$33*0.95*((12+$B$32-$H27)/12)*($B$31/4))","v":0},null,0,15]
[5,"Итого",{"$f":"C9+C14+C19+C24","v":0},{"$f":"D9+D14+D19+D24","v":0},{"$f":"E9+E14+E19+E24","v":0},{"$f":"F9+F14+F19+F24","v":0},{"$f":"G9+G14+G19+G24","v":0}]
[]
[]
[]
["k"]
[]
["Год закрытия договора"]
[]
["Размера расходов, связанных с предоставлением беспроцентной рассрочки в 2020 году",null,null,null,null,null,{"$f":"IF(B34<2017,0,IF(B34=2017,G24,IF(B34=2018,G19,IF(B34=2019,G14))))","v":0},"тыс. руб. "]
[]
["Размер расходов, связанных с предоставлением беспроцентной рассрочки, в i-м квартале в течение трехлетнего периода предоставления беспроцентной рассрочки рассчитывается по формуле (1):"]
[]
[null,null,null,", (1)"]
[]
["где:"]
["       - суммарный размер платы за технологическое присоединение, начисляемый заявителям, которым предоставляется рассрочка, в квартале k периода регулирования (тыс. руб.);"]
["k - номер квартала по порядку в периоде регулирования, в который начисляется размер платы за технологическое присоединение (равен от 1 до 4);"]
["i - номер квартала по порядку, начиная с момента начисления размера платы за технологическое присоединение с условием предоставления беспроцентной рассрочки в квартале k, с учетом квартала, в котором произведены начисления, в течение трехлетнего периода предоставления беспроцентной рассрочки (равен от k до 12 + k - 1);"]
["          - ставка рефинансирования Центрального банка Российской Федерации на дату представления сетевой организацией заявки на установление размера платы за технологическое присоединение в регулирующий орган."]
["В случае отклонения фактического значения процентной ставки по кредитам, связанным с рассрочкой по оплате технологического присоединения, от ставки рефинансирования Центрального банка Российской Федерации, при расчете фактического размера расходов, связанных с предоставлением беспроцентной рассрочки, применяется величина процентной ставки в соответствии с пунктом 87 Основ ценообразования."]
[]
["Примечание: "]
["1) Периодом предоставления беспроцентной рассрочки считается 3 года."]
["2) Размер расходов, связанных с предоставлением беспроцентной рассрочки, в каждый квартал периода регулирования в течение трехлетнего периода предоставления беспроцентной рассрочки в отношении планируемого к получению (фактически полученного) от заявителей суммарного размера платы за технологическое присоединение, определяется в соответствии с формулой (1) Методических указаний по определению выпадающих доходов, связанных с осуществлением технологического присоединения к электрическим сетям."]
["3) При расчете планируемых значений показателей при заполнении таблиц 1 и 2 применяется планируемая к получению величина суммарного размера платы за технологическое присоединение, подлежащего беспроцентной рассрочке."]
["4) При расчете фактических значений показателей при заполнении таблиц 1 и 2 применяется суммарная плата за технологическое присоединение, начисленная с беспроцентной рассрочкой в соответствии с заключенными договорами об осуществлении технологического присоединения к электрическим сетям."]

{"sheet":"Заявитель4","index":37,"n_rows":53,"n_cols":10,"rows_kept":53,"cut":false,"hidden":true,"merged":[[52,0,52,6],[35,0,35,5],[37,0,37,6],[42,0,42,6],[43,0,43,6],[44,0,44,6],[45,0,45,6],[46,0,46,6],[48,0,48,6],[49,0,49,6],[50,0,50,6],[51,0,51,6],[0,2,0,7],[2,0,2,6],[3,0,3,6],[4,1,4,6],[6,0,7,0],[6,1,7,1],[6,2,6,6],[6,7,7,7]]}
[null,null,"Приложение 2 к Методическим указаниям,  утвержденным приказом ФСТ от 11.09.2014 г. №215-э/1"]
[]
[" Расчет размера расходов, связанных с предоставлением беспроцентной рассрочки (для конкретного заявителя)\n"]
[]
[null,"(Контрагент (наименование), № договора ТП, Дата заключения договора)"]
[]
["N п/п","Квартал, на который рассчитывается размер расходов, связанных с предоставлением беспроцентной рассрочки","Расходы, связанные с предоставлением беспроцентной рассрочки, тыс. руб. (с учетом НДС)",null,null,null,null,"Номер квартала i"]
[null,null,"в отношении суммарного размера платы за технологическое присоединение в 1 квартале","в отношении суммарного размера платы за технологическое присоединение во 2 квартале","в отношении суммарного размера платы за технологическое присоединение в 3 квартале","в отношении суммарного размера платы за технологическое присоединение в 4 квартале","всего в год",null,null,"  "]
[1,{"$f":"CONCATENATE(\"1 год (\",$B$34,\"г.):\")","v":"1 год (г.):"},{"$f":"SUM(C10:C13)","v":0},{"$f":"SUM(D10:D13)","v":0},{"$f":"SUM(E10:E13)","v":0},{"$f":"SUM(F10:F13)","v":0},{"$f":"SUM(C9:F9)","v":0}]
["1.1.","1 квартал",{"$f":"IF($H10>=$B$32,Заявитель4!$B$33*0.95*((12+$B$32-$H10)/12)*($B$31/4),0)","v":0},null,null,null,0,1]
["1.2.","2 квартал",null,{"$f":"IF($H11>=$B$32,Заявитель4!$B$33*0.95*((12+$B$32-$H11)/12)*($B$31/4),0)","v":0},null,null,0,2]
["1.3.","3 квартал",null,null,{"$f":"IF($H12>=$B$32,Заявитель4!$B$33*0.95*((12+$B$32-$H12)/12)*($B$31/4),0)","v":0},null,0,3]
["1.4.","4 квартал",null,null,null,{"$f":"IF($H13>=$B$32,Заявитель4!$B$33*0.95*((12+$B$32-$H13)/12)*($B$31/4),0)","v":0},0,4]
[2,{"$f":"CONCATENATE(\"1 год (\",$B$34+1,\"г.):\")","v":"1 год (1г.):"},{"$f":"SUM(C15:C18)","v":0},{"$f":"SUM(D15:D18)","v":0},{"$f":"SUM(E15:E18)","v":0},{"$f":"SUM(F15:F18)","v":0},0]
["2.1.","5 квартал",{"$f":"Заявитель4!$B$33*0.95*((12+$B$32-$H15)/12)*($B$31/4)","v":0},null,null,null,0,5]
["2.2.","6 квартал",null,{"$f":"Заявитель4!$B$33*0.95*((12+$B$32-$H16)/12)*($B$31/4)","v":0},null,null,0,6]
["2.3.","7 квартал",null,null,{"$f":"Заявитель4!$B$33*0.95*((12+$B$32-$H17)/12)*($B$31/4)","v":0},null,0,7]
["2.4.","8 квартал",null,null,null,{"$f":"Заявитель4!$B$33*0.95*((12+$B$32-$H18)/12)*($B$31/4)","v":0},0,8]
[3,{"$f":"CONCATENATE(\"1 год (\",$B$34+2,\"г.):\")","v":"1 год (2г.):"},{"$f":"SUM(C20:C23)","v":0},{"$f":"SUM(D20:D23)","v":0},{"$f":"SUM(E20:E23)","v":0},{"$f":"SUM(F20:F23)","v":0},0]
["3.1.","9 квартал",{"$f":"Заявитель4!$B$33*0.95*((12+$B$32-$H20)/12)*($B$31/4)","v":0},null,null,null,0,9]
["3.2.","10 квартал",null,{"$f":"Заявитель4!$B$33*0.95*((12+$B$32-$H21)/12)*($B$31/4)","v":0},null,null,0,10]
["3.3.","11 квартал",null,null,{"$f":"Заявитель4!$B$33*0.95*((12+$B$32-$H22)/12)*($B$31/4)","v":0},null,0,11]
["3.4.","12 квартал",null,null,null,{"$f":"Заявитель4!$B$33*0.95*((12+$B$32-$H23)/12)*($B$31/4)","v":0},0,12]
[4,{"$f":"CONCATENATE(\"1 год (\",$B$34+3,\"г.):\")","v":"1 год (3г.):"},{"$f":"SUM(C25:C27)","v":0},{"$f":"SUM(D25:D27)","v":0},{"$f":"SUM(E25:E27)","v":0},{"$f":"SUM(F25:F27)","v":0},0]
["4.1.","13 квартал",{"$f":"Заявитель4!$B$33*0.95*((12+$B$32-$H25)/12)*($B$31/4)","v":0},null,null,null,0,13]
["4.2.","14 квартал",null,{"$f":"IF((Заявитель4!$B$33*0.95*((12+$B$32-$H26)/12)*($B$31/4))<0,0,Заявитель4!$B$33*0.95*((12+$B$32-$H26)/12)*($B$31/4))","v":0},null,null,0,14]
["4.3.","15 квартал",null,null,{"$f":"IF((Заявитель4!$B$33*0.95*((12+$B$32-$H27)/12)*($B$31/4))<0,0,Заявитель4!$B$33*0.95*((12+$B$32-$H27)/12)*($B$31/4))","v":0},null,0,15]
[5,"Итого",{"$f":"C9+C14+C19+C24","v":0},{"$f":"D9+D14+D19+D24","v":0},{"$f":"E9+E14+E19+E24","v":0},{"$f":"F9+F14+F19+F24","v":0},{"$f":"G9+G14+G19+G24","v":0}]
[]
[]
[]
["k"]
[]
["Год закрытия договора"]
[]
["Размера расходов, связанных с предоставлением беспроцентной рассрочки в 2020 году",null,null,null,null,null,{"$f":"IF(B34<2017,0,IF(B34=2017,G24,IF(B34=2018,G19,IF(B34=2019,G14))))","v":0},"тыс. руб. "]
[]
["Размер расходов, связанных с предоставлением беспроцентной рассрочки, в i-м квартале в течение трехлетнего периода предоставления беспроцентной рассрочки рассчитывается по формуле (1):"]
[]
[null,null,null,", (1)"]
[]
["где:"]
["       - суммарный размер платы за технологическое присоединение, начисляемый заявителям, которым предоставляется рассрочка, в квартале k периода регулирования (тыс. руб.);"]
["k - номер квартала по порядку в периоде регулирования, в который начисляется размер платы за технологическое присоединение (равен от 1 до 4);"]
["i - номер квартала по порядку, начиная с момента начисления размера платы за технологическое присоединение с условием предоставления беспроцентной рассрочки в квартале k, с учетом квартала, в котором произведены начисления, в течение трехлетнего периода предоставления беспроцентной рассрочки (равен от k до 12 + k - 1);"]
["          - ставка рефинансирования Центрального банка Российской Федерации на дату представления сетевой организацией заявки на установление размера платы за технологическое присоединение в регулирующий орган."]
["В случае отклонения фактического значения процентной ставки по кредитам, связанным с рассрочкой по оплате технологического присоединения, от ставки рефинансирования Центрального банка Российской Федерации, при расчете фактического размера расходов, связанных с предоставлением беспроцентной рассрочки, применяется величина процентной ставки в соответствии с пунктом 87 Основ ценообразования."]
[]
["Примечание: "]
["1) Периодом предоставления беспроцентной рассрочки считается 3 года."]
["2) Размер расходов, связанных с предоставлением беспроцентной рассрочки, в каждый квартал периода регулирования в течение трехлетнего периода предоставления беспроцентной рассрочки в отношении планируемого к получению (фактически полученного) от заявителей суммарного размера платы за технологическое присоединение, определяется в соответствии с формулой (1) Методических указаний по определению выпадающих доходов, связанных с осуществлением технологического присоединения к электрическим сетям."]
["3) При расчете планируемых значений показателей при заполнении таблиц 1 и 2 применяется планируемая к получению величина суммарного размера платы за технологическое присоединение, подлежащего беспроцентной рассрочке."]
["4) При расчете фактических значений показателей при заполнении таблиц 1 и 2 применяется суммарная плата за технологическое присоединение, начисленная с беспроцентной рассрочкой в соответствии с заключенными договорами об осуществлении технологического присоединения к электрическим сетям."]

{"sheet":"Возврат заемных средств","index":38,"n_rows":17,"n_cols":15,"rows_kept":17,"cut":false,"hidden":true,"merged":[[1,0,1,6],[3,0,3,6],[5,0,6,0],[5,1,5,2],[5,3,5,4],[5,5,5,6],[5,7,5,8],[5,9,5,10],[5,11,5,12],[5,13,5,14],[16,0,16,1],[16,3,16,5]]}
[]
["Расходы на возврат и обслуживание долгосрочных заемных средств, направляемых на финансирование капитальных вложений "]
[]
[{"$f":"'Инф-я'!C13","v":"ООО \"МОНОСТРОЙ\""}]
[null,null,null,null,null,null,null,null,null,null,null,null,null,"тыс. руб."]
["Показатели","2018 год",null,"2019 год",null,"2020 год",null,"2021 год",null,"2022 год",null,"2023 год",null,"2024 год"]
[null,"Утверждено","Факт","Утверждено","Ожидаемые","По данным организации","По данным экспертов","По данным организации","По данным экспертов","По данным организации","По данным экспертов","По данным организации","По данным экспертов","По данным организации","По данным экспертов"]
[1,2,3,4,5,6,7,8,9,10,11,12,13,14,15]
[]
[]
["Итого расходы на возврат и обслуживание долгосрочных заемных средств, направляемых на финансирование капитальных вложений ",{"$f":"B10+B9","v":0},0,0,0,0,0,{"$f":"H10+H9","v":0},0,0,0,0,0,0,0]
["в  т.ч. по уровням напряжения:                         ВН","х","х",null,"х"]
["СН1","х","х",null,"х"]
["СН11","х","х",null,"х"]
["НН","х","х",null,"х"]
[]
["Руководитель организации",null,null,{"$f":"'Инф-я'!$C$21","v":"Чижов Олег Александрович"}]

{"sheet":"Корр. ПР","index":39,"n_rows":20,"n_cols":5,"rows_kept":20,"cut":false,"hidden":false,"merged":[[19,2,19,3],[17,0,17,1],[1,0,1,4],[3,0,3,4],[5,0,7,0],[5,1,7,1],[5,2,7,2],[5,3,6,4]]}
[]
["Корректировка подконтрольных расходов по результатам 2018 года"]
[]
[{"$f":"'Инф-я'!C13","v":"ООО \"МОНОСТРОЙ\""}]
[]
["№ п.п.","Наименование","Ед.изм.","2018 год"]
[]
[null,null,null,"По расчету организации","По расчету экспертов"]
[1,2,3,4,5]
["1.","Величина подконтрольных расходов, утвержденных на 2017 год ","тыс. руб.",{"$f":"'Подконтрольные расходы'!F24","v":1512.3075527838332},{"$f":"D10","v":1512.3075527838332}]
["2.","Величина подконтрольных расходов, утвержденных на 2018 год ","тыс. руб.",{"$f":"' НВВ содержание'!C9","v":3057.7413609826681},{"$f":"D11","v":3057.7413609826681}]
["3.","Фактический индекс потребительских цен 2018 года (ИПЦ)","%",{"$f":"'Подконтрольные расходы'!I12","v":3.4000000000000002E-2},{"$f":"D12","v":3.4000000000000002E-2}]
["4.","Индекс эффективности подконтрольных расходов (Хэф)","%",{"$f":"'Подконтрольные расходы'!H10","v":0.01},{"$f":"D13","v":0.01}]
["5.","Индекс изменения количества активов (ИКА ф) ((стр.5.1.- стр. 5.2.)/стр.5.2*100)","%",{"$f":"IF(D16=0,0,(D15-D16)/D16)","v":9.2154996392219538E-2},{"$f":"IF(E16=0,0,(E15-E16)/E16)","v":-1}]
["5.1.","фактический объем условных единиц 2018 года","усл. ед.",{"$f":"'УЕ ТП 2017-2024'!L60","v":71.139700000000005},{"$f":"'УЕ ТП 2017-2024'!N60","v":0}]
["5.2.","фактический объем условных единиц 2017 года ","усл. ед.",{"$f":"'УЕ ТП 2017-2024'!H60","v":65.137},{"$f":"D16","v":65.137}]
["6.","Коэффициент эластичности подконтрольных расходов по количеству активов (К эл)","знач.",0.75,0.75]
["Итого корректировка подконтрольных расходов",null,"тыс. руб.",{"$f":"D10*(1+D12)*(1+D17*D14)*(1-D13)-D11","v":-1402.654526657409},{"$f":"E10*(1+E12)*(1+E17*E14)*(1-E13)-E11","v":-2670.7191736119935}]
[]
[null,"Руководитель организации",{"$f":"'Инф-я'!$C$21","v":"Чижов Олег Александрович"}]

{"sheet":"Корр. ПО","index":40,"n_rows":42,"n_cols":10,"rows_kept":42,"cut":false,"hidden":false,"merged":[[8,0,8,9],[24,0,24,9],[41,0,41,3],[1,0,1,9],[3,0,3,9],[5,0,6,0],[5,1,5,2],[5,3,6,3],[5,4,5,5],[5,6,5,7],[5,8,5,9],[41,5,41,8]]}
[]
["Корректировка НВВ с учетом изменения полезного отпуска и цен на электрическую энергию за 2018 год                       "]
[]
[{"$f":"'Инф-я'!C13","v":"ООО \"МОНОСТРОЙ\""}]
[]
["Месяц  (Период)","Вход электрической энергии в сеть организации для передачи сторонним потребителям",null,"Норматив потерь","Объем потерь 2018 года",null,"Цена покупки потерь электрической энергии",null,"Величина корректировки"]
[null,"План","Факт",null,"Согласовано регулирующим органом","Факт","Учтенная при установлении тарифа","Фактическая цена","По данным организации","По данным экспертов"]
["Ед.изм.","тыс.кВт.ч.","тыс.кВт.ч.","%","тыс.кВт.ч.","тыс.кВт.ч.","руб/тыс.кВт.ч","руб/тыс.кВт.ч","тыс. руб.","тыс. руб."]
["По данным организации"]
["Январь","х",679.26900000000001,"х","х",39.649000000000001,"х",2359.420414134026,"х","х"]
["Февраль","х",766.34900000000005,"х","х",111.119,"х",2522.5128915846976,"х","х"]
["Март","х",689.44399999999996,"х","х",79.525000000000006,"х",2357.7654825526561,"х","х"]
["Апрель","х",677.10300000000007,"х","х",57.052,"х",2572.4866788193231,"х","х"]
["Май","х",530.71100000000001,"х","х",32.664000000000001,"х",2416.7009551800147,"х","х"]
["Июнь","х",549.20799999999997,"х","х",32.799999999999997,"х",2392.7143292682927,"х","х"]
["1 полугодие",{"$f":"6746/2","v":3373},{"$f":"C10+C11+C12+C13+C14+C15","v":3892.0840000000003},"х",{"$f":"276/2","v":138},{"$f":"F10+F11+F12+F13+F14+F15","v":352.80900000000003},2675.78,"х","х"]
["Июль",null,568.73,"х","х",52.350999999999999,"х",2705.3248266508758,"х","х"]
["Август","х",532.45499999999993,"х","х",18.858000000000001,"х",2417.7601018135538,"х","х"]
["Сентябрь","х",630.625,"х","х",100.08199999999999,"х",2985.2968565776059,"х","х"]
["Октябрь","х",700.86900000000003,"х","х",53.503,"х",2745.6867839186584,"х","х"]
["Ноябрь","х",753.16100000000006,"х","х",87.378,"х",2854.2593101238294,"х","х"]
["Декабрь","х",789.97199999999998,"х","х",50.64,"х",2498.3116113744077,"х","х"]
["2 полугодие",{"$f":"6746/2","v":3373},{"$f":"C17+C18+C19+C20+C21+C22","v":3975.8119999999999},"х",{"$f":"276/2","v":138},{"$f":"F17+F18+F19+F20+F21+F22","v":362.81199999999995},2675.78,"х","х","х"]
["ВСЕГО:",{"$f":"B16+B23","v":6746},{"$f":"C16+C23","v":7867.8960000000006},{"$f":"E24/B24","v":4.0913133708864513E-2},{"$f":"E16+E23","v":276},{"$f":"F16+F23","v":715.62099999999998},{"$f":"IF(E24=0,0,(E16*G16+E23*G23)/E24)","v":2675.78},{"$f":"IF(F24=0,0,(F10*H10+F11*H11+F12*H12+F13*H13+F14*H14+F15*H15+F17*H17+F18*H18+F19*H19+F20*H20+F21*H21+F22*H22)/F24)","v":2619.1884251580095},{"$f":"IFERROR((C24-B24)*D24*H24+B24*(H24-G24)*D24,0)/1000","v":104.60221019551923},"х"]
["По данным экспертов"]
["Январь","х",null,"х","х",null,"х",null,"х","х"]
["Февраль","х",null,"х","х",null,"х",null,"х","х"]
["Март","х",null,"х","х",null,"х",null,"х","х"]
["Апрель","х",null,"х","х",null,"х",null,"х","х"]
["Май","х",null,"х","х",null,"х",null,"х","х"]
["Июнь","х",null,"х","х",null,"х",null,"х","х"]
["1 полугодие",null,{"$f":"C26+C27+C28+C29+C30+C31","v":0},"х",null,{"$f":"F26+F27+F28+F29+F30+F31","v":0},null,"х","х","х"]
["Июль","х",null,"х","х",null,"х",null,"х","х"]
["Август","х",null,"х","х",null,"х",null,"х","х"]
["Сентябрь","х",null,"х","х",null,"х",null,"х","х"]
["Октябрь","х",null,"х","х",null,"х",null,"х","х"]
["Ноябрь","х",null,"х","х",null,"х",null,"х","х"]
["Декабрь","х",null,"х","х",null,"х",null,"х","х"]
["2 полугодие",null,{"$f":"C33+C34+C35+C36+C37+C38","v":0},"х",null,{"$f":"F33+F34+F35+F36+F37+F38","v":0},null,"х","х","х"]
["ВСЕГО:",{"$f":"B32+B39","v":0},{"$f":"C32+C39","v":0},{"$f":"E40/B40","v":{"$error":"#DIV/0!"}},{"$f":"E32+E39","v":0},{"$f":"F32+F39","v":0},{"$f":"IF(E40=0,0,(E32*G32+E39*G39)/E40)","v":0},{"$f":"IF(F40=0,0,(F26*H26+F27*H27+F28*H28+F29*H29+F30*H30+F31*H31+F33*H33+F34*H34+F35*H35+F36*H36+F37*H37+F38*H38)/F40)","v":0},"х",{"$f":"IFERROR((C40-B40)*D40*H40+B40*(H40-G40)*D40,0)/1000","v":0}]
[]
["Руководитель организации",null,null,null,null,{"$f":"'Инф-я'!$C$21","v":"Чижов Олег Александрович"}]

{"sheet":"Корр.НВВ","index":41,"n_rows":47,"n_cols":13,"rows_kept":47,"cut":false,"hidden":false,"merged":[[15,10,16,10],[15,11,15,12],[48,1,48,6],[10,1,10,2],[10,3,10,4],[14,1,14,7],[14,8,16,8],[14,9,14,12],[15,1,16,1],[15,2,15,3],[15,4,16,4],[15,7,16,7],[15,9,16,9],[0,0,0,11],[1,0,1,11],[4,6,4,8],[4,9,4,11],[5,6,5,7],[5,8,6,8],[5,9,5,10],[5,11,6,11]]}
["Корректировка необходимой валовой выручки по доходам от осуществления регулируемой деятельности за 2018 год"]
[{"$f":"'Инф-я'!C13","v":"ООО \"МОНОСТРОЙ\""}]
[]
[null,null,"тыс. руб."]
[null,"Наименование показателя","Расчет Общества","Расчет Экспертов",null,null,"1 полугодие 2018 г.",null,null,"2 полугодие  2018 г."]
[null,"НВВ сод 2018",3645.52,null,null,null,"Двухставочный тариф",null,"Одноставочный тариф","Двухставочный тариф",null,"Одноставоч-ный тариф"]
[null,"НВВ факт 2018",{"$f":"E32+M32","v":3645.5196696960006},{"$f":"E47+M47","v":0},null,null,"ставка за содержание электрических сетей","ставка на оплату технологического расхода (потерь)",null,"ставка за содержание электрических сетей","ставка на оплату технологического расхода (потерь)"]
[null,"∆ НВВ сод за 2018 год",{"$f":"C6-C7","v":3.3030399936251342E-4},{"$f":"D6-D7","v":0},null,null," руб./кВт мес.","руб./ кВт ч","руб./ кВт ч"," руб./кВт мес.","руб./ кВт ч","руб./ кВт ч"]
[null,null,null,null,null,null,{"$f":"283.38945","v":283.38945000000001},0.10979999999999999,0.68440999999999996,286.41887000000003,0.11828,0.67110000000000003]
[]
[null,"Руководитель организации",null,{"$f":"'Инф-я'!C21","v":"Чижов Олег Александрович"}]
[]
[]
[null,"Расчет доходов, полученных согласно актам оказания услуг Владимирэнерго"]
[null,"1. Доходы по двухставочному тарифу",null,null,null,null,null,null,"1. Итого доходы по двухставочному тарифу, тыс. руб.","2. Доходы по одноставочному тарифу"]
[null,null,"1.1. Доходы на содержание сетей",null,"Доходы на содержание сетей, тыс. руб.","1.2. Доходы на компенсацию потерь",null,"Доходы на компенсацию нормативных потерь, тыс. руб.",null,"полезный отпуск, тыс кВт ч","одноставочный инд тариф, руб./тыс. кВт ч","Итого доходы по одноставочному тарифу, тыс. руб."]
[null,null,"договорная мощность, МВт","ставка на содержание сетей, руб./МВт мес.",null,"полезный отпуск, тыс кВт ч","инд тариф на потери, руб./ тыс.кВт ч",null,null,null,null,"Всего:","в том числе, доходы на содержание сетей"]
[null,"январь",1.0663,{"$f":"$G$9*1000","v":283389.45},{"$f":"C18*D18/1000","v":302.17817053500005},639.62,{"$f":"$H$9*1000","v":109.8},{"$f":"F18*$G$18/1000","v":70.230276000000003},{"$f":"E18+H18","v":372.40844653500005},null,{"$f":"$I$9*1000","v":684.41},{"$f":"J18*K18/1000","v":0},{"$f":"J18*(K18-G18)/1000","v":0}]
[null,"февраль",1.0663,283389.45,{"$f":"C19*D19/1000","v":302.17817053500005},655.23,109.8,{"$f":"F19*$G$18/1000","v":71.944254000000001},374.12242453500005,null,684.41,{"$f":"J19*K19/1000","v":0},{"$f":"J19*(K19-G19)/1000","v":0}]
[null,"март",1.0663,283389.45,302.17817053500005,609.91899999999998,109.8,66.969106199999999,369.14727673500005,null,684.41,0,0]
[null,"апрель",1.0663,283389.45,302.17817053500005,620.05100000000004,109.8,68.081599799999992,370.25977033500004,null,684.41,0,0]
[null,"май",1.0663,283389.45,302.17817053500005,498.04700000000003,109.8,54.685560600000002,356.86373113500008,null,684.41,0,0]
[null,"июнь",1.0663,283389.45,302.17817053500005,516.40800000000002,109.8,56.701598400000002,358.87976893500007,null,684.41,0,0]
[null,"Итого 1 пол.","х","х",{"$f":"SUM(E18:E23)","v":1813.0690232100001},{"$f":"SUM(F18:F23)","v":3539.2749999999996},"х",{"$f":"SUM(H18:H23)","v":388.61239500000005},2201.6814182100002,{"$f":"SUM(J18:J23)","v":0},"х",{"$f":"SUM(L18:L23)","v":0},{"$f":"SUM(M18:M23)","v":0}]
[null,"июль",1.0663,{"$f":"$J$9*1000","v":286418.87000000005},{"$f":"C25*D25/1000","v":305.40844108100009},516.37900000000002,{"$f":"$K$9*1000","v":118.28},{"$f":"F25*$G$25/1000","v":61.077308120000005},366.48574920100009,null,{"$f":"$L$9*1000","v":671.1},{"$f":"J25*K25/1000","v":0},{"$f":"J25*(K25-G25)/1000","v":0}]
[null,"август",1.0663,286418.87000000005,305.40844108100009,513.59699999999998,118.28,60.748253159999997,366.15669424100008,null,671.1,0,0]
[null,"сентябрь",1.0663,286418.87000000005,305.40844108100009,530.54300000000001,118.28,62.752626040000003,368.16106712100009,null,671.1,0,0]
[null,"октябрь",1.0663,286418.87000000005,305.40844108100009,647.36599999999999,118.28,76.570450480000005,381.97889156100007,null,671.1,0,0]
[null,"ноябрь",1.0663,286418.87000000005,305.40844108100009,665.78300000000002,118.28,78.748813240000004,384.1572543210001,null,671.1,0,0]
[null,"декабрь",1.0663,286418.87000000005,305.40844108100009,739.33199999999999,118.28,87.448188959999996,392.85663004100007,null,671.1,0,0]
[null,"Итого 2 пол.","х","х",{"$f":"SUM(E25:E30)","v":1832.4506464860006},{"$f":"SUM(F25:F30)","v":3613},"х",{"$f":"SUM(H25:H30)","v":427.34564},2259.7962864860006,{"$f":"SUM(J25:J30)","v":0},"х",{"$f":"SUM(L25:L30)","v":0},{"$f":"SUM(M25:M30)","v":0}]
[null,"Всего за 2018 г.","х","х",{"$f":"E24+E31","v":3645.5196696960006},{"$f":"F24+F31","v":7152.2749999999996},"х",{"$f":"H24+H31","v":815.95803500000011},{"$f":"I24+I31","v":4461.4777046960007},{"$f":"J24+J31","v":0},"х","х",{"$f":"M24+M31","v":0}]
[null,"январь",null,{"$f":"$G$9*1000","v":283389.45},{"$f":"C33*D33/1000","v":0},null,{"$f":"$H$9*1000","v":109.8},{"$f":"F33*$G$33/1000","v":0},{"$f":"E33+H33","v":0},null,{"$f":"$I$9*1000","v":684.41},{"$f":"J33*K33/1000","v":0},{"$f":"J33*(K33-G33)/1000","v":0}]
[null,"февраль",null,283389.45,0,null,109.8,{"$f":"F34*$G$33/1000","v":0},0,null,684.41,0,0]
[null,"март",null,283389.45,0,null,109.8,0,0,null,684.41,0,0]
[null,"апрель",null,283389.45,0,null,109.8,0,0,null,684.41,0,0]
[null,"май",null,283389.45,0,null,109.8,0,0,null,684.41,0,0]
[null,"июнь",null,283389.45,0,null,109.8,0,0,null,684.41,0,0]
[null,"Итого 1 пол.",{"$f":"SUM(C33:C38)","v":0},"х",{"$f":"SUM(E33:E38)","v":0},{"$f":"SUM(F33:F38)","v":0},"х",{"$f":"SUM(H33:H38)","v":0},0,{"$f":"SUM(J33:J38)","v":0},"х",{"$f":"SUM(L33:L38)","v":0},{"$f":"SUM(M33:M38)","v":0}]
[null,"июль",null,{"$f":"$J$9*1000","v":286418.87000000005},{"$f":"C40*D40/1000","v":0},null,{"$f":"$K$9*1000","v":118.28},{"$f":"F40*$G$40/1000","v":0},0,null,{"$f":"$L$9*1000","v":671.1},{"$f":"J40*K40/1000","v":0},{"$f":"J40*(K40-G40)/1000","v":0}]
[null,"август",null,286418.87000000005,0,null,118.28,{"$f":"F41*$G$40/1000","v":0},0,null,671.1,0,{"$f":"J41*(K41-G41)/1000","v":0}]
[null,"сентябрь",null,286418.87000000005,0,null,118.28,0,0,null,671.1,0,0]
[null,"октябрь",null,286418.87000000005,0,null,118.28,0,0,null,671.1,0,0]
[null,"ноябрь",null,286418.87000000005,0,null,118.28,0,0,null,671.1,0,0]
[null,"декабрь",null,286418.87000000005,0,null,118.28,0,0,null,671.1,0,0]
[null,"Итого 2 пол.",{"$f":"SUM(C40:C45)","v":0},"х",{"$f":"SUM(E40:E45)","v":0},{"$f":"SUM(F40:F45)","v":0},"х",{"$f":"SUM(H40:H45)","v":0},0,{"$f":"SUM(J40:J45)","v":0},"х",{"$f":"SUM(L40:L45)","v":0},{"$f":"SUM(M40:M45)","v":0}]
[null,"Всего за 2018 г.","х","х",{"$f":"E39+E46","v":0},{"$f":"F39+F46","v":0},"х",{"$f":"H39+H46","v":0},"х",{"$f":"J39+J46","v":0},"х","х",{"$f":"M39+M46","v":0}]

{"sheet":"Корр. НР","index":42,"n_rows":21,"n_cols":7,"rows_kept":21,"cut":false,"hidden":false,"merged":[[18,0,18,1],[20,0,20,1],[20,2,20,4],[1,0,1,5],[3,0,3,5],[5,0,6,0],[5,1,6,1],[5,2,6,2],[5,3,5,4],[5,5,5,6]]}
[]
["Корректировка неподконтрольных расходов по результатам 2018 года"]
[]
[{"$f":"'Инф-я'!C13","v":"ООО \"МОНОСТРОЙ\""}]
[]
["№ п/п","Наименование показателей","2018 год утверждено","По данным организации",null,"По данным экспертов"]
[null,null,null,"Факт  2018 год","Величина корректировки НР","Факт  2018 год","Величина корректировки НР"]
[1,2,3,4,5,6,7]
["1.","Страховые взносы во внебюджетные фонды",{"$f":"'Страховые взносы'!D18","v":302.29000000000002},{"$f":"'Страховые взносы'!E18","v":432.16832700000003},{"$f":"D9-C9","v":129.87832700000001},{"$f":"'Страховые взносы'!R18","v":0},{"$f":"F9-C9","v":-302.29000000000002}]
["2.","Расходы на оплату услуг организаций, осуществляющих регулируемые виды деятельности",{"$f":"'Расходы рег. орг-ий'!B23","v":0},{"$f":"'Расходы рег. орг-ий'!C23","v":0},0,{"$f":"'Расходы рег. орг-ий'!P23","v":0},0]
["3.","Плата за землю",{"$f":"'Плата за землю'!B18","v":0},{"$f":"'Плата за землю'!C18","v":0},0,{"$f":"'Плата за землю'!P18","v":0},0]
["4.","Транспортный налог",{"$f":"'Транспортный налог'!D17","v":0},{"$f":"'Транспортный налог'!E17","v":0},0,{"$f":"'Транспортный налог'!T17","v":0},0]
["5.","Налог на имущество",{"$f":"'Налог на имущество'!B15","v":86.8},{"$f":"'Налог на имущество'!C15","v":86.853327660000005},5.3327660000007882E-2,{"$f":"'Налог на имущество'!P15","v":0},-86.8]
["6.","Плата за негативное воздействие на окружающую среду",{"$f":"'Негативное возд. на окр. среду '!C29","v":0},{"$f":"'Негативное возд. на окр. среду '!D29","v":0},0,{"$f":"'Негативное возд. на окр. среду '!Q29","v":0},0]
["7.","Налог на прибыль",{"$f":"'Налог на прибыль'!C20","v":0},{"$f":"'Налог на прибыль'!D20","v":0},0,{"$f":"'Налог на прибыль'!P20","v":0},0]
["8.","Плата за аренду имущества",{"$f":"'Аренда имущества'!B33","v":0},{"$f":"'Аренда имущества'!C33","v":0},0,{"$f":"'Аренда имущества'!AD33","v":0},0]
["9.","Оплата услуг ПАО \"ФСК ЕЭС\"",{"$f":"'Услуги ФСК'!B17","v":0},{"$f":"'Услуги ФСК'!E17","v":0},0,{"$f":"'Услуги ФСК'!X17","v":0},0]
["10.","Прочие обоснованные неподконтрольные расходы",{"$f":"'Прочие НР'!B15","v":99.99},{"$f":"'Прочие НР'!C15","v":99.992000000000004},2.0000000000095497E-3,{"$f":"'Прочие НР'!P15","v":0},-99.99]
["Итого корректировка неподконтрольных расходов по результатам 2018 года",null,{"$f":"SUM(C9:C18)","v":489.08000000000004},{"$f":"SUM(D9:D18)","v":619.01365466000004},{"$f":"SUM(E9:E18)","v":129.93365466000003},{"$f":"SUM(F9:F18)","v":0},{"$f":"SUM(G9:G18)","v":-489.08000000000004}]
[]
["Руководитель организации",null,{"$f":"'Инф-я'!$C$21","v":"Чижов Олег Александрович"}]

{"sheet":"Корр. ИП","index":43,"n_rows":17,"n_cols":5,"rows_kept":17,"cut":false,"hidden":false,"merged":[[1,0,1,4],[3,0,3,4],[16,0,16,1],[16,2,16,4]]}
[]
["Корректировка НВВ в связи с изменением (неисполнением) инвестиционной программы по результатам 2018 года"]
[]
[{"$f":"'Инф-я'!C13","v":"ООО \"МОНОСТРОЙ\""}]
[]
["№ п/п","Наименование показателей","Обозначение в методических указаниях","По данным организации","По данным экспертов"]
[1,2,3,4,5]
["1.","Расчетная величина собственных средств регулируемой организации для финансирования инвестиционной программы, учтенная при установлении тарифов в 2018 году, которая не может принимать отрицательные значения, всего, в том числе:",null,{"$f":"IF((D9+D10)>=D11,D11,(D9+D10))","v":0},{"$f":"IF((E9+E10)>=E11,E11,(E9+E10))","v":0}]
[null,"-амортизация",null,{"$f":"' КВЛ'!B18","v":0}]
[null,"- капитальные вложения из прибыли",null,{"$f":"' КВЛ'!B20","v":0}]
["2.","Плановый размер финансирования инвестиционной программы, представляющей собой совокупность инвестиционных проектов, утвержденной (скорректированной) в установленном порядке на 2018  год до его начала, за счет собственных средств (выручки от реализации товаров (услуг) по регулируемым ценам (тарифам)) без НДС",null,{"$f":"' КВЛ'!B17-' КВЛ'!B19","v":0}]
["3.","Объем фактического финансирования инвестиционной программы, представляющей собой совокупность инвестиционных проектов, утвержденной (скорректированной) в установленном порядке на 2018 год до его начала, за счет собственных средств (выручки от реализации товаров (услуг) по регулируемым ценам (тарифам)) без НДС в 2018 году",null,{"$f":"' КВЛ'!C17-' КВЛ'!C19","v":0}]
["4.","Учтенная при расчете тарифов на 2018 год корректировка необходимой валовой выручки на 2018-ой год долгосрочного периода регулирования, осуществленная в связи с изменением (неисполнением) инвестиционной программы за истекший период 2018-го года по результатам 9 месяцев",null,0]
[null,"Итого корректировка НВВ в связи с изменением (неисполнением) инвестиционной программы по результатам 2018 года",null,{"$f":"IF(D11=0,0,D8*(D12/D11-1)-D13)","v":0},{"$f":"IF(E11=0,0,E8*(E12/E11-1))","v":0}]
[]
[]
["Руководитель организации",null,{"$f":"'Инф-я'!$C$21","v":"Чижов Олег Александрович"}]

{"sheet":"НВВ для шаблона ЕИАС предел","index":44,"n_rows":11,"n_cols":71,"rows_kept":11,"cut":false,"hidden":true,"merged":[[1,0,4,0],[1,1,4,1],[1,2,1,11],[1,12,1,32],[1,33,1,52],[2,36,3,36],[2,37,3,37],[2,52,3,52],[2,48,3,48],[2,49,3,49],[2,29,3,29],[2,44,3,44],[2,45,3,45],[2,46,3,46],[2,38,3,38],[2,39,3,39],[2,9,3,9],[2,10,3,10],[2,11,3,11],[2,34,2,35],[2,25,3,25],[2,26,3,26],[2,27,3,27],[2,14,3,14],[2,15,3,15],[2,16,3,16],[1,70,3,70],[2,2,3,2],[2,3,3,3],[2,4,3,4],[2,5,3,5],[2,6,3,6],[2,7,3,7],[1,55,2,56],[2,19,3,19],[2,20,3,20],[2,21,3,21],[2,22,3,22],[2,23,3,23],[2,24,3,24],[2,31,3,31],[2,32,3,32],[2,8,3,8],[1,61,3,61],[1,62,3,62],[1,63,3,63],[1,64,2,65],[2,17,3,17],[2,18,3,18],[2,12,3,12],[2,13,3,13],[2,30,3,30],[2,28,3,28],[1,53,3,53],[2,33,3,33],[2,50,3,50],[2,51,3,51],[2,47,3,47],[1,68,3,68],[1,69,3,69],[1,57,3,57],[1,58,3,58],[1,59,3,59],[1,60,3,60],[1,66,3,66],[1,67,3,67],[1,54,3,54],[2,40,3,40],[2,41,3,41],[2,42,3,42],[2,43,3,43]]}
[" "]
["Наименование организации","Период","Расчет коэффициента индексации",null,null,null,null,null,null,null,null,null,"Расчет подконтрольных расходов",null,null,null,null,null,null,null,null,null,null,null,null,null,null,null,null,null,null,null,null,"Расчет неподконтрольных расходов",null,null,null,null,null,null,null,null,null,null,null,null,null,null,null,null,null,null,null,"Расходы, связанные с компенсацией незапланированных расходов или полученного избытка","Итого НВВ на содержание сетей","в том числе",null,"Доля стороннего отпуска в сеть от организаций, занимающихся несколькими видами деятельности (без собственных нужд)","Отношение НВВ на содержание сетей текущего года к предыдущему года","Поступление в сеть электроэнергии","Объем технологического расхода (потерь)","Тариф на покупку потерь ","Норматив техноло-гического расхода (потерь) электро-энергии ","Итого расходов на оплату потерь","в том числе",null,"Прирост расходов на оплату потерь текущего года к предыдущему году","Поступление в сеть мощности","Уровень надежности реализуемых товаров (услуг) \n(П п)","Уровень качества реализуемых товаров (услуг) \n(П тсо)","Уровень качества реализуемых товаров (услуг)\n(П тпр)"]
[null,null,"Инфляция","Индекс эффективности операционных расходов","Количество активов, всего","ВН","СН1","СН2","НН","Индекс изменения количества активов","Коэффициент эластичности затрат по росту активов","Итого коэффициент индексации","Материальные затраты","Сырье, материалы, запасные части, инструмент, топливо","Работы и услуги производственного характера (в т.ч. услуги сторонних организаций по содержанию сетей и распределительных устройств)","Расходы на оплату труда","Прочие расходы, всего, в том числе:","Ремонт основных фондов","Оплата работ и услуг сторонних организаций","услуги связи","Расходы на услуги вневедомственной охраны и коммунального хозяйства","Расходы на юридические и информационные услуги","Расходы на аудиторские и консультационные услуги","Транспортные услуги","Прочие услуги сторонних организаций","Расходы на командировки и представительские","Расходы на подготовку кадров","Расходы на обеспечение нормальных условий труда и мер по технике безопасности","Расходы на страхование","Другие прочие расходы","Электроэнергия на хоз. нужды","Подконтрольные расходы из прибыли","ИТОГО подконтрольные расходы","Оплата услуг ОАО \"ФСК ЕЭС\"","в том числе",null,"Теплоэнергия","Аренда, всего","в том числе аренда объектов электро-\nсетевого комплекса","Налоги (без учета налога на прибыль), всего, в том числе:","плата за землю","Налог на имущество","Прочие налоги и сборы","Отчисления на социальные нужды (ЕСН)","Прочие неподконтрольные расходы","Налог на прибыль, в том числе:","налог на прибыль на капитальные вложения ","Выпадающие доходы по п.87 Основ ценообразования","Амортизация ОС","Прибыль на капитальные вложения","Возврат заемных средств, направляемый на финансирование капитальных вложений","Проверка прибыли на капитальные вложения (не более 12% от НВВ на содержание сетей)","ИТОГО неподконтрольных расходов"]
[null,null,null,null,null,null,null,null,null,null,null,null,null,null,null,null,null,null,null,null,null,null,null,null,null,null,null,null,null,null,null,null,null,null,"Оплата услуг ОАО \"ФСК ЕЭС\"\n1 полугодие","Оплата услуг ОАО \"ФСК ЕЭС\"\n2 полугодие",null,null,null,null,null,null,null,null,null,null,null,null,null,null,null,null,null,null,null,"НВВ на 1 полугодие","НВВ на 2 полугодие",null,null,null,null,null,null,null,"расходы на 1 полугодие","расходы на 2 полугодие"]
[null,null,"%","%","у.е.","у.е.","у.е.","у.е.","у.е.","%",null,null,"тыс.руб","тыс.руб","тыс.руб","тыс.руб","тыс.руб","тыс.руб","тыс.руб","тыс.руб","тыс.руб","тыс.руб","тыс.руб","тыс.руб","тыс.руб","тыс.руб","тыс.руб","тыс.руб","тыс.руб","тыс.руб","тыс.руб","тыс.руб","тыс.руб","тыс.руб","тыс.руб","тыс.руб","тыс.руб","тыс.руб","тыс.руб","тыс.руб","тыс.руб","тыс.руб","тыс.руб","тыс.руб","тыс.руб","тыс.руб","тыс.руб","тыс.руб","тыс.руб","тыс.руб","тыс.руб","%","тыс.руб","тыс.руб","тыс.руб","тыс.руб","тыс.руб","%","%","млн.кВтч","млн.кВтч","руб./МВтч","%","тыс.руб","тыс.руб","тыс.руб","%","МВт"]
["А","Б","0.1","0.2","0.3","0.3.1","0.3.2","0.3.3","0.3.4","0.4","0.5","0.6","1.1","1.1.1","1.1.2","1.2","1.3","1.3.1","1.3.2","1.3.2.1","1.3.2.2","1.3.2.3","1.3.2.4","1.3.2.5","1.3.2.6","1.3.3","1.3.4","1.3.5","1.3.6","1.3.7","1.4","1.5","1.6","2.1","2.1.1","2.1.2","2.2","2.3","2.3.1","2.4","2.4.1","2.4.2","2.4.3","2.5","2.6","2.7","2.7.1","2.8","2.9","2.10","2.11","2.12","2.13","3","4","4.1","4.2","5","6","7","8","9","10","11","11.1","11.2","12","13","14","15.1","15.2"]
[{"$f":"#REF!","v":{"$error":"#REF!"}},2020,{"$f":"'НВВ по данным предпр.'!G17","v":3.7999999999999999E-2},{"$f":"'НВВ по данным предпр.'!G10","v":0.01},{"$f":"SUM(F7:I7)","v":98.296099999999996},{"$f":"'УЕ ТП 2017-2024'!R56","v":0},{"$f":"'УЕ ТП 2017-2024'!R57","v":0},{"$f":"'УЕ ТП 2017-2024'!R58","v":76.026499999999999},{"$f":"'УЕ ТП 2017-2024'!R59","v":22.269600000000001},null,null,null,{"$f":"SUM(N7:O7)","v":2845.2667333414975},{"$f":"'НВВ по данным предпр.'!G30","v":0},{"$f":"'НВВ по данным предпр.'!G32+'НВВ по данным предпр.'!G33","v":2845.2667333414975},{"$f":"'НВВ по данным предпр.'!G29","v":1771.6635900000003},{"$f":"R7+S7+Z7+AA7+AB7+AC7+AD7+AE7+AF7","v":865.98520880087995},{"$f":"'НВВ по данным предпр.'!G31","v":822.67984880087999},{"$f":"SUM(T7:Y7)","v":0},null,null,null,null,null,{"$f":"'НВВ по данным предпр.'!G34","v":0},null,null,null,null,null,null,{"$f":"'НВВ по данным предпр.'!G35","v":43.30536},{"$f":"M7+P7+Q7","v":5482.9155321423777},{"$f":"AI7+AJ7","v":0},{"$f":"'Услуги ФСК'!J17","v":0},{"$f":"'Услуги ФСК'!K17","v":0},{"$f":"'НВВ по данным предпр.'!G40","v":0},{"$f":"'НВВ по данным предпр.'!G47","v":0},null,{"$f":"SUM(AO7:AQ7)","v":80.298360092500005},{"$f":"'НВВ по данным предпр.'!G42","v":0},{"$f":"'НВВ по данным предпр.'!G44","v":80.298360092500005},{"$f":"'НВВ по данным предпр.'!$G$43+'НВВ по данным предпр.'!$G$45","v":0},{"$f":"'НВВ по данным предпр.'!$G$39","v":560.82540555000014},{"$f":"'НВВ по данным предпр.'!$G$49","v":107.94336384},{"$f":"'НВВ по данным предпр.'!$G$46","v":0},{"$f":"$AX$7/0.8*0.2","v":0},{"$f":"'НВВ по данным предпр.'!$G$51","v":0},{"$f":"'НВВ по данным предпр.'!$G$38","v":297.95308999999997},{"$f":"'НВВ по данным предпр.'!$G$50","v":0},{"$f":"'НВВ по данным предпр.'!$G$52","v":0},{"$f":"((AX7+AY7)/(BC7-AH7-AU7-AX7-AY7-AM7))","v":0},{"$f":"AH7+AK7+AL7+AN7+AS7+AT7+AV7+AR7+AW7+AX7+AY7","v":1047.0202194825001},{"$f":"'НВВ по данным предпр.'!G66+'НВВ по данным предпр.'!G67","v":-1168.1200000000001},{"$f":"SUM(BA7,BB7,AG7)","v":5361.8157516248775},null,null,null,null,{"$f":"'Баланс энергии'!R9/1000","v":11.4999758},{"$f":"'НВВ на потери'!I11","v":0.82913944178645604},{"$f":"'НВВ на потери'!I12","v":2877.5830999999998},{"$f":"IF(BH7=0,0,BI7/BH7)","v":7.2099233616339964E-2},{"$f":"'НВВ на потери'!I13","v":2385.9176452281395},{"$f":"'НВВ на потери'!G13","v":1096.3837643272507},{"$f":"BL7-BM7","v":1289.5338809008888},null,{"$f":"'Баланс мощности'!C10","v":0},{"$f":"'НВВ по данным предпр.'!G13","v":"х"},{"$f":"'НВВ по данным предпр.'!G14","v":"х"},{"$f":"'НВВ по данным предпр.'!G15","v":"х"}]
[null,2021,{"$f":"'Подконтрольные расходы'!R12","v":0.04},{"$f":"D7","v":0.01},{"$f":"SUM(F8:I8)","v":98.296099999999996},{"$f":"'УЕ ТП 2017-2024'!V56","v":0},{"$f":"'УЕ ТП 2017-2024'!V57","v":0},{"$f":"'УЕ ТП 2017-2024'!V58","v":76.026499999999999},{"$f":"'УЕ ТП 2017-2024'!V59","v":22.269600000000001},{"$f":"IF(E7=0,0,(E8-E7)/E7*K8)","v":0},0.75,{"$f":"(1+C8)*(1-D8)*(1+J8)","v":1.0296000000000001},{"$f":"SUM(N8:O8)","v":2929.4866286484062},{"$f":"N7*$L8","v":0},{"$f":"O7*L8","v":2929.4866286484062},{"$f":"P7*$L8","v":1824.1048322640004},{"$f":"R8+S8+Z8+AA8+AB8+AC8+AD8+AE8+AF8","v":891.61837098138619},{"$f":"R7*$L8","v":847.03117232538614},{"$f":"SUM(T8:Y8)","v":0},{"$f":"T7*$L8","v":0},{"$f":"U7*L8","v":0},{"$f":"V7*L8","v":0},{"$f":"W7*$L8","v":0},{"$f":"X7*$L8","v":0},0,0,0,0,0,0,0,44.587198656000005,{"$f":"M8+P8+Q8","v":5645.2098318937924},{"$f":"AI8+AJ8","v":0},{"$f":"'Услуги ФСК'!P17/2","v":0},{"$f":"AI8","v":0},{"$f":"'Расходы рег. орг-ий'!H10","v":0},{"$f":"'Аренда имущества'!V33","v":0},{"$f":"'Аренда имущества'!V38","v":0},{"$f":"SUM(AO8:AQ8)","v":77.020877339999998},{"$f":"'Плата за землю'!H18","v":0},{"$f":"'НВВ по данным предпр.'!H44","v":77.020877339999998},{"$f":"'НВВ по данным предпр.'!$H$43+'НВВ по данным предпр.'!$H$45","v":0},{"$f":"'НВВ по данным предпр.'!$H$39","v":577.42583755428006},{"$f":"'НВВ по данным предпр.'!$H$49","v":112.26109839360001},{"$f":"'НВВ по данным предпр.'!$H$46","v":0},{"$f":"$AX$7/0.8*0.2","v":0},{"$f":"'НВВ по данным предпр.'!$H$51","v":"х"},{"$f":"'НВВ по данным предпр.'!$H$38","v":297.95308999999997},{"$f":"'НВВ по данным предпр.'!$H$50","v":0},{"$f":"'НВВ по данным предпр.'!$H$52","v":0},{"$f":"nerr((AX8+AY8)/(BC8-AH8-AU8-AX8-AY8-AM8))","v":{"$error":"#NAME?"}},{"$f":"AH8+AK8+AL8+AN8+AS8+AT8+AV8+AR8+AW8+AX8+AY8","v":{"$error":"#VALUE!"}},{"$f":"'НВВ по данным предпр.'!$H$60","v":"x"},{"$f":"SUM(BA8,BB8,AG8)","v":{"$error":"#VALUE!"}},null,null,{"$f":"nerr((BD8+BE8)/BC8)","v":{"$error":"#NAME?"}},{"$f":"nerr((BC8-BC7)/BC7)","v":{"$error":"#NAME?"}},{"$f":"BH7","v":11.4999758},{"$f":"BI7","v":0.82913944178645604},{"$f":"'НВВ на потери'!M12","v":2963.9105930000001},{"$f":"IF(BH8=0,0,BI8/BH8)","v":7.2099233616339964E-2},{"$f":"BI8*BJ8","v":2457.4951745849839},{"$f":"BL8/2","v":1228.747587292492},{"$f":"BL8-BM8","v":1228.747587292492},{"$f":"nerr((BL8-BL7)/BL7)","v":{"$error":"#NAME?"}},{"$f":"BP7","v":0},{"$f":"'НВВ по данным предпр.'!$H$13","v":"х"},{"$f":"'НВВ по данным предпр.'!$H$14","v":"х"},{"$f":"'НВВ по данным предпр.'!$H$15","v":"х"}]
[null,2022,{"$f":"'Подконтрольные расходы'!T12","v":0.04},{"$f":"D8","v":0.01},98.296099999999996,{"$f":"'УЕ ТП 2017-2024'!Z56","v":0},{"$f":"'УЕ ТП 2017-2024'!Z57","v":0},{"$f":"'УЕ ТП 2017-2024'!Z58","v":76.026499999999999},{"$f":"'УЕ ТП 2017-2024'!Z59","v":22.269600000000001},{"$f":"IF(E8=0,0,(E9-E8)/E8*K9)","v":0},0.75,{"$f":"(1+C9)*(1-D9)*(1+J9)","v":1.0296000000000001},3016.1994328563992,{"$f":"N8*$L9","v":0},{"$f":"O8*L9","v":3016.1994328563992},{"$f":"P8*$L9","v":1878.0983352990149},918.0102747624353,{"$f":"R8*$L9","v":872.10329502621767},0,{"$f":"T8*$L9","v":0},{"$f":"U8*L9","v":0},{"$f":"V8*L9","v":0},{"$f":"W8*$L9","v":0},0,0,0,0,0,0,0,0,45.906979736217608,5812.308042917849,0,{"$f":"'Услуги ФСК'!R17/2","v":0},{"$f":"AI9","v":0},{"$f":"'Расходы рег. орг-ий'!J10","v":0},{"$f":"'Аренда имущества'!X33","v":0},{"$f":"'Аренда имущества'!X38","v":0},73.743393899999987,{"$f":"'Плата за землю'!J18","v":0},{"$f":"'НВВ по данным предпр.'!I44","v":73.743393899999987},{"$f":"'НВВ по данным предпр.'!$I$43+'НВВ по данным предпр.'!$I$45","v":0},{"$f":"'НВВ по данным предпр.'!$I$39","v":594.51764234588688},{"$f":"'НВВ по данным предпр.'!$I$49","v":116.75154232934402},{"$f":"'НВВ по данным предпр.'!$I$46","v":0},0,{"$f":"'НВВ по данным предпр.'!$I$51","v":"х"},{"$f":"'НВВ по данным предпр.'!$I$38","v":297.95308999999997},{"$f":"'НВВ по данным предпр.'!$I$50","v":0},{"$f":"'НВВ по данным предпр.'!$I$52","v":0},{"$f":"nerr((AX9+AY9)/(BC9-AH9-AU9-AX9-AY9-AM9))","v":{"$error":"#NAME?"}},{"$error":"#VALUE!"},{"$f":"'НВВ по данным предпр.'!$I$60","v":"x"},{"$error":"#VALUE!"},null,null,{"$f":"nerr((BD9+BE9)/BC9)","v":{"$error":"#NAME?"}},{"$f":"nerr((BC9-BC8)/BC8)","v":{"$error":"#NAME?"}},{"$f":"BH8","v":11.4999758},0.82913944178645604,{"$f":"'НВВ на потери'!O12","v":3052.8279107900003},7.2099233616339964E-2,2531.2200298225334,{"$f":"BL9/2","v":1265.6100149112667},1265.6100149112667,{"$f":"nerr((BL9-BL8)/BL8)","v":{"$error":"#NAME?"}},{"$f":"BP8","v":0},{"$f":"'НВВ по данным предпр.'!$I$13","v":"х"},{"$f":"'НВВ по данным предпр.'!$I$14","v":"х"},{"$f":"'НВВ по данным предпр.'!$I$15","v":"х"}]
[null,2023,{"$f":"'Подконтрольные расходы'!V12","v":0.04},0.01,98.296099999999996,{"$f":"'УЕ ТП 2017-2024'!AD56","v":0},{"$f":"'УЕ ТП 2017-2024'!AD57","v":0},{"$f":"'УЕ ТП 2017-2024'!AD58","v":76.026499999999999},{"$f":"'УЕ ТП 2017-2024'!AD59","v":22.269600000000001},{"$f":"IF(E9=0,0,(E10-E9)/E9*K10)","v":0},0.75,{"$f":"(1+C10)*(1-D10)*(1+J10)","v":1.0296000000000001},3105.4789360689488,0,3105.4789360689488,1933.690046023866,945.18337889540339,897.91755255899375,0,0,0,0,0,0,0,0,0,0,0,0,0,47.265826336409653,5984.3523609882186,0,{"$f":"'Услуги ФСК'!T17/2","v":0},0,{"$f":"'Расходы рег. орг-ий'!L10","v":0},{"$f":"'Аренда имущества'!Z33","v":0},{"$f":"'Аренда имущества'!Z38","v":0},70.465910459999989,{"$f":"'Плата за землю'!L18","v":0},{"$f":"'НВВ по данным предпр.'!J44","v":70.465910459999989},{"$f":"'НВВ по данным предпр.'!$J$43+'НВВ по данным предпр.'!$J$45","v":0},{"$f":"'НВВ по данным предпр.'!$J$39","v":612.11536455932514},{"$f":"'НВВ по данным предпр.'!$J$49","v":121.42160402251778},{"$f":"'НВВ по данным предпр.'!$J$46","v":0},0,{"$f":"'НВВ по данным предпр.'!$J$51","v":"х"},{"$f":"'НВВ по данным предпр.'!$J$38","v":297.95308999999997},{"$f":"'НВВ по данным предпр.'!$J$50","v":0},{"$f":"'НВВ по данным предпр.'!$J$52","v":0},{"$f":"nerr((AX10+AY10)/(BC10-AH10-AU10-AX10-AY10-AM10))","v":{"$error":"#NAME?"}},{"$error":"#VALUE!"},{"$f":"'НВВ по данным предпр.'!$J$60","v":"x"},{"$error":"#VALUE!"},null,null,{"$f":"nerr((BD10+BE10)/BC10)","v":{"$error":"#NAME?"}},{"$f":"nerr((BC10-BC9)/BC9)","v":{"$error":"#NAME?"}},11.4999758,0.82913944178645604,{"$f":"'НВВ на потери'!Q12","v":3144.4127481137002},7.2099233616339964E-2,2607.1566307172097,1303.5783153586049,1303.5783153586049,{"$f":"nerr((BL10-BL9)/BL9)","v":{"$error":"#NAME?"}},0,{"$f":"'НВВ по данным предпр.'!$J$13","v":"х"},{"$f":"'НВВ по данным предпр.'!$J$14","v":"х"},{"$f":"'НВВ по данным предпр.'!$J$15","v":"х"}]
[null,2024,{"$f":"'Подконтрольные расходы'!X12","v":0.04},0.01,98.296099999999996,{"$f":"'УЕ ТП 2017-2024'!AH56","v":0},{"$f":"'УЕ ТП 2017-2024'!AH57","v":0},{"$f":"'УЕ ТП 2017-2024'!AH58","v":76.026499999999999},{"$f":"'УЕ ТП 2017-2024'!AH59","v":22.269600000000001},{"$f":"IF(E10=0,0,(E11-E10)/E10*K11)","v":0},0.75,{"$f":"(1+C11)*(1-D11)*(1+J11)","v":1.0296000000000001},{"$f":"SUM(N11:O11)","v":3197.4011125765901},0,3197.4011125765901,1990.9272713861726,973.16080691070738,924.49591211474001,0,0,0,0,0,0,0,0,0,0,0,0,0,48.664894795967385,6161.4891908734699,0,{"$f":"'Услуги ФСК'!V17/2","v":0},0,{"$f":"'Расходы рег. орг-ий'!M10","v":0},{"$f":"'Аренда имущества'!AB33","v":0},{"$f":"'Аренда имущества'!AB38","v":0},67.188427019999978,{"$f":"'Плата за землю'!N18","v":0},{"$f":"'НВВ по данным предпр.'!K44","v":67.188427019999978},{"$f":"'НВВ по данным предпр.'!$K$43+'НВВ по данным предпр.'!$K$45","v":0},{"$f":"'НВВ по данным предпр.'!$K$39","v":630.23397935028129},{"$f":"'НВВ по данным предпр.'!$K$49","v":126.2784681834185},{"$f":"'НВВ по данным предпр.'!$K$46","v":0},0,{"$f":"'НВВ по данным предпр.'!$K$51","v":"х"},{"$f":"'НВВ по данным предпр.'!$K$38","v":297.95308999999997},{"$f":"'НВВ по данным предпр.'!$K$50","v":0},{"$f":"'НВВ по данным предпр.'!$K$52","v":0},{"$f":"((AX11+AY11)/(BC11-AH11-AU11-AX11-AY11-AM11))","v":{"$error":"#VALUE!"}},{"$error":"#VALUE!"},{"$f":"'НВВ по данным предпр.'!$K$60","v":"x"},{"$error":"#VALUE!"},null,null,{"$f":"((BD11+BE11)/BC11)","v":{"$error":"#VALUE!"}},{"$f":"nerr((BC11-BC10)/BC10)","v":{"$error":"#NAME?"}},11.4999758,0.82913944178645604,{"$f":"'НВВ на потери'!S12","v":3238.7451305571112},7.2099233616339964E-2,2685.3713296387259,1342.685664819363,1342.685664819363,{"$f":"nerr((BL11-BL10)/BL10)","v":{"$error":"#NAME?"}},0,{"$f":"'НВВ по данным предпр.'!$K$13","v":"х"},{"$f":"'НВВ по данным предпр.'!$K$14","v":"х"},{"$f":"'НВВ по данным предпр.'!$K$15","v":"х"}]

{"sheet":"НВВ для шаблона ЕИАС отчет","index":45,"n_rows":11,"n_cols":71,"rows_kept":11,"cut":false,"hidden":true,"merged":[[2,46,3,46],[2,47,3,47],[2,48,3,48],[1,68,3,68],[1,69,3,69],[1,55,2,56],[1,57,3,57],[1,58,3,58],[1,59,3,59],[1,60,3,60],[1,61,3,61],[1,62,3,62],[1,63,3,63],[1,64,2,65],[1,66,3,66],[1,70,3,70],[2,2,3,2],[2,3,3,3],[2,4,3,4],[2,5,3,5],[2,6,3,6],[2,7,3,7],[2,8,3,8],[2,49,3,49],[2,36,3,36],[2,37,3,37],[2,38,3,38],[2,39,3,39],[2,40,3,40],[1,67,3,67],[1,54,3,54],[1,0,4,0],[1,1,4,1],[1,2,1,11],[1,12,1,32],[1,33,1,52],[2,18,3,18],[2,14,3,14],[2,15,3,15],[2,16,3,16],[2,17,3,17],[2,13,3,13],[2,30,3,30],[2,19,3,19],[2,20,3,20],[2,21,3,21],[2,41,3,41],[2,22,3,22],[2,23,3,23],[1,53,3,53],[2,9,3,9],[2,10,3,10],[2,11,3,11],[2,12,3,12],[2,24,3,24],[2,25,3,25],[2,26,3,26],[2,42,3,42],[2,50,3,50],[2,51,3,51],[2,52,3,52],[2,44,3,44],[2,45,3,45],[2,27,3,27],[2,28,3,28],[2,29,3,29],[2,43,3,43],[2,31,3,31],[2,32,3,32],[2,33,3,33],[2,34,2,35]]}
[" "]
["Наименование организации","Период","Расчет коэффициента индексации",null,null,null,null,null,null,null,null,null,"Расчет подконтрольных расходов",null,null,null,null,null,null,null,null,null,null,null,null,null,null,null,null,null,null,null,null,"Расчет неподконтрольных расходов",null,null,null,null,null,null,null,null,null,null,null,null,null,null,null,null,null,null,null,"Расходы, связанные с компенсацией незапланированных расходов или полученного избытка","Итого НВВ на содержание сетей","в том числе",null,"Доля стороннего отпуска в сеть от организаций, занимающихся несколькими видами деятельности (без собственных нужд)","Отношение НВВ на содержание сетей текущего года к предыдущему года","Поступление в сеть электроэнергии","Объем технологического расхода (потерь)","Тариф на покупку потерь ","Норматив техноло-гического расхода (потерь) электро-энергии ","Итого расходов на оплату потерь","в том числе",null,"Прирост расходов на оплату потерь текущего года к предыдущему году","Поступление в сеть мощности","Уровень надежности реализуемых товаров (услуг) \n(П п)","Уровень качества реализуемых товаров (услуг) \n(П тсо)","Уровень качества реализуемых товаров (услуг)\n(П тпр)"]
[null,null,"Инфляция","Индекс эффективности операционных расходов","Количество активов, всего","ВН","СН1","СН2","НН","Индекс изменения количества активов","Коэффициент эластичности затрат по росту активов","Итого коэффициент индексации","Материальные затраты","Сырье, материалы, запасные части, инструмент, топливо","Работы и услуги производственного характера (в т.ч. услуги сторонних организаций по содержанию сетей и распределительных устройств)","Расходы на оплату труда","Прочие расходы, всего, в том числе:","Ремонт основных фондов","Оплата работ и услуг сторонних организаций","услуги связи","Расходы на услуги вневедомственной охраны и коммунального хозяйства","Расходы на юридические и информационные услуги","Расходы на аудиторские и консультационные услуги","Транспортные услуги","Прочие услуги сторонних организаций","Расходы на командировки и представительские","Расходы на подготовку кадров","Расходы на обеспечение нормальных условий труда и мер по технике безопасности","Расходы на страхование","Другие прочие расходы","Электроэнергия на хоз. нужды","Подконтрольные расходы из прибыли","ИТОГО подконтрольные расходы","Оплата услуг ОАО \"ФСК ЕЭС\"","в том числе",null,"Теплоэнергия","Аренда, всего","в том числе аренда объектов электро-\nсетевого комплекса","Налоги (без учета налога на прибыль), всего, в том числе:","плата за землю","Налог на имущество","Прочие налоги и сборы","Отчисления на социальные нужды (ЕСН)","Прочие неподконтрольные расходы","Налог на прибыль, в том числе:","налог на прибыль на капитальные вложения ","Выпадающие доходы по п.87 Основ ценообразования","Амортизация ОС","Прибыль на капитальные вложения","Возврат заемных средств, направляемый на финансирование капитальных вложений","Проверка прибыли на капитальные вложения (не более 12% от НВВ на содержание сетей)","ИТОГО неподконтрольных расходов"]
[null,null,null,null,null,null,null,null,null,null,null,null,null,null,null,null,null,null,null,null,null,null,null,null,null,null,null,null,null,null,null,null,null,null,"Оплата услуг ОАО \"ФСК ЕЭС\"\n1 полугодие","Оплата услуг ОАО \"ФСК ЕЭС\"\n2 полугодие",null,null,null,null,null,null,null,null,null,null,null,null,null,null,null,null,null,null,null,"НВВ на 1 полугодие","НВВ на 2 полугодие",null,null,null,null,null,null,null,"расходы на 1 полугодие","расходы на 2 полугодие"]
[null,null,"%","%","у.е.","у.е.","у.е.","у.е.","у.е.","%",null,null,"тыс.руб","тыс.руб","тыс.руб","тыс.руб","тыс.руб","тыс.руб","тыс.руб","тыс.руб","тыс.руб","тыс.руб","тыс.руб","тыс.руб","тыс.руб","тыс.руб","тыс.руб","тыс.руб","тыс.руб","тыс.руб","тыс.руб","тыс.руб","тыс.руб","тыс.руб","тыс.руб","тыс.руб","тыс.руб","тыс.руб","тыс.руб","тыс.руб","тыс.руб","тыс.руб","тыс.руб","тыс.руб","тыс.руб","тыс.руб","тыс.руб","тыс.руб","тыс.руб","тыс.руб","тыс.руб","%","тыс.руб","тыс.руб","тыс.руб","тыс.руб","тыс.руб","%","%","млн.кВтч","млн.кВтч","руб./МВтч","%","тыс.руб","тыс.руб","тыс.руб","%","МВт"]
["А","Б","0.1","0.2","0.3","0.3.1","0.3.2","0.3.3","0.3.4","0.4","0.5","0.6","1.1","1.1.1","1.1.2","1.2","1.3","1.3.1","1.3.2","1.3.2.1","1.3.2.2","1.3.2.3","1.3.2.4","1.3.2.5","1.3.2.6","1.3.3","1.3.4","1.3.5","1.3.6","1.3.7","1.4","1.5","1.6","2.1","2.1.1","2.1.2","2.2","2.3","2.3.1","2.4","2.4.1","2.4.2","2.4.3","2.5","2.6","2.7","2.7.1","2.8","2.9","2.10","2.11","2.12","2.13","3","4","4.1","4.2","5","6","7","8","9","10","11","11.1","11.2","12","13","14","15.1","15.2"]
[{"$f":"'НВВ для шаблона ЕИАС предел'!A7","v":{"$error":"#REF!"}},2020,{"$f":"'НВВ по данным экспертов'!G17","v":0},{"$f":"'Подконтрольные расходы'!Q10","v":0},{"$f":"SUM(F7:I7)","v":0},{"$f":"'УЕ ТП 2017-2024'!T56","v":0},{"$f":"'УЕ ТП 2017-2024'!T57","v":0},{"$f":"'УЕ ТП 2017-2024'!T58","v":0},{"$f":"'УЕ ТП 2017-2024'!T59","v":0},null,0.75,null,{"$f":"SUM(N7:O7)","v":0},{"$f":"'НВВ по данным экспертов'!G30","v":0},{"$f":"'НВВ по данным экспертов'!G32+'НВВ по данным экспертов'!G33","v":0},{"$f":"'НВВ по данным экспертов'!G29","v":0},{"$f":"R7+S7+Z7+AA7+AB7+AC7+AD7+AE7+AF7","v":0},{"$f":"'НВВ по данным экспертов'!G31","v":0},{"$f":"SUM(T7:Y7)","v":0},null,null,null,null,null,null,null,null,null,null,{"$f":"'НВВ по данным экспертов'!G34","v":0},null,{"$f":"'НВВ по данным экспертов'!G35","v":0},{"$f":"M7+P7+Q7","v":0},{"$f":"AI7+AJ7","v":0},{"$f":"'Услуги ФСК'!M17","v":0},{"$f":"'Услуги ФСК'!N17","v":0},{"$f":"'Расходы рег. орг-ий'!G10","v":0},{"$f":"'НВВ по данным экспертов'!$G$40","v":0},null,{"$f":"SUM(AO7:AQ7)","v":0},{"$f":"'НВВ по данным экспертов'!$G$42","v":0},{"$f":"'НВВ по данным экспертов'!G44","v":0},{"$f":"'НВВ по данным экспертов'!G43+'НВВ по данным экспертов'!G45","v":0},{"$f":"'НВВ по данным экспертов'!G39","v":0},{"$f":"'НВВ по данным экспертов'!G49","v":0},{"$f":"'НВВ по данным экспертов'!G46","v":0},{"$f":"AX7/0.8*0.2","v":0},{"$f":"'НВВ по данным экспертов'!G51","v":0},{"$f":"'НВВ по данным экспертов'!G38","v":0},{"$f":"'НВВ по данным экспертов'!G50","v":0},{"$f":"'НВВ по данным экспертов'!G52","v":0},null,{"$f":"AH7+AK7+AL7+AN7+AS7+AT7+AV7+AR7+AW7+AX7+AY7","v":0},{"$f":"'НВВ по данным экспертов'!G66+'НВВ по данным экспертов'!G67","v":-3159.7999999999997},{"$f":"SUM(BA7,BB7,AG7)","v":-3159.7999999999997},null,null,null,null,{"$f":"'Баланс энергии'!AG9/1000","v":0},{"$f":"'НВВ на потери'!L11","v":0},{"$f":"'НВВ на потери'!L12","v":0},{"$f":"IF(BH7=0,0,BI7/BH7)","v":0},{"$f":"BI7*BJ7","v":0},{"$f":"'НВВ на потери'!J13","v":0},{"$f":"BL7-BM7","v":0},null,null,{"$f":"'НВВ по данным экспертов'!G13","v":0},{"$f":"'НВВ по данным экспертов'!G14","v":0},{"$f":"'НВВ по данным экспертов'!G15","v":0}]
[null,2021,{"$f":"'Подконтрольные расходы'!R12","v":0.04},{"$f":"D7","v":0},{"$f":"SUM(F8:I8)","v":0},{"$f":"'УЕ ТП 2017-2024'!$X$56","v":0},{"$f":"'УЕ ТП 2017-2024'!$X$57","v":0},{"$f":"'УЕ ТП 2017-2024'!$X$58","v":0},{"$f":"'УЕ ТП 2017-2024'!$X$59","v":0},{"$f":"IF(E7=0,0,(E8-E7)/E7*K8)","v":0},0.75,{"$f":"(1+C8)*(1-D8)*(1+J8)","v":1.04},{"$f":"SUM(N8:O8)","v":0},{"$f":"N7*$L8","v":0},{"$f":"O7*L8","v":0},{"$f":"P7*$L8","v":0},{"$f":"R8+S8+Z8+AA8+AB8+AC8+AD8+AE8+AF8","v":0},{"$f":"R7*$L8","v":0},{"$f":"SUM(T8:Y8)","v":0},{"$f":"T7*$L8","v":0},{"$f":"U7*L8","v":0},{"$f":"V7*L8","v":0},{"$f":"W7*$L8","v":0},{"$f":"X7*$L8","v":0},0,0,0,0,0,0,0,0,{"$f":"M8+P8+Q8","v":0},{"$f":"AI8+AJ8","v":0},{"$f":"'Услуги ФСК'!Q17/2","v":0},{"$f":"AI8","v":0},{"$f":"'Расходы рег. орг-ий'!I10","v":0},{"$f":"'НВВ по данным экспертов'!$H$40","v":0},{"$f":"'Аренда имущества'!V38","v":0},{"$f":"SUM(AO8:AQ8)","v":77.020877339999998},{"$f":"'НВВ по данным экспертов'!$H$42","v":0},{"$f":"'НВВ по данным предпр.'!H44","v":77.020877339999998},{"$f":"'НВВ по данным предпр.'!$H$43+'НВВ по данным предпр.'!$H$45","v":0},{"$f":"'НВВ по данным предпр.'!$H$39","v":577.42583755428006},{"$f":"'НВВ по данным предпр.'!$H$49","v":112.26109839360001},{"$f":"'НВВ по данным предпр.'!$H$46","v":0},{"$f":"$AX$7/0.8*0.2","v":0},{"$f":"'НВВ по данным предпр.'!$H$51","v":"х"},{"$f":"'НВВ по данным предпр.'!$H$38","v":297.95308999999997},{"$f":"'НВВ по данным предпр.'!$H$50","v":0},{"$f":"'НВВ по данным предпр.'!$H$52","v":0},{"$f":"nerr((AX8+AY8)/(BC8-AH8-AU8-AX8-AY8-AM8))","v":{"$error":"#NAME?"}},{"$f":"AH8+AK8+AL8+AN8+AS8+AT8+AV8+AR8+AW8+AX8+AY8","v":{"$error":"#VALUE!"}},{"$f":"'НВВ по данным предпр.'!$H$60","v":"x"},{"$f":"SUM(BA8,BB8,AG8)","v":{"$error":"#VALUE!"}},null,null,{"$f":"nerr((BD8+BE8)/BC8)","v":{"$error":"#NAME?"}},{"$f":"nerr((BC8-BC7)/BC7)","v":{"$error":"#NAME?"}},{"$f":"BH7","v":0},{"$f":"BI7","v":0},{"$f":"'НВВ на потери'!M12","v":2963.9105930000001},{"$f":"IF(BH8=0,0,BI8/BH8)","v":0},{"$f":"BI8*BJ8","v":0},{"$f":"BL8/2","v":0},{"$f":"BL8-BM8","v":0},{"$f":"nerr((BL8-BL7)/BL7)","v":{"$error":"#NAME?"}},{"$f":"BP7","v":0},{"$f":"'НВВ по данным экспертов'!$H$13","v":0},{"$f":"'НВВ по данным экспертов'!$H$14","v":0},{"$f":"'НВВ по данным экспертов'!$H$15","v":0}]
[null,2022,{"$f":"'Подконтрольные расходы'!T12","v":0.04},{"$f":"D8","v":0},0,{"$f":"'УЕ ТП 2017-2024'!$AB$56","v":0},{"$f":"'УЕ ТП 2017-2024'!$AB$57","v":0},{"$f":"'УЕ ТП 2017-2024'!$AB$58","v":0},{"$f":"'УЕ ТП 2017-2024'!$AB$59","v":0},{"$f":"IF(E8=0,0,(E9-E8)/E8*K9)","v":0},0.75,{"$f":"(1+C9)*(1-D9)*(1+J9)","v":1.04},0,{"$f":"N8*$L9","v":0},{"$f":"O8*L9","v":0},{"$f":"P8*$L9","v":0},0,{"$f":"R8*$L9","v":0},0,{"$f":"T8*$L9","v":0},{"$f":"U8*L9","v":0},{"$f":"V8*L9","v":0},{"$f":"W8*$L9","v":0},0,0,0,0,0,0,0,0,0,0,0,{"$f":"'Услуги ФСК'!S17/2","v":0},{"$f":"AI9","v":0},{"$f":"'Расходы рег. орг-ий'!K10","v":0},{"$f":"'НВВ по данным экспертов'!$I$40","v":0},{"$f":"'Аренда имущества'!X38","v":0},73.743393899999987,{"$f":"'НВВ по данным экспертов'!$I$42","v":0},{"$f":"'НВВ по данным предпр.'!I44","v":73.743393899999987},{"$f":"'НВВ по данным предпр.'!$I$43+'НВВ по данным предпр.'!$I$45","v":0},{"$f":"'НВВ по данным предпр.'!$I$39","v":594.51764234588688},{"$f":"'НВВ по данным предпр.'!$I$49","v":116.75154232934402},{"$f":"'НВВ по данным предпр.'!$I$46","v":0},0,{"$f":"'НВВ по данным предпр.'!$I$51","v":"х"},{"$f":"'НВВ по данным предпр.'!$I$38","v":297.95308999999997},{"$f":"'НВВ по данным предпр.'!$I$50","v":0},{"$f":"'НВВ по данным предпр.'!$I$52","v":0},{"$f":"nerr((AX9+AY9)/(BC9-AH9-AU9-AX9-AY9-AM9))","v":{"$error":"#NAME?"}},{"$error":"#VALUE!"},{"$f":"'НВВ по данным предпр.'!$I$60","v":"x"},{"$error":"#VALUE!"},null,null,{"$f":"nerr((BD9+BE9)/BC9)","v":{"$error":"#NAME?"}},{"$f":"nerr((BC9-BC8)/BC8)","v":{"$error":"#NAME?"}},{"$f":"BH8","v":0},0,{"$f":"'НВВ на потери'!O12","v":3052.8279107900003},0,0,{"$f":"BL9/2","v":0},0,{"$f":"nerr((BL9-BL8)/BL8)","v":{"$error":"#NAME?"}},{"$f":"BP8","v":0},{"$f":"'НВВ по данным экспертов'!$I$13","v":0},{"$f":"'НВВ по данным экспертов'!$I$14","v":0},{"$f":"'НВВ по данным экспертов'!$I$15","v":0}]
[null,2023,{"$f":"'Подконтрольные расходы'!V12","v":0.04},0,0,{"$f":"'УЕ ТП 2017-2024'!$AF$56","v":0},{"$f":"'УЕ ТП 2017-2024'!$AF$57","v":0},{"$f":"'УЕ ТП 2017-2024'!$AF$58","v":0},{"$f":"'УЕ ТП 2017-2024'!$AF$59","v":0},{"$f":"IF(E9=0,0,(E10-E9)/E9*K10)","v":0},0.75,{"$f":"(1+C10)*(1-D10)*(1+J10)","v":1.04},0,0,0,0,0,0,0,0,0,0,0,0,0,0,0,0,0,0,0,0,0,0,{"$f":"'Услуги ФСК'!U17/2","v":0},0,{"$f":"'Расходы рег. орг-ий'!M10","v":0},{"$f":"'НВВ по данным экспертов'!$J$40","v":0},{"$f":"'Аренда имущества'!Z38","v":0},70.465910459999989,{"$f":"'НВВ по данным экспертов'!$J$42","v":0},{"$f":"'НВВ по данным предпр.'!J44","v":70.465910459999989},{"$f":"'НВВ по данным предпр.'!$J$43+'НВВ по данным предпр.'!$J$45","v":0},{"$f":"'НВВ по данным предпр.'!$J$39","v":612.11536455932514},{"$f":"'НВВ по данным предпр.'!$J$49","v":121.42160402251778},{"$f":"'НВВ по данным предпр.'!$J$46","v":0},0,{"$f":"'НВВ по данным предпр.'!$J$51","v":"х"},{"$f":"'НВВ по данным предпр.'!$J$38","v":297.95308999999997},{"$f":"'НВВ по данным предпр.'!$J$50","v":0},{"$f":"'НВВ по данным предпр.'!$J$52","v":0},{"$f":"nerr((AX10+AY10)/(BC10-AH10-AU10-AX10-AY10-AM10))","v":{"$error":"#NAME?"}},{"$error":"#VALUE!"},{"$f":"'НВВ по данным предпр.'!$J$60","v":"x"},{"$error":"#VALUE!"},null,null,{"$f":"nerr((BD10+BE10)/BC10)","v":{"$error":"#NAME?"}},{"$f":"nerr((BC10-BC9)/BC9)","v":{"$error":"#NAME?"}},0,0,{"$f":"'НВВ на потери'!Q12","v":3144.4127481137002},0,0,0,0,{"$f":"nerr((BL10-BL9)/BL9)","v":{"$error":"#NAME?"}},0,{"$f":"'НВВ по данным экспертов'!$J$13","v":0},{"$f":"'НВВ по данным экспертов'!$J$14","v":0},{"$f":"'НВВ по данным экспертов'!$J$15","v":0}]
[null,2024,{"$f":"'Подконтрольные расходы'!X12","v":0.04},0,0,{"$f":"'УЕ ТП 2017-2024'!$AJ$56","v":0},{"$f":"'УЕ ТП 2017-2024'!$AJ$57","v":0},{"$f":"'УЕ ТП 2017-2024'!$AJ$58","v":0},{"$f":"'УЕ ТП 2017-2024'!$AJ$59","v":0},{"$f":"IF(E10=0,0,(E11-E10)/E10*K11)","v":0},0.75,{"$f":"(1+C11)*(1-D11)*(1+J11)","v":1.04},{"$f":"SUM(N11:O11)","v":0},0,0,0,0,0,0,0,0,0,0,0,0,0,0,0,0,0,0,0,0,0,{"$f":"'Услуги ФСК'!W17/2","v":0},0,{"$f":"'Расходы рег. орг-ий'!O10","v":0},{"$f":"'НВВ по данным экспертов'!$K$40","v":0},{"$f":"'Аренда имущества'!AB38","v":0},67.188427019999978,{"$f":"'НВВ по данным экспертов'!$K$42","v":0},{"$f":"'НВВ по данным предпр.'!K44","v":67.188427019999978},{"$f":"'НВВ по данным предпр.'!$K$43+'НВВ по данным предпр.'!$K$45","v":0},{"$f":"'НВВ по данным предпр.'!$K$39","v":630.23397935028129},{"$f":"'НВВ по данным предпр.'!$K$49","v":126.2784681834185},{"$f":"'НВВ по данным предпр.'!$K$46","v":0},0,{"$f":"'НВВ по данным предпр.'!$K$51","v":"х"},{"$f":"'НВВ по данным предпр.'!$K$38","v":297.95308999999997},{"$f":"'НВВ по данным предпр.'!$K$50","v":0},{"$f":"'НВВ по данным предпр.'!$K$52","v":0},{"$f":"((AX11+AY11)/(BC11-AH11-AU11-AX11-AY11-AM11))","v":{"$error":"#VALUE!"}},{"$error":"#VALUE!"},{"$f":"'НВВ по данным предпр.'!$K$60","v":"x"},{"$error":"#VALUE!"},null,null,{"$f":"((BD11+BE11)/BC11)","v":{"$error":"#VALUE!"}},{"$f":"nerr((BC11-BC10)/BC10)","v":{"$error":"#NAME?"}},0,0,{"$f":"'НВВ на потери'!S12","v":3238.7451305571112},0,0,0,0,{"$f":"nerr((BL11-BL10)/BL10)","v":{"$error":"#NAME?"}},0,{"$f":"'НВВ по данным экспертов'!$K$13","v":0},{"$f":"'НВВ по данным экспертов'!$K$14","v":0},{"$f":"'НВВ по данным экспертов'!$K$15","v":0}]

{"sheet":"НВВ по данным экспертов","index":46,"n_rows":76,"n_cols":11,"rows_kept":76,"cut":false,"hidden":true,"merged":[[72,0,72,6],[77,0,77,1],[77,2,77,4],[21,0,21,6],[27,0,27,6],[36,0,36,6],[54,0,54,6],[62,0,62,6],[68,0,68,6],[4,7,5,7],[4,8,5,8],[4,9,5,9],[4,10,5,10],[7,0,7,6],[15,0,15,6],[1,0,1,6],[2,0,2,6],[4,0,5,0],[4,1,5,1],[4,2,5,2],[4,3,4,4],[4,5,5,5],[4,6,5,6]]}
[]
["Расчет необходимой валовой выручки (НВВ) на оказание услуги по передаче электрической энергии долгосрочного периода регулирования 2020- 2024 годы по данным экспертов"]
[{"$f":"'Инф-я'!C13","v":"ООО \"МОНОСТРОЙ\""}]
[]
["№ п.п.","Наименование","Ед.изм.","2018 год",null,"2019 год утверждено","2020 год","2021 год","2022 год","2023 год","2024 год"]
[null,null,null,"Утверждено","Факт"]
[1,2,3,4,5,6,7,8,9,10,11]
["Долгосрочные параметры регулирования"]
[1,"Базовый уровень подконтрольных расходов (ПР)","тыс.руб.","х","х","х",{"$f":"'Подконтрольные расходы'!Q24","v":{"$error":"#DIV/0!"}},"х","х","х","х"]
[2,"Индекс эффективности подконтрольных расходов (Хэф)","%",{"$f":"'Подконтрольные расходы'!H10","v":0.01},{"$f":"D10","v":0.01},{"$f":"D10","v":0.01},{"$f":"'Подконтрольные расходы'!Q10","v":0},{"$f":"$G$10","v":0},{"$f":"$G$10","v":0},0,0]
[3,"Коэффициент эластичности подконтрольных расходов по количеству активов (К эл)","знач.",0.75,0.75,0.75,0.75,0.75,0.75,0.75,0.75]
[5,"Уровень надежности и качества оказываемых услуг","х","х","х","х","х","х","х","х","х"]
["5.1.","Показатель средней продолжительности прекращений передачи электрической энергии на точку поставки (Пsaidi), час.","знач.","х","х","х"]
["5.2.","Показатель средней частоты прекращений передачи электрической энергии на точку поставки (Пsaifi), шт.","знач.","х","х","х"]
["5.3.","Показатель уровня качества осуществляемого технологического присоединения (Птпр)","знач.","х","х","х"]
["Планируемые значения параметров расчета тарифов"]
[1,"Индекс потребительских цен (ИПЦ)","%","х","х",{"$f":"'Подконтрольные расходы'!J12","v":4.5999999999999999E-2},{"$f":"'Подконтрольные расходы'!Q12","v":0},{"$f":"'Подконтрольные расходы'!S12","v":0},{"$f":"'Подконтрольные расходы'!U12","v":0},{"$f":"'Подконтрольные расходы'!W12","v":0},{"$f":"'Подконтрольные расходы'!Y12","v":0}]
[2,"Количество активов (УЕ)","усл.ед.",{"$f":"'Подконтрольные расходы'!H13","v":71.139700000000005},{"$f":"'Подконтрольные расходы'!I13","v":71.139700000000005},{"$f":"'Подконтрольные расходы'!J13","v":71.147000000000006},{"$f":"'Подконтрольные расходы'!Q13","v":0},{"$f":"'Подконтрольные расходы'!S13","v":0},{"$f":"'Подконтрольные расходы'!U13","v":0},{"$f":"'Подконтрольные расходы'!W13","v":0},{"$f":"'Подконтрольные расходы'!Y13","v":0}]
[3,"Величина неподконтрольных расходов (НР)","тыс.руб.",{"$f":"D53","v":700.03},767.99017465999998,728.54,0,0,0,0,0]
[4,"Величина полезного отпуска электрической энергии","тыс. кВт.ч.",{"$f":"'Баланс энергии'!C22-'Баланс энергии'!C25","v":4108.6000000000004},{"$f":"'Баланс энергии'!H22-'Баланс энергии'!H25","v":8899.6879999999983},{"$f":"'Баланс энергии'!M22-'Баланс энергии'!M25","v":11788.800000000001},{"$f":"'Баланс энергии'!AG22-'Баланс энергии'!AG25","v":0},{"$f":"$G$20","v":0},{"$f":"$G$20","v":0},0,0]
[5,"Прогнозная цена (тариф) покупки потерь электрической энергии","руб./МВт.ч.",{"$f":"D71","v":0},0,2793.77,0,0,0,0,0]
["Расчетные показатели"]
[1,"Доля подконтрольных расходов на МВт.ч.","руб.МВт.ч.",{"$f":"IF(D20=0,0,D36/D20/10)","v":7.442295090742998E-2},4.7698296827723384E-2,2.6861573528107918E-2,0,0,0,0,0]
[2,"Проверка прибыли на капитальные вложения (не более 12 % от НВВ на содержание сетей)","%","х","х","х",{"$f":"IF(G25=0,0,G50/G25)","v":{"$error":"#DIV/0!"}},{"$f":"IF(H25=0,0,I50/H25)","v":0},{"$f":"IF(I25=0,0,K50/I25)","v":0},{"$f":"IF(J25=0,0,#REF!/J25)","v":0},{"$f":"IF(K25=0,0,L50/K25)","v":0}]
[3,"НВВ для расчета КВЛ ","тыс.руб.","х","х","х",{"$f":"G68-' КВЛ'!G20/0.8-'Услуги ФСК'!O17-'Аренда имущества'!N38-'Возврат заемных средств'!G11","v":{"$error":"#DIV/0!"}},{"$f":"H68-' КВЛ'!I20/0.8-'Услуги ФСК'!Q17-'Аренда имущества'!W38-'Возврат заемных средств'!I11","v":0},{"$f":"I68-' КВЛ'!K20/0.8-'Услуги ФСК'!S17-'Аренда имущества'!Y38-'Возврат заемных средств'!K11","v":0},{"$f":"J68-' КВЛ'!M20/0.8-'Услуги ФСК'!U17-'Аренда имущества'!AA38-'Возврат заемных средств'!M11","v":0},{"$f":"K68-' КВЛ'!O20/0.8-'Услуги ФСК'!W17-'Аренда имущества'!AC38-'Возврат заемных средств'!O11","v":0}]
[4,"Индекс изменения количества активов (ИКА)","%","х","х","х",{"$f":"'Подконтрольные расходы'!N14","v":0.38159163422210335},{"$f":"'Подконтрольные расходы'!R14","v":0},{"$f":"'Подконтрольные расходы'!T14","v":0},{"$f":"'Подконтрольные расходы'!V14","v":0},{"$f":"'Подконтрольные расходы'!X14","v":0}]
[5,"Общий коэффициент индексации подконтрольных расходов ПР= ИПЦ*(1+(Кэл*ИКА))*(1-Хэф)","знач.","х","х","х",{"$f":"'Подконтрольные расходы'!Q15","v":0.25},{"$f":"'Подконтрольные расходы'!S15","v":1},{"$f":"'Подконтрольные расходы'!U15","v":1},{"$f":"'Подконтрольные расходы'!W15","v":1},{"$f":"'Подконтрольные расходы'!Y15","v":1}]
["Подконтрольные расходы организации (ПР)"]
["1.","Расходы на оплату труда","тыс.руб.",{"$f":"'Подконтрольные расходы'!H17","v":824.6921278368651},{"$f":"'Подконтрольные расходы'!I17","v":1398.6030000000001},{"$f":"'Подконтрольные расходы'!J17","v":854.06741109460813},{"$f":"'Подконтрольные расходы'!Q17","v":0},{"$f":"'Подконтрольные расходы'!S17","v":0},{"$f":"'Подконтрольные расходы'!U17","v":0},{"$f":"'Подконтрольные расходы'!W17","v":0},{"$f":"'Подконтрольные расходы'!Y17","v":0}]
["2.","Материалы","тыс.руб.",{"$f":"'Подконтрольные расходы'!H18","v":0},{"$f":"'Подконтрольные расходы'!I18","v":0},{"$f":"'Подконтрольные расходы'!J18","v":0},{"$f":"'Подконтрольные расходы'!Q18","v":0},{"$f":"'Подконтрольные расходы'!S18","v":0},{"$f":"'Подконтрольные расходы'!U18","v":0},{"$f":"'Подконтрольные расходы'!W18","v":0},{"$f":"'Подконтрольные расходы'!Y18","v":0}]
["3.","Ремонт основных фондов","тыс.руб.",{"$f":"'Подконтрольные расходы'!H19","v":751.16228414658451},{"$f":"'Подконтрольные расходы'!I19","v":178.3},{"$f":"'Подконтрольные расходы'!J19","v":777.91845669210932},{"$f":"'Подконтрольные расходы'!Q19","v":0},{"$f":"'Подконтрольные расходы'!S19","v":0},{"$f":"'Подконтрольные расходы'!U19","v":0},{"$f":"'Подконтрольные расходы'!W19","v":0},{"$f":"'Подконтрольные расходы'!Y19","v":0}]
["4.","Цеховые расходы","тыс.руб.",{"$f":"'Подконтрольные расходы'!H20","v":187.38789675315937},{"$f":"'Подконтрольные расходы'!I20","v":1664.2000000000003},{"$f":"'Подконтрольные расходы'!J20","v":194.06259675379479},{"$f":"'Подконтрольные расходы'!Q20","v":0},{"$f":"'Подконтрольные расходы'!S20","v":0},{"$f":"'Подконтрольные расходы'!U20","v":0},{"$f":"'Подконтрольные расходы'!W20","v":0},{"$f":"'Подконтрольные расходы'!Y20","v":0}]
["5.","Общеэксплуатационные расходы ","тыс.руб.",{"$f":"'Подконтрольные расходы'!H21","v":1294.4990522460589},{"$f":"'Подконтрольные расходы'!I21","v":963.8965989812782},{"$f":"'Подконтрольные расходы'!J21","v":1340.6087155410746},{"$f":"'Подконтрольные расходы'!Q21","v":0},{"$f":"'Подконтрольные расходы'!S21","v":0},{"$f":"'Подконтрольные расходы'!U21","v":0},{"$f":"'Подконтрольные расходы'!W21","v":0},{"$f":"'Подконтрольные расходы'!Y21","v":0}]
["6.","Другие расходы, связанные с передачей электрической энергии ","тыс.руб.",{"$f":"'Подконтрольные расходы'!H22","v":0},{"$f":"'Подконтрольные расходы'!I22","v":0},{"$f":"'Подконтрольные расходы'!J22","v":0},{"$f":"'Подконтрольные расходы'!Q22","v":0},{"$f":"'Подконтрольные расходы'!S22","v":0},{"$f":"'Подконтрольные расходы'!U22","v":0},{"$f":"'Подконтрольные расходы'!W22","v":0},{"$f":"'Подконтрольные расходы'!Y22","v":0}]
["7.","Расходы по коллективным договорам","тыс.руб.",{"$f":"'Подконтрольные расходы'!H23","v":0},{"$f":"'Подконтрольные расходы'!I23","v":40},{"$f":"'Подконтрольные расходы'!J23","v":0},{"$f":"'Подконтрольные расходы'!Q23","v":0},{"$f":"'Подконтрольные расходы'!S23","v":0},{"$f":"'Подконтрольные расходы'!U23","v":0},{"$f":"'Подконтрольные расходы'!W23","v":0},{"$f":"'Подконтрольные расходы'!Y23","v":0}]
[null,"Итого ПР с учетом индексации:","тыс.руб.",{"$f":"'Подконтрольные расходы'!H24","v":3057.7413609826681},{"$f":"'Подконтрольные расходы'!I24","v":4244.9995989812778},{"$f":"'Подконтрольные расходы'!J24","v":3166.6571800815868},{"$f":"'Подконтрольные расходы'!Q24","v":{"$error":"#DIV/0!"}},{"$f":"'Подконтрольные расходы'!S24","v":0},{"$f":"'Подконтрольные расходы'!U24","v":0},{"$f":"'Подконтрольные расходы'!W24","v":0},{"$f":"'Подконтрольные расходы'!Y24","v":0}]
[]
[1,"Амортизация основных средств","тыс.руб.",{"$f":"'Свод по амортизации'!B13","v":210.95},{"$f":"'Свод по амортизации'!C13","v":148.97651999999999},{"$f":"'Свод по амортизации'!D13","v":210.95},{"$f":"'Свод по амортизации'!G13","v":0},{"$f":"'Свод по амортизации'!I13","v":0},{"$f":"'Свод по амортизации'!K13","v":0},{"$f":"'Свод по амортизации'!M13","v":0},{"$f":"'Свод по амортизации'!O13","v":0}]
[2,"Страховые взносы","тыс.руб.",{"$f":"'Страховые взносы'!D18","v":302.29000000000002},{"$f":"'Страховые взносы'!E18","v":432.16832700000003},{"$f":"'Страховые взносы'!F18","v":313.04000000000002},{"$f":"'Страховые взносы'!I18","v":0},{"$f":"'Страховые взносы'!K18","v":0},{"$f":"'Страховые взносы'!M18","v":0},{"$f":"'Страховые взносы'!O18","v":0},{"$f":"'Страховые взносы'!Q18","v":0}]
[3,"Расходы на оплату услуг организаций, осуществляющие регулируемые виды деятельности","тыс.руб.",{"$f":"'Расходы рег. орг-ий'!B23","v":0},{"$f":"'Расходы рег. орг-ий'!C23","v":0},{"$f":"'Расходы рег. орг-ий'!D23","v":0},{"$f":"'Расходы рег. орг-ий'!G23","v":0},{"$f":"'Расходы рег. орг-ий'!I23","v":0},{"$f":"'Расходы рег. орг-ий'!K23","v":0},{"$f":"'Расходы рег. орг-ий'!M23","v":0},{"$f":"'Расходы рег. орг-ий'!O23","v":0}]
[4,"Налоги и сборы, в том числе:","тыс.руб.",{"$f":"SUM(D42:D46)","v":86.8},{"$f":"SUM(E42:E46)","v":86.853327660000005},100.55,0,0,0,0,0]
["4.1","Плата за землю","тыс.руб.",{"$f":"'Плата за землю'!B18","v":0},{"$f":"'Плата за землю'!C18","v":0},{"$f":"'Плата за землю'!D18","v":0},{"$f":"'Плата за землю'!G18","v":0},{"$f":"'Плата за землю'!I18","v":0},{"$f":"'Плата за землю'!K18","v":0},{"$f":"'Плата за землю'!M18","v":0},{"$f":"'Плата за землю'!O18","v":0}]
["4.2","Транспортный налог","тыс.руб.",{"$f":"'Транспортный налог'!D17","v":0},{"$f":"'Транспортный налог'!E17","v":0},{"$f":"'Транспортный налог'!F17","v":0},{"$f":"'Транспортный налог'!K17","v":0},{"$f":"'Транспортный налог'!M17","v":0},{"$f":"'Транспортный налог'!O17","v":0},{"$f":"'Транспортный налог'!Q17","v":0},{"$f":"'Транспортный налог'!S17","v":0}]
["4.3","Налог на имущество","тыс.руб.",{"$f":"'Налог на имущество'!B15","v":86.8},{"$f":"'Налог на имущество'!C15","v":86.853327660000005},{"$f":"'Налог на имущество'!D15","v":100.55},{"$f":"'Налог на имущество'!G15","v":0},{"$f":"'Налог на имущество'!I15","v":0},{"$f":"'Налог на имущество'!K15","v":0},{"$f":"'Налог на имущество'!M15","v":0},{"$f":"'Налог на имущество'!O15","v":0}]
["4.4","Плата за негативное воздействие на окружающую среду","тыс.руб.",{"$f":"'Негативное возд. на окр. среду '!C29","v":0},{"$f":"'Негативное возд. на окр. среду '!D29","v":0},{"$f":"'Негативное возд. на окр. среду '!E29","v":0},{"$f":"'Негативное возд. на окр. среду '!H29","v":0},{"$f":"'Негативное возд. на окр. среду '!J29","v":0},{"$f":"'Негативное возд. на окр. среду '!L29","v":0},{"$f":"'Негативное возд. на окр. среду '!N29","v":0},{"$f":"'Негативное возд. на окр. среду '!P29","v":0}]
["4.5","Налог на прибыль","тыс.руб.",{"$f":"'Налог на прибыль'!C20","v":0},{"$f":"'Налог на прибыль'!D20","v":0},{"$f":"'Налог на прибыль'!E20","v":0},{"$f":"'Налог на прибыль'!G20","v":0},{"$f":"'Налог на прибыль'!I20","v":0},{"$f":"'Налог на прибыль'!K20","v":0},{"$f":"'Налог на прибыль'!M20","v":0},{"$f":"'Налог на прибыль'!O20","v":0}]
["5","Плата за аренду имущества","тыс.руб.",{"$f":"'Аренда имущества'!B33","v":0},{"$f":"'Аренда имущества'!C33","v":0},{"$f":"'Аренда имущества'!D33","v":0},{"$f":"'Аренда имущества'!N33","v":0},{"$f":"'Аренда имущества'!W33","v":0},{"$f":"'Аренда имущества'!Y33","v":0},{"$f":"'Аренда имущества'!AA33","v":0},{"$f":"'Аренда имущества'!AC33","v":0}]
["6","Оплата услуг ОАО \"ФСК ЕЭС\"","тыс.руб.",{"$f":"'Услуги ФСК'!B17","v":0},{"$f":"'Услуги ФСК'!E17","v":0},{"$f":"'Услуги ФСК'!F17","v":0},{"$f":"'Услуги ФСК'!O17","v":0},{"$f":"'Услуги ФСК'!Q17","v":0},{"$f":"'Услуги ФСК'!S17","v":0},{"$f":"'Услуги ФСК'!U17","v":0},{"$f":"'Услуги ФСК'!W17","v":0}]
["7","Прочие обоснованные неподконтрольные расходы","тыс.руб.",{"$f":"'Прочие НР'!B15","v":99.99},{"$f":"'Прочие НР'!C15","v":99.992000000000004},{"$f":"'Прочие НР'!D15","v":104},{"$f":"'Прочие НР'!G15","v":0},{"$f":"'Прочие НР'!I15","v":0},{"$f":"'Прочие НР'!K15","v":0},{"$f":"'Прочие НР'!M15","v":0},{"$f":"'Прочие НР'!O15","v":0}]
["8","Капитальные вложения производственного характера из прибыли","тыс.руб.",{"$f":"' КВЛ'!B20","v":0},{"$f":"' КВЛ'!C20","v":0},{"$f":"' КВЛ'!D20","v":0},{"$f":"' КВЛ'!G20","v":0},{"$f":"' КВЛ'!I20","v":0},{"$f":"' КВЛ'!K20","v":0},{"$f":"' КВЛ'!M20","v":0},{"$f":"' КВЛ'!O20","v":0}]
["9","Расходы, связанные с компенсацией выпадающих доходов от льготного технологического присоединения","тыс.руб.",{"$f":"'Выпадающий доход'!B22","v":0},"х",{"$f":"'Выпадающий доход'!C22","v":0},{"$f":"'Выпадающий доход'!E22","v":0},"х","х","х","х"]
["10",{"$f":"' НВВ содержание'!B32","v":"Расходы на возврат и обслуживание долгосрочных заемных средств, направляемых на финансирование капитальных вложений "},"тыс.руб.",{"$f":"'Возврат заемных средств'!B11","v":0},{"$f":"'Возврат заемных средств'!C11","v":0},{"$f":"'Возврат заемных средств'!D11","v":0},{"$f":"'Возврат заемных средств'!G11","v":0},{"$f":"'Возврат заемных средств'!I11","v":0},{"$f":"'Возврат заемных средств'!K11","v":0},{"$f":"'Возврат заемных средств'!M11","v":0},{"$f":"'Возврат заемных средств'!O11","v":0}]
[null,"Итого НР:","тыс.руб.",{"$f":"SUM(D38:D41,D47:D52)","v":700.03},{"$f":"SUM(E38:E41,E47:E52)","v":767.99017465999998},728.54,0,0,0,0,0]
[]
["Корректировка необходимой валовой выручки "]
["1","Корректировка подконтрольных расходов","тыс.руб.",{"$f":"' НВВ содержание'!C34","v":-7.2},{"$f":"' НВВ содержание'!D34","v":"x"},{"$f":"' НВВ содержание'!E34","v":-19.399999999999999},{"$f":"' НВВ содержание'!G34","v":-2670.72},"x","x","x","x"]
["2","Корректировка неподконтрольных расходов","тыс.руб.",{"$f":"' НВВ содержание'!C35","v":-28.9},{"$f":"' НВВ содержание'!D35","v":"x"},{"$f":"' НВВ содержание'!E35","v":-1338.89},{"$f":"' НВВ содержание'!G35","v":-489.08},"x","x","x","x"]
["3","Корректировка НВВ с учетом изменения полезного отпуска и цен на электрическую энергию ","тыс.руб.",{"$f":"' НВВ содержание'!C36","v":124.2},{"$f":"' НВВ содержание'!D36","v":"x"},{"$f":"' НВВ содержание'!E36","v":367.54},{"$f":"' НВВ содержание'!G36","v":0},"x","x","x","x"]
["4","Корректировка необходимой валовой выручки по доходам от осуществления регулируемой деятельности","тыс.руб.",{"$f":"' НВВ содержание'!C37","v":"x"},{"$f":"' НВВ содержание'!D37","v":"x"},{"$f":"' НВВ содержание'!E37","v":-1355.95},{"$f":"' НВВ содержание'!G37","v":0},"x","x","x","x"]
["5","Корректировка НВВ в связи с изменением (неисполнением) инвестиционной программы ","тыс.руб.",{"$f":"' НВВ содержание'!C38","v":0},{"$f":"' НВВ содержание'!D38","v":"x"},{"$f":"' НВВ содержание'!E38","v":0},{"$f":"' НВВ содержание'!G38","v":0},"x","x","x","x"]
["6","Корректировка НВВ с учетом надежности и качества оказываемых услуг ","тыс.руб.",{"$f":"' НВВ содержание'!C39","v":-71.099999999999994},{"$f":"' НВВ содержание'!D39","v":"x"},{"$f":"' НВВ содержание'!E39","v":-71.099999999999994},{"$f":"' НВВ содержание'!G39","v":0},"x","x","x","x"]
[null,"Итого корректировка НВВ","тыс.руб.",{"$f":"SUM(D56:D61)","v":17},"х",{"$f":"SUM(F56:F61)","v":-2417.8000000000002},-3159.7999999999997,"x","x","x","x"]
["Расходы организации на содержание сетей "]
[1,"Подконтрольные расходы","тыс.руб.",{"$f":"D36","v":3057.7413609826681},4244.9995989812778,3166.6571800815868,{"$error":"#DIV/0!"},0,0,0,0]
[2,"Неподконтрольные расходы","тыс.руб.",{"$f":"D53","v":700.03},767.99017465999998,728.54,0,0,0,0,0]
[3,"Корректировка необходимой валовой выручки ","тыс.руб.",{"$f":"D62","v":17},"х",-2417.8000000000002,-3159.7999999999997,"x","x","x","x"]
[4,"Результаты деятельности регулируемой организации в соотв. с п.7 Основ ценообразования ","тыс.руб.","x","x","x",{"$f":"' НВВ содержание'!G40","v":0}]
[null,"Итого расходы на содержание электрических сетей:","тыс.руб.",{"$f":"D64+D65+D66","v":3774.7713609826678},{"$f":"E64+E65","v":5012.9897736412777},{"$f":"F64+F65+F66","v":1477.3971800815866},{"$f":"G64+G65+G67+G66","v":{"$error":"#DIV/0!"}},{"$f":"H64+H65+H67","v":0},{"$f":"I64+I65+I67","v":0},0,0]
["Расходы организации на компенсацию потерь"]
[1,"Величина технологического расхода (потерь) электрической энергии","млн.кВт.ч.",{"$f":"'НВВ по данным предпр.'!D70","v":9.5065203370435877E-2},{"$f":"'НВВ по данным предпр.'!E70","v":0.63900280646443297},{"$f":"'НВВ на потери'!F11","v":0.74039999999999995},{"$f":"'НВВ на потери'!L11","v":0},{"$f":"'НВВ на потери'!N11","v":0},{"$f":"'НВВ на потери'!P11","v":0},{"$f":"'НВВ на потери'!R11","v":0},{"$f":"'НВВ на потери'!T11","v":0}]
[2,"Прогнозная цена (тариф) покупки потерь электрической энергии","руб./МВт.ч.",{"$f":"'Корр. ПО'!G40","v":0},{"$f":"'Корр. ПО'!H40","v":0},{"$f":"'НВВ на потери'!F12","v":2793.77},{"$f":"'НВВ на потери'!L12","v":0},{"$f":"'НВВ на потери'!N12","v":0},{"$f":"'НВВ на потери'!P12","v":0},{"$f":"'НВВ на потери'!R12","v":0},{"$f":"'НВВ на потери'!T12","v":0}]
[null,"Итого расходы на компенсацию потерь:","тыс.руб.",{"$f":"D70*D71","v":0},0,2068.5073079999997,0,0,0,0,0]
["Необходимая валовая выручка (НВВ) организации на оказание услуги по передаче электрической энергии"]
[1,"Расходы на содержание электрических сетей","тыс.руб.",{"$f":"D68","v":3774.7713609826678},5012.9897736412777,1477.3971800815866,{"$error":"#DIV/0!"},0,0,0,0]
[2,"Расходы на компенсацию потерь","тыс.руб.",{"$f":"D72","v":0},0,2068.5073079999997,0,0,0,0,0]
[null,"Необходимая валовая выручка (НВВ) организации на оказание услуги по передаче электрической энергии","тыс.руб.",{"$f":"D74+D75","v":3774.7713609826678},5012.9897736412777,3545.9044880815864,{"$f":"G74+G75","v":{"$error":"#DIV/0!"}},{"$f":"H74+H75","v":0},{"$f":"I74+I75","v":0},{"$f":"J74+J75","v":0},{"$f":"K74+K75","v":0}]

{"sheet":"Корр. КНК","index":47,"n_rows":30,"n_cols":8,"rows_kept":30,"cut":false,"hidden":false,"merged":[[26,0,26,1],[26,2,26,4],[29,0,29,7],[1,0,1,4],[3,0,3,4],[14,1,14,2],[16,0,16,6],[18,0,19,0],[18,1,19,1],[18,2,19,2],[18,3,19,3],[18,4,18,5],[18,6,18,7]]}
[]
["Корректировка НВВ с учетом надежности и качества оказываемых услуг по результатам 2018 года"]
[]
[{"$f":"'Инф-я'!C13","v":"ООО \"МОНОСТРОЙ\""}]
[]
["№ п/п","Наименование показателей","Обзнач. в МУ","По данным организации","По данным экспертов"]
[1,2,3,4,5]
["1.","Оценка достижения показателя уровня надежности   оказываемых услуг",null,{"$f":"(IF(AND(D22=0,E22=0),0,IF(AND(D22=0,E22>0),-1,IF(AND(69<F22,F22<=131),0,IF(F22>131,-1,IF(F22<=69,1))))))","v":0},{"$f":"(IF(AND(G22=0,D22=0),0,IF(AND(D22=0,G22>0),-1,IF(AND(69<H22,H22<=131),0,IF(H22>131,-1,IF(H22<=69,1))))))","v":0}]
["2.","Оценка достижения показателя уровня качества осуществляемого технологического присоединения к сети",null,{"$f":"(IF(D23=0,0,IF(AND(69<F23,F23<=131),0,IF(F23>131,-1,IF(F23<=69,1)))))","v":0},{"$f":"(IF(D23=0,0,IF(AND(69<H23,H23<=131),0,IF(H23>131,-1,IF(H23<=69,1)))))","v":1}]
["3.","Оценка достижения показателя уровня качества обслуживания потребителей услуг ",null,{"$f":"(IF(D24=0,0,(IF(AND(67<F24,F24<=131),0,IF(F24>131,-1,IF(F24<=69,1))))))","v":0},{"$f":"IF(D24=0,0,(IF(AND(68<H24,H24<=131),0,IF(H24>131,-1,IF(H24<=69,1)))))","v":1}]
["4.","Обобщенный показатель уровня надежности и качества оказываемых услуг ","                           ",{"$f":"D8*0.65+D9*0.25+D10*0.1","v":0},{"$f":"E8*0.65+E9*0.25+E10*0.1","v":0.35}]
["5.","Максимальный процент корректировки, %",null,0.02,0.02]
["6.","Коэффициент, корректирующий НВВ с учетом надежности и качества оказываемых услуг",null,{"$f":"D11*D12","v":0},{"$f":"E11*E12","v":6.9999999999999993E-3}]
["7.","Утвержденная НВВ на содержание электрических сетей (тыс. руб.)",null,{"$f":"Корр.НВВ!C6","v":3645.52},{"$f":"Корр.НВВ!D6","v":0}]
["8.","Величина корректировки НВВ с учетом надежности и качества оказываемых услуг",null,{"$f":"D13*D14","v":0},{"$f":"E13*E14","v":0}]
[]
["Показатели уровня надежности и уровня качества оказываемых услуг"]
[]
["№ п/п","Наименование показателей","Обозначение в Методических  указаниях","Утверждено на 2018 год","По данным организации",null,"По данным экспертов"]
[null,null,null,null,"Факт","% отклонения","Факт","% отклонения"]
[1,2,3,4,5,6,7,8]
["1.","Показатель средней продолжительности прекращений передачи электрической энергии",null,0,{"$f":"'Форма 1.2'!E8","v":0},{"$f":"IF(D22=0,0,E22/D22*100)","v":0},null,{"$f":"IF(D22=0,0,G22/D22*100)","v":0}]
["2.","Показатель уровня качества осуществляемого технологического присоединения к сети",null,1,{"$f":"'форма 3 '!D37","v":1},{"$f":"IF(D23=0,0,E23/D23*100)","v":100},null,{"$f":"IF(D23=0,0,G23/D23*100)","v":0}]
["3.","Показатель уровня качества обслуживания потребителей услуг ",null,0.89749999999999996,{"$f":"'форма 2.4'!C14","v":0.8913888888888889},{"$f":"IF(D24=0,0,E24/D24*100)","v":99.319096255029407},null,{"$f":"IF(D24=0,0,G24/D24*100)","v":0}]
[]
[]
["Руководитель организации",null,{"$f":"'Инф-я'!$C$21","v":"Чижов Олег Александрович"}]
[]
[]
["Приказ Министерства энергетики РФ от 14 октября 2013 г. N 718 \"Об утверждении Методических указаний по расчету уровня надежности и качества поставляемых товаров и оказываемых услуг для организации по управлению единой национальной (общероссийской) электрической сетью и территориальных сетевых организаций\" (с изменениями и дополнениями) Методические указания по расчету уровня надежности и качества поставляемых товаров и оказываемых услуг для организации по управлению единой национальной (общероссийской) электрической сетью и территориальных сетевых организаций 4. Порядок определения плановых и фактических значений показателей надежности и качества услуг   4.3. Коэффициенты допустимого отклонения на первый долгосрочный период регулирования устанавливаются равными: для организации по управлению единой национальной (общероссийской) электрической сетью для показателя уровня надежности оказания услуг - 25% на первые три расчетных периода регулирования и 20% на следующие расчетные периоды регулирования первого долгосрочного периода регулирования, а для показателя уровня качества оказания услуг - 15%; для территориальных сетевых организаций, в отношении которых переход к регулированию цен (тарифов) на услуги по передаче электрической энергии в форме долгосрочных тарифов на основе долгосрочных параметров регулирования деятельности осуществлен до 1 июля 2010 г., - 30% на первые три расчетных периода регулирования и 25% на следующие расчетные периоды регулирования первого долгосрочного периода регулирования; для остальных территориальных сетевых организаций - 35% на первые три расчетных периода регулирования и 30% на следующие расчетные периоды регулирования первого долгосрочного периода регулирования. В последующие долгосрочные периоды регулирования коэффициенты снижаются в случае достижения показателей на 1% в год - до 15% для организации по управлению единой национальной (общероссийской) электрической сетью и до 25% для территориальных сетевых организаций."]

{"sheet":" НВВ содержание","index":48,"n_rows":43,"n_cols":11,"rows_kept":43,"cut":false,"hidden":false,"merged":[[42,0,42,1],[42,2,42,4],[1,0,1,6],[3,0,3,6],[4,0,4,10],[5,0,6,0],[5,1,6,1],[5,2,5,3],[5,5,5,6],[5,7,5,8],[5,9,5,10]]}
[]
["Расчет необходимой валовой выручки  на содержание электрических сетей на 2020 год"]
[]
[{"$f":"'Инф-я'!C13","v":"ООО \"МОНОСТРОЙ\""}]
[]
["№","Наименование","2018 год",null,"2019 год","2020 год",null,"Темп роста планируемых затрат по расчету организации, %",null,"Темп роста затрат организации по расчету экспертов, %"]
[null,null,"Утверждено","Факт","Утверждено","По данным организации","По данным экспертов","к факту 2018 года","к утвержденным 2019 года","к факту 2018 года","к утвержденным 2019 года"]
["1","2","3","4","5","7","8","9","10","11","12"]
["1.","Подконтрольные расходы",{"$f":"C10+C11+C12+C13+C14+C15+C16","v":3057.7413609826681},{"$f":"D10+D11+D12+D13+D14+D15+D16","v":4244.9995989812778},3166.6571800815868,5482.920000000001,0,912.87779339353676,1419.455559487983,{"$f":"IF(D9=0,IF(G9=0,0,100),G9/D9*100)","v":0},{"$f":"IF(E9=0,IF(G9=0,0,100),G9/E9*100)","v":0}]
["1.1.","Расходы на оплату труда",{"$f":"'П.1.16. оплата труда ОПР'!E32","v":824.6921278368651},{"$f":"'П.1.16. оплата труда ОПР'!F32","v":1398.6030000000001},{"$f":"'П.1.16. оплата труда ОПР'!G32","v":854.06741109460813},{"$f":"ROUND('Подконтрольные расходы'!N17,2)","v":1771.66},{"$f":"ROUND('Подконтрольные расходы'!Q17,2)","v":0},{"$f":"IF(D10=0,IF(F10=0,0,100),F10/D10*100)","v":126.67354495879101},{"$f":"IF(E10=0,IF(F10=0,0,100),F10/E10*100)","v":207.43795829059528},{"$f":"IF(D10=0,IF(G10=0,0,100),G10/D10*100)","v":0},{"$f":"IF(E10=0,IF(G10=0,0,100),G10/E10*100)","v":0}]
["1.2","Материалы",{"$f":"материалы!D39","v":0},{"$f":"материалы!E39","v":0},{"$f":"('Подконтрольные расходы'!J18)","v":0},{"$f":"ROUND('Подконтрольные расходы'!N18,2)","v":0},{"$f":"ROUND('Подконтрольные расходы'!Q18,2)","v":0},0,0,0,0]
["1.3","Ремонт основных фондов",{"$f":"'Сводная ремонт'!D13","v":751.16228414658451},{"$f":"'Сводная ремонт'!E13","v":178.3},{"$f":"('Подконтрольные расходы'!J19)","v":777.91845669210932},{"$f":"ROUND('Подконтрольные расходы'!N19,2)","v":822.68},{"$f":"ROUND('Подконтрольные расходы'!Q19,2)","v":0},461.40213123948399,105.75401482286809,0,0]
["1.4.","Цеховые расходы",{"$f":"'Цеховые расходы'!D15","v":187.38789675315937},{"$f":"'Цеховые расходы'!E15","v":1664.2000000000003},{"$f":"('Подконтрольные расходы'!J20)","v":194.06259675379479},{"$f":"ROUND('Подконтрольные расходы'!N20,2)","v":1801.72},{"$f":"ROUND('Подконтрольные расходы'!Q20,2)","v":0},108.26342987621678,928.42208139975764,0,0]
["1.5.","Общеэксплуатационные расходы ",{"$f":"'Общеэксплуатационные расходы '!D37","v":1294.4990522460589},{"$f":"'Общеэксплуатационные расходы '!E37","v":963.8965989812782},{"$f":"('Подконтрольные расходы'!J21)","v":1340.6087155410746},{"$f":"ROUND('Подконтрольные расходы'!N21,2)","v":1043.55},{"$f":"ROUND('Подконтрольные расходы'!Q21,2)","v":0},108.26368731904499,77.841504974762117,0,0]
["1.6.","Другие расходы, связанные с передачей электрической энергии ",{"$f":"'Др проч'!D15","v":0},{"$f":"'Др проч'!E15","v":0},{"$f":"('Подконтрольные расходы'!J22)","v":0},{"$f":"ROUND('Подконтрольные расходы'!N22,2)","v":0},{"$f":"ROUND('Подконтрольные расходы'!Q22,2)","v":0},0,0,0,0]
["1.7.","Расходы по коллективным договорам",{"$f":"'Расходы по кол дог'!D29","v":0},{"$f":"'Расходы по кол дог'!E29","v":40},{"$f":"('Подконтрольные расходы'!J23)","v":0},{"$f":"ROUND('Подконтрольные расходы'!N23,2)","v":43.31},{"$f":"ROUND('Подконтрольные расходы'!Q23,2)","v":0},108.27500000000001,100,0,0]
["2.","Неподконтрольные расходы",{"$f":"C18+C19+C20+C21+C27+C28+C29+C30+C31+C32","v":700.03},{"$f":"D18+D19+D20+D21+D27+D28+D29+D30+D32","v":767.99017465999998},{"$f":"E18+E19+E20+E21+E27+E28+E29+E30+E31+E32","v":728.54},{"$f":"F18+F19+F20+F21+F27+F28+F29+F30+F31+F32","v":1047.02},0,{"$f":"IF(D17=0,IF(F17=0,0,100),F17/D17*100)","v":136.33247332409303},{"$f":"IF(E17=0,IF(F17=0,0,100),F17/E17*100)","v":143.71482691410219},0,0]
["2.1.","Амортизация основных средств",{"$f":"'Свод по амортизации'!B13","v":210.95},{"$f":"'Свод по амортизации'!C13","v":148.97651999999999},{"$f":"('Свод по амортизации'!D13)","v":210.95},{"$f":"ROUND('Свод по амортизации'!F13,2)","v":297.95},{"$f":"ROUND('Свод по амортизации'!G13,2)","v":0},{"$f":"IF(D18=0,IF(F18=0,0,100),F18/D18*100)","v":199.9979594099795},{"$f":"IF(E18=0,IF(F18=0,0,100),F18/E18*100)","v":141.24200047404599},0,0]
["2.2.","Расходы на страховые взносы",{"$f":"'Страховые взносы'!D18","v":302.29000000000002},{"$f":"'Страховые взносы'!E18","v":432.16832700000003},{"$f":"('Страховые взносы'!F18)","v":313.04000000000002},{"$f":"ROUND('Страховые взносы'!H18,2)","v":560.83000000000004},{"$f":"ROUND('Страховые взносы'!I18,2)","v":0},{"$f":"IF(D19=0,IF(F19=0,0,100),F19/D19*100)","v":129.77119445405353},{"$f":"IF(E19=0,IF(F19=0,0,100),F19/E19*100)","v":179.15601840020446},0,0]
["2.3.","Расходы на оплату услуг организаций, осуществляющие регулируемые виды деятельности",{"$f":"'Расходы рег. орг-ий'!B23","v":0},{"$f":"'Расходы рег. орг-ий'!C23","v":0},{"$f":"('Расходы рег. орг-ий'!D23)","v":0},{"$f":"ROUND('Расходы рег. орг-ий'!F23,2)","v":0},{"$f":"ROUND('Расходы рег. орг-ий'!G23,2)","v":0},0,0,0,0]
["2.4.","Налоги и сборы, в том числе:",{"$f":"(C22+C23+C24+C25+C26)","v":86.8},{"$f":"D22+D23+D24+D25+D26","v":86.853327660000005},{"$f":"(E22+E23+E24+E25+E26)","v":100.55},{"$f":"ROUND(F22+F23+F24+F25+F26,2)","v":80.3},{"$f":"ROUND(G22+G23+G24+G25+G26,2)","v":0},92.454718965226107,79.860765788165082,0,0]
["2.4.1.","Плата за землю",{"$f":"'Плата за землю'!B18","v":0},{"$f":"'Плата за землю'!C18","v":0},{"$f":"('Плата за землю'!D18)","v":0},{"$f":"ROUND('Плата за землю'!F18,2)","v":0},{"$f":"ROUND('Плата за землю'!G18,2)","v":0},0,0,0,0]
["2.4.2.","Транспортный налог",{"$f":"'Транспортный налог'!D17","v":0},{"$f":"('Транспортный налог'!E17)","v":0},{"$f":"('Транспортный налог'!F17)","v":0},{"$f":"ROUND('Транспортный налог'!I17,2)","v":0},{"$f":"ROUND('Транспортный налог'!K17,2)","v":0},0,0,0,0]
["2.4.3.","Налог на имущество",{"$f":"('Налог на имущество'!B15)","v":86.8},{"$f":"('Налог на имущество'!C15)","v":86.853327660000005},{"$f":"('Налог на имущество'!D15)","v":100.55},{"$f":"ROUND('Налог на имущество'!F15,2)","v":80.3},{"$f":"ROUND('Налог на имущество'!G15,2)","v":0},92.454718965226107,79.860765788165082,0,0]
["2.4.4.","Плата за негативное воздействие на окружающую среду",{"$f":"'Негативное возд. на окр. среду '!C29","v":0},{"$f":"'Негативное возд. на окр. среду '!D29","v":0},{"$f":"('Негативное возд. на окр. среду '!E29)","v":0},{"$f":"ROUND('Негативное возд. на окр. среду '!G29,2)","v":0},{"$f":"ROUND('Негативное возд. на окр. среду '!H29,2)","v":0},0,0,0,0]
["2.4.5.","Налог на прибыль",{"$f":"'Налог на прибыль'!C20","v":0},{"$f":"('Налог на прибыль'!D20)","v":0},{"$f":"('Налог на прибыль'!E20)","v":0},{"$f":"ROUND('Налог на прибыль'!F20,2)","v":0},{"$f":"ROUND('Налог на прибыль'!G20,2)","v":0},0,0,0,0]
["2.5.","Плата за аренду имущества",{"$f":"'Аренда имущества'!B33","v":0},{"$f":"'Аренда имущества'!C33","v":0},{"$f":"('Аренда имущества'!D33)","v":0},{"$f":"ROUND('Аренда имущества'!F33,2)","v":0},{"$f":"ROUND('Аренда имущества'!N33,2)","v":0},0,0,0,0]
["2.6.","Оплата услуг ОАО \"ФСК ЕЭС\"",{"$f":"'Услуги ФСК'!B17","v":0},{"$f":"'Услуги ФСК'!E17","v":0},{"$f":"('Услуги ФСК'!F17)","v":0},{"$f":"ROUND('Услуги ФСК'!L17,2)","v":0},{"$f":"ROUND('Услуги ФСК'!O17,2)","v":0},0,0,0,0]
["2.7.","Прочие обоснованные неподконтрольные расходы",{"$f":"'Прочие НР'!B15","v":99.99},{"$f":"'Прочие НР'!C15","v":99.992000000000004},{"$f":"('Прочие НР'!D15)","v":104},{"$f":"ROUND('Прочие НР'!F15,2)","v":107.94},{"$f":"ROUND('Прочие НР'!G15,2)","v":0},107.94863589087127,103.78846153846153,0,0]
["2.8.","Капитальные вложения производственного характера из прибыли",{"$f":"' КВЛ'!B20","v":0},{"$f":"' КВЛ'!C20","v":0},{"$f":"(' КВЛ'!D20)","v":0},{"$f":"ROUND(' КВЛ'!F20,2)","v":0},{"$f":"ROUND(' КВЛ'!G20,2)","v":0},{"$f":"IF(D30=0,IF(F30=0,0,100),F30/D30*100)","v":0},{"$f":"IF(E30=0,IF(F30=0,0,100),F30/E30*100)","v":0},0,0]
["2.9.","Расходы, связанные с компенсацией выпадающих доходов от льготного технологического присоединения",{"$f":"'Выпадающий доход'!B22","v":0},"х",{"$f":"'Выпадающий доход'!C22","v":0},{"$f":"ROUND('Выпадающий доход'!D22,2)","v":0},{"$f":"ROUND('Выпадающий доход'!E22,2)","v":0},"х",0,"х",0]
["2.10.","Расходы на возврат и обслуживание долгосрочных заемных средств, направляемых на финансирование капитальных вложений ",{"$f":"'Возврат заемных средств'!B11","v":0},{"$f":"'Возврат заемных средств'!C11","v":0},{"$f":"ROUND('Возврат заемных средств'!D11,2)","v":0},{"$f":"ROUND('Возврат заемных средств'!F11,2)","v":0},{"$f":"ROUND('Возврат заемных средств'!G11,2)","v":0},{"$f":"IF(D32=0,IF(F32=0,0,100),F32/D32*100)","v":0},0,{"$f":"IF(D32=0,IF(G32=0,0,100),G32/D32*100)","v":0},0]
["3.","Корректировка необходимой валовой выручки ",{"$f":"SUM(C34:C39)","v":17},"x",{"$f":"SUM(E34:E39)","v":-2417.8000000000002},{"$f":"SUM(F34:F39)","v":-1168.1200000000001},{"$f":"SUM(G34:G39)","v":-3159.7999999999997},"x",48.31334270824717,"х",130.68905616676315]
["3.1.","Корректировка подконтрольных расходов",-7.2,"x",-19.399999999999999,{"$f":"ROUND('Корр. ПР'!D18,2)","v":-1402.65},{"$f":"ROUND('Корр. ПР'!E18,2)","v":-2670.72},"x","х","х",13766.597938144329]
["3.2.","Корректировка неподконтрольных расходов",-28.9,"x",-1338.89,{"$f":"ROUND('Корр. НР'!E19,2)","v":129.93},{"$f":"ROUND('Корр. НР'!G19,2)","v":-489.08},"x",-9.7043072993300417,"х",36.528766366168988]
["3.3.","Корректировка НВВ с учетом изменения полезного отпуска и цен на электрическую энергию ",124.2,"x",367.54,{"$f":"ROUND('Корр. ПО'!I24,2)","v":104.6},{"$f":"ROUND('Корр. ПО'!J40,2)","v":0},"x",28.459487402731671,"х",0]
["3.4.","Корректировка необходимой валовой выручки по доходам от осуществления регулируемой деятельности","x","x",-1355.95,{"$f":"ROUND(Корр.НВВ!C8,2)","v":0},{"$f":"ROUND(Корр.НВВ!D8,2)","v":0},"x","x","х","х"]
["3.5.","Корректировка НВВ в связи с изменением (неисполнением) инвестиционной программы ",0,"x",0,{"$f":"ROUND('Корр. ИП'!D14,2)","v":0},{"$f":"ROUND('Корр. ИП'!E14,2)","v":0},"x",0,"х",0]
["3.6.","Корректировка НВВ с учетом надежности и качества оказываемых услуг ",-71.099999999999994,"x",-71.099999999999994,{"$f":"ROUND('Корр. КНК'!D15,2)","v":0},{"$f":"ROUND('Корр. КНК'!E15,2)","v":0},"x",0,"х",0]
["4.","Результаты деятельности регулируемой организации в соотв. с п.7 Основ ценообразования ","x","x","x",0,null,"x","x","х","х"]
["5.","ИТОГО необходимая валовая выручка на содержание электрических сетей",{"$f":"C33+C17+C9","v":3774.7713609826678},{"$f":"D17+D9","v":5012.9897736412777},{"$f":"E33+E17+E9","v":1477.3971800815866},{"$f":"F33+F17+F9+F40","v":5361.8200000000006},{"$f":"G33+G17+G9+G40","v":-3159.7999999999997},{"$f":"IF(D41=0,IF(F41=0,0,100),F41/D41*100)","v":106.95852659011797},{"$f":"IF(E41=0,IF(F41=0,0,100),F41/E41*100)","v":362.92339475725169},{"$f":"IF(D41=0,IF(G41=0,0,100),G41/D41*100)","v":-63.032245080859617},-213.87613585572876]
[]
["Руководитель организации",null,{"$f":"'Инф-я'!$C$21","v":"Чижов Олег Александрович"}]

{"sheet":"НВВ на потери","index":49,"n_rows":15,"n_cols":20,"rows_kept":15,"cut":false,"hidden":false,"merged":[[6,12,6,13],[7,12,8,12],[7,13,8,13],[6,14,6,15],[7,14,8,14],[7,15,8,15],[6,16,6,17],[7,16,8,16],[7,17,8,17],[6,18,6,19],[7,18,8,18],[7,19,8,19],[14,0,14,1],[14,2,14,4],[4,0,4,10],[6,0,8,0],[6,1,8,1],[6,2,8,2],[6,3,7,5],[6,6,6,11],[7,6,7,8],[7,9,7,11]]}
[]
[]
["Расходы организации на компенсацию потерь на долгосрочный периода регулирования 2020 - 2024 годы"]
[]
[{"$f":"'Инф-я'!C13","v":"ООО \"МОНОСТРОЙ\""}]
[]
["№ п/п","Показатели","Ед.измер.","2019 год утверждено",null,null,"2020 год",null,null,null,null,null,"2021 год",null,"2022 год",null,"2023 год",null,"2024 год"]
[null,null,null,null,null,null,"По данным организации ",null,null,"По данным экспертов",null,null,"По данным организации","По данным экспертов","По данным организации","По данным экспертов","По данным организации","По данным экспертов","По данным организации","По данным экспертов"]
[null,null,null,"1-е полугодие","2-е полугодие","Год","1-е полугодие","2-е полугодие","Год","1-е полугодие","2-е полугодие","Год",null,"2-е полугодие",null,"2-е полугодие",null,"2-е полугодие",null,"2-е полугодие"]
[1,2,3,4,5,6,7,8,9,10,11,12,13,14,15,16,17,18,19,20]
[1,"Величина технологического расхода (потерь) электрической энергии","млн.кВт.ч.",{"$f":"0.7404/2","v":0.37019999999999997},{"$f":"D11","v":0.37019999999999997},{"$f":"D11+E11","v":0.74039999999999995},{"$f":"'Баланс энергии (транзит)'!W19/1000","v":0.38100854996238015},{"$f":"'Баланс энергии (транзит)'!AB19/1000","v":0.44813089182407589},{"$f":"G11+H11","v":0.82913944178645604},{"$f":"'Баланс энергии (транзит)'!AL19/1000","v":0},{"$f":"'Баланс энергии (транзит)'!AQ19/1000","v":0},{"$f":"J11+K11","v":0},{"$f":"$I$11","v":0.82913944178645604},{"$f":"$L$11","v":0},{"$f":"$I$11","v":0.82913944178645604},{"$f":"$L$11","v":0},{"$f":"$I$11","v":0.82913944178645604},{"$f":"$L$11","v":0},{"$f":"$I$11","v":0.82913944178645604},{"$f":"$L$11","v":0}]
[2,"Прогнозная цена (тариф) покупки потерь электрической энергии","руб./МВт.ч.",2793.77,2793.77,{"$f":"IF(F11=0,0,F13/F11)","v":2793.77},{"$f":"E12*1.03","v":2877.5830999999998},{"$f":"G12","v":2877.5830999999998},{"$f":"IF(I11=0,0,I13/I11)","v":2877.5830999999998},null,null,{"$f":"IF(L11=0,0,L13/L11)","v":0},{"$f":"I12*1.03","v":2963.9105930000001},null,{"$f":"M12*1.03","v":3052.8279107900003},null,{"$f":"O12*1.03","v":3144.4127481137002},null,{"$f":"Q12*1.03","v":3238.7451305571112}]
[null,"Итого расходы на компенсацию потерь:","тыс.руб.",{"$f":"D11*D12","v":1034.2536539999999},{"$f":"E11*E12","v":1034.2536539999999},{"$f":"D13+E13","v":2068.5073079999997},{"$f":"G11*G12","v":1096.3837643272507},{"$f":"H11*H12","v":1289.5338809008888},{"$f":"G13+H13","v":2385.9176452281395},{"$f":"J11*J12","v":0},{"$f":"K11*K12","v":0},{"$f":"J13+K13","v":0},{"$f":"M11*M12","v":2457.4951745849839},0,2531.2200298225334,0,2607.1566307172097,0,2685.3713296387259,0]
[]
["Руководитель организации",null,{"$f":"'Инф-я'!$C$21","v":"Чижов Олег Александрович"}]

{"sheet":"Смета общая НВВ (эксперты)","index":50,"n_rows":47,"n_cols":12,"rows_kept":47,"cut":false,"hidden":true,"merged":[[4,11,5,11],[38,0,38,1],[39,0,39,1],[40,0,40,1],[42,0,42,1],[1,0,1,10],[2,0,2,10],[4,0,5,0],[4,1,5,1],[4,3,5,3],[4,5,5,5],[4,7,5,7],[4,9,5,9]]}
[]
["Смета расходов на содержание электрических сетей и затрат на компенсацию потерь на 2020-2024 годы по данным экспертов"]
[{"$f":"'Смета общая НВВ (предпр)'!A3","v":"ООО \"МОНОСТРОЙ\""}]
[]
["№ п/п","Статьи расходов ","2020 (базовый год)","в том числе на передачу сторонним потребителям",2021,"в том числе на передачу сторонним потребителям",2022,"в том числе на передачу сторонним потребителям",2023,"в том числе на передачу сторонним потребителям",2024,"в том числе на передачу сторонним потребителям"]
[null,"Статьи расходов ","Всего",null,"Всего",null,"Всего",null,"Всего",null,"Всего"]
["1.","Подконтрольные расходы организации, всего, в том числе:",{"$f":"SUM(C8:C14)","v":0},{"$f":"SUM(D8:D14)","v":0},0,0,0,0,0,0,0,0]
["1.1","Расходы на оплату труда",{"$f":"'НВВ по данным экспертов'!G29","v":0},{"$f":"IF($D$46=0,0,C8*$D$47/$D$46)","v":0},{"$f":"'НВВ по данным экспертов'!H29","v":0},{"$f":"IF($D$46=0,0,E8*$D$47/$D$46)","v":0},{"$f":"'НВВ по данным экспертов'!I29","v":0},{"$f":"IF($D$46=0,0,G8*$D$47/$D$46)","v":0},{"$f":"'НВВ по данным экспертов'!J29","v":0},{"$f":"IF($D$46=0,0,I8*$D$47/$D$46)","v":0},{"$f":"'НВВ по данным экспертов'!K29","v":0},{"$f":"IF($D$46=0,0,K8*$D$47/$D$46)","v":0}]
["1.2","Материалы",{"$f":"'НВВ по данным экспертов'!G30","v":0},{"$f":"IF($D$46=0,0,C9*$D$47/$D$46)","v":0},{"$f":"'НВВ по данным экспертов'!H30","v":0},0,{"$f":"'НВВ по данным экспертов'!I30","v":0},{"$f":"IF($D$46=0,0,G9*$D$47/$D$46)","v":0},{"$f":"'НВВ по данным экспертов'!J30","v":0},{"$f":"IF($D$46=0,0,I9*$D$47/$D$46)","v":0},{"$f":"'НВВ по данным экспертов'!K30","v":0},{"$f":"IF($D$46=0,0,K9*$D$47/$D$46)","v":0}]
["1.3","Ремонт основных фондов",{"$f":"'НВВ по данным экспертов'!G31","v":0},0,{"$f":"'НВВ по данным экспертов'!H31","v":0},0,{"$f":"'НВВ по данным экспертов'!I31","v":0},0,{"$f":"'НВВ по данным экспертов'!J31","v":0},0,{"$f":"'НВВ по данным экспертов'!K31","v":0},0]
["1.4","Цеховые расходы ",{"$f":"'НВВ по данным экспертов'!G32","v":0},0,{"$f":"'НВВ по данным экспертов'!H32","v":0},0,{"$f":"'НВВ по данным экспертов'!I32","v":0},0,{"$f":"'НВВ по данным экспертов'!J32","v":0},0,{"$f":"'НВВ по данным экспертов'!K32","v":0},0]
["1.5","Общеэксплуатационные расходы ",{"$f":"'НВВ по данным экспертов'!G33","v":0},0,{"$f":"'НВВ по данным экспертов'!H33","v":0},0,{"$f":"'НВВ по данным экспертов'!I33","v":0},0,{"$f":"'НВВ по данным экспертов'!J33","v":0},0,{"$f":"'НВВ по данным экспертов'!K33","v":0},0]
["1.6","Другие расходы, связанные с передачей электрической энергии ",{"$f":"'НВВ по данным экспертов'!G34","v":0},0,{"$f":"'НВВ по данным экспертов'!H34","v":0},0,{"$f":"'НВВ по данным экспертов'!I34","v":0},0,{"$f":"'НВВ по данным экспертов'!J34","v":0},0,{"$f":"'НВВ по данным экспертов'!K34","v":0},0]
["1.7","Расходы по коллективным договорам",{"$f":"'НВВ по данным экспертов'!G35","v":0},0,{"$f":"'НВВ по данным экспертов'!H35","v":0},0,{"$f":"'НВВ по данным экспертов'!I35","v":0},0,{"$f":"'НВВ по данным экспертов'!J35","v":0},0,{"$f":"'НВВ по данным экспертов'!K35","v":0},0]
["2.","Неподконтрольные расходы организации, всего, в том числе:",{"$f":"SUM(C16:C19)+SUM(C25:C30)","v":0},0,0,0,0,0,0,0,0,0]
["2.1","Амортизация основных средств",{"$f":"'НВВ по данным экспертов'!G38","v":0},0,{"$f":"'НВВ по данным экспертов'!H38","v":0},{"$f":"IF($D$46=0,0,E16*$D$47/$D$46)","v":0},{"$f":"'НВВ по данным экспертов'!I38","v":0},{"$f":"IF($D$46=0,0,G16*$D$47/$D$46)","v":0},{"$f":"'НВВ по данным экспертов'!J38","v":0},{"$f":"IF($D$46=0,0,I16*$D$47/$D$46)","v":0},{"$f":"'НВВ по данным экспертов'!K38","v":0},{"$f":"IF($D$46=0,0,K16*$D$47/$D$46)","v":0}]
["2.2","Страховые взносы",{"$f":"'НВВ по данным экспертов'!G39","v":0},0,{"$f":"'НВВ по данным экспертов'!H39","v":0},0,{"$f":"'НВВ по данным экспертов'!I39","v":0},0,{"$f":"'НВВ по данным экспертов'!J39","v":0},0,{"$f":"'НВВ по данным экспертов'!K39","v":0},0]
["2.3","Расходы на оплату услуг организаций, осуществляющие регулируемые виды деятельности",{"$f":"'НВВ по данным экспертов'!G40","v":0},0,{"$f":"'НВВ по данным экспертов'!H40","v":0},0,{"$f":"'НВВ по данным экспертов'!I40","v":0},0,{"$f":"'НВВ по данным экспертов'!J40","v":0},0,{"$f":"'НВВ по данным экспертов'!K40","v":0},0]
["2.4.","Налоги и сборы, в том числе:",{"$f":"'НВВ по данным экспертов'!G41","v":0},0,{"$f":"'НВВ по данным экспертов'!H41","v":0},0,{"$f":"'НВВ по данным экспертов'!I41","v":0},0,{"$f":"'НВВ по данным экспертов'!J41","v":0},0,{"$f":"'НВВ по данным экспертов'!K41","v":0},0]
["2.4.1","Плата за землю",{"$f":"'НВВ по данным экспертов'!G42","v":0},0,{"$f":"'НВВ по данным экспертов'!H42","v":0},{"$f":"IF($D$46=0,0,E20*$D$47/$D$46)","v":0},{"$f":"'НВВ по данным экспертов'!I42","v":0},{"$f":"IF($D$46=0,0,G20*$D$47/$D$46)","v":0},{"$f":"'НВВ по данным экспертов'!J42","v":0},{"$f":"IF($D$46=0,0,I20*$D$47/$D$46)","v":0},{"$f":"'НВВ по данным экспертов'!K42","v":0},{"$f":"IF($D$46=0,0,K20*$D$47/$D$46)","v":0}]
["2.4.2","Транспортный налог",{"$f":"'НВВ по данным экспертов'!G43","v":0},0,{"$f":"'НВВ по данным экспертов'!H43","v":0},0,{"$f":"'НВВ по данным экспертов'!I43","v":0},0,{"$f":"'НВВ по данным экспертов'!J43","v":0},0,{"$f":"'НВВ по данным экспертов'!K43","v":0},0]
["2.4.3","Налог на имущество",{"$f":"'НВВ по данным экспертов'!G44","v":0},0,{"$f":"'НВВ по данным экспертов'!H44","v":0},0,{"$f":"'НВВ по данным экспертов'!I44","v":0},0,{"$f":"'НВВ по данным экспертов'!J44","v":0},0,{"$f":"'НВВ по данным экспертов'!K44","v":0},0]
["2.4.4","Плата за негативное воздействие на окружающую среду",{"$f":"'НВВ по данным экспертов'!G45","v":0},0,{"$f":"'НВВ по данным экспертов'!H45","v":0},0,{"$f":"'НВВ по данным экспертов'!I45","v":0},0,{"$f":"'НВВ по данным экспертов'!J45","v":0},0,{"$f":"'НВВ по данным экспертов'!K45","v":0},0]
["2.4.5","Налог на прибыль",{"$f":"'НВВ по данным экспертов'!G46","v":0},0,{"$f":"'НВВ по данным экспертов'!H46","v":0},0,{"$f":"'НВВ по данным экспертов'!I46","v":0},0,{"$f":"'НВВ по данным экспертов'!J46","v":0},0,{"$f":"'НВВ по данным экспертов'!K46","v":0},0]
["2.5","Плата за аренду имущества",{"$f":"'НВВ по данным экспертов'!G47","v":0},{"$f":"IF($D$46=0,0,C25*$D$47/$D$46)","v":0},{"$f":"'НВВ по данным экспертов'!H47","v":0},0,{"$f":"'НВВ по данным экспертов'!I47","v":0},0,{"$f":"'НВВ по данным экспертов'!J47","v":0},0,{"$f":"'НВВ по данным экспертов'!K47","v":0},0]
["2.6","Оплата услуг ОАО \"ФСК ЕЭС\"",{"$f":"'НВВ по данным экспертов'!G48","v":0},0,{"$f":"'НВВ по данным экспертов'!H48","v":0},0,{"$f":"'НВВ по данным экспертов'!I48","v":0},0,{"$f":"'НВВ по данным экспертов'!J48","v":0},0,{"$f":"'НВВ по данным экспертов'!K48","v":0},0]
["2.7","Прочие обоснованные неподконтрольные расходы",{"$f":"'НВВ по данным экспертов'!G49","v":0},0,{"$f":"'НВВ по данным экспертов'!H49","v":0},0,{"$f":"'НВВ по данным экспертов'!I49","v":0},0,{"$f":"'НВВ по данным экспертов'!J49","v":0},0,{"$f":"'НВВ по данным экспертов'!K49","v":0},0]
["2.8","Капитальные вложения производственного характера из прибыли",{"$f":"'НВВ по данным экспертов'!G50","v":0},0,{"$f":"'НВВ по данным экспертов'!H50","v":0},0,{"$f":"'НВВ по данным экспертов'!I50","v":0},0,{"$f":"'НВВ по данным экспертов'!J50","v":0},0,{"$f":"'НВВ по данным экспертов'!K50","v":0},0]
["2.9","Расходы, связанные с компенсацией выпадающих доходов от льготного технологического присоединения",{"$f":"'НВВ по данным экспертов'!G51","v":0},0,"х","х","х","х","х","х","х","х"]
["2.10.",{"$f":"'[23]Возврат заемных средств'!A2","v":"Расходы на возврат и обслуживание долгосрочных заемных средств, направляемых на финансирования капитальных вложений "},{"$f":"'НВВ по данным экспертов'!G52","v":0},0,{"$f":"'НВВ по данным экспертов'!H52","v":0},{"$f":"IF($D$46=0,0,E30*$D$47/$D$46)","v":0},{"$f":"'НВВ по данным экспертов'!I52","v":0},{"$f":"IF($D$46=0,0,G30*$D$47/$D$46)","v":0},{"$f":"'НВВ по данным экспертов'!J52","v":0},{"$f":"IF($D$46=0,0,I30*$D$47/$D$46)","v":0},{"$f":"'НВВ по данным экспертов'!K52","v":0},{"$f":"IF($D$46=0,0,K30*$D$47/$D$46)","v":0}]
["3.","Результаты деятельности регулируемой организации ",{"$f":"'НВВ по данным экспертов'!G67","v":0},0,{"$f":"'НВВ по данным экспертов'!H67","v":0},0,{"$f":"'НВВ по данным экспертов'!I67","v":0},0,{"$f":"'НВВ по данным экспертов'!J67","v":0},0,{"$f":"'НВВ по данным экспертов'!K67","v":0},0]
["4.","Корректировка необходимой валовой выручки, всего, в том числе:",{"$f":"SUM(C33:C38)","v":-3159.7999999999997},{"$f":"SUM(D33:D38)","v":-2529.8036182616738},"x","x","x","x","x","x","x","x"]
["4.1.","Корректировка подконтрольных расходов",{"$f":"'НВВ по данным экспертов'!G56","v":-2670.72},-2138.2356856015626,"x","x","x","x","x","x","x","x"]
["4.2.","Корректировка неподконтрольных расходов",{"$f":"'НВВ по данным экспертов'!G57","v":-489.08},-391.5679326601113,"x","x","x","x","x","x","x","x"]
["4.3.","Корректировка НВВ с учетом изменения полезного отпуска и цен на электрическую энергию ",{"$f":"'НВВ по данным экспертов'!G58","v":0},{"$f":"C35","v":0},"x","x","x","x","x","x","x","x"]
["4.4.","Корректировка необходимой валовой выручки по доходам от осуществления регулируемой деятельности",{"$f":"'НВВ по данным экспертов'!G59","v":0},{"$f":"C36","v":0},"x","x","x","x","x","x","x","x"]
["4.5.","Корректировка НВВ в связи с изменением (неисполнением) инвестиционной программы ",{"$f":"'НВВ по данным экспертов'!G60","v":0},{"$f":"IF($D$46=0,0,C37*$D$47/$D$46)","v":0},"x","x","x","x","x","x","x","x"]
["4.6.","Корректировка НВВ с учетом надежности и качества оказываемых услуг ",{"$f":"'НВВ по данным экспертов'!G61","v":0},{"$f":"C38","v":0},{"$f":"'НВВ по данным экспертов'!H61","v":"x"},"x","x","x","x","x","x","x"]
["Необходимая валовая выручка (НВВ) на содержание электрических сетей, всего: ",null,{"$f":"C7+C15+C32+C31","v":-3159.7999999999997},{"$f":"D7+D15+D32+D31","v":-2529.8036182616738},{"$f":"E7+E15+E31","v":0},{"$f":"F7+F15+F31","v":0},{"$f":"G7+G15+G31","v":0},{"$f":"H7+H15+H31","v":0},0,{"$f":"J7+J15+J31","v":0},0,{"$f":"L7+L15+L31","v":0}]
["Расходы на компенсацию потерь:","Расходы на компенсацию потерь:",{"$f":"'НВВ на потери'!L13","v":0},{"$f":"C40","v":0},{"$f":"'НВВ на потери'!N13","v":0},{"$f":"E40","v":0},{"$f":"'НВВ на потери'!P13","v":0},{"$f":"G40","v":0},{"$f":"'НВВ на потери'!R13","v":0},{"$f":"I40","v":0},{"$f":"'НВВ на потери'!T13","v":0},{"$f":"K40","v":0}]
["Итого необходимая валовая выручка (НВВ) организации на оказание услуги по передаче электрической энергии:","Итого необходимая валовая выручка (НВВ) организации на оказание услуги по передаче электрической энергии:",{"$f":"C39+C40","v":-3159.7999999999997},-2529.8036182616738,0,0,0,0,0,0,0,0]
[]
[]
["Данные для определения необходимой валовой выручки на передачу электрической энергии сторонним потребителям"]
["№ п/п","Наименование показателя","Ед. измерения","Факт 2018 года"]
[1,"Величина полезного отпуска, всего, в том числе:","тыс. кВт.ч.",{"$f":"'Баланс энергии'!H22","v":8899.6879999999983}]
[2,"величина полезного отпуска электрической энергии потребителям услуг","тыс. кВт.ч.",{"$f":"'Баланс энергии (транзит)'!H22","v":7125.2809999999999}]

{"sheet":"НВВ по данным предпр.","index":51,"n_rows":78,"n_cols":11,"rows_kept":78,"cut":false,"hidden":false,"merged":[[72,0,72,6],[77,0,77,1],[77,2,77,4],[21,0,21,6],[27,0,27,6],[36,0,36,6],[54,0,54,6],[62,0,62,6],[68,0,68,6],[4,7,5,7],[4,8,5,8],[4,9,5,9],[4,10,5,10],[7,0,7,6],[15,0,15,6],[1,0,1,6],[2,0,2,6],[4,0,5,0],[4,1,5,1],[4,2,5,2],[4,3,4,4],[4,5,5,5],[4,6,5,6]]}
[]
["Расчет необходимой валовой выручки (НВВ) на оказание услуги по передаче электрической энергии долгосрочного периода регулирования 2020- 2024 годы по данным предприятия"]
[{"$f":"'Инф-я'!C13","v":"ООО \"МОНОСТРОЙ\""}]
[]
["№ п.п.","Наименование","Ед.изм.","2018 год",null,"2019 год утверждено","2020 год","2021 год","2022 год","2023 год","2024 год"]
[null,null,null,"Утверждено","Факт"]
[1,2,3,4,5,6,7,8,9,10,11]
["Долгосрочные параметры регулирования"]
[1,"Базовый уровень подконтрольных расходов (ПР)","тыс.руб.","х","х","х",{"$f":"'Подконтрольные расходы'!N24","v":5482.9155321423787},"х","х","х","х"]
[2,"Индекс эффективности подконтрольных расходов (Хэф)","%",{"$f":"'Подконтрольные расходы'!H10","v":0.01},{"$f":"D10","v":0.01},{"$f":"D10","v":0.01},{"$f":"'Подконтрольные расходы'!N10","v":0.01},{"$f":"$G$10","v":0.01},{"$f":"$G$10","v":0.01},0.01,0.01]
[3,"Коэффициент эластичности подконтрольных расходов по количеству активов (К эл)","знач.",0.75,0.75,0.75,0.75,0.75,0.75,0.75,0.75]
[5,"Уровень надежности и качества оказываемых услуг","х","х","х","х","х","х","х","х","х"]
["5.1.","Показатель средней продолжительности прекращений передачи электрической энергии на точку поставки (Пsaidi), час.","знач.","х","х","х","х","х","х","х","х"]
["5.2.","Показатель средней частоты прекращений передачи электрической энергии на точку поставки (Пsaifi), шт.","знач.","х","х","х","х","х","х","х","х"]
["5.3.","Показатель уровня качества осуществляемого технологического присоединения (Птпр)","знач.","х","х","х","х","х","х","х","х"]
["Планируемые значения параметров расчета тарифов"]
[1,"Индекс потребительских цен (ИПЦ)","%","х","х",{"$f":"'Подконтрольные расходы'!J12","v":4.5999999999999999E-2},{"$f":"'Подконтрольные расходы'!N12","v":3.7999999999999999E-2},{"$f":"'Подконтрольные расходы'!R12","v":0.04},{"$f":"'Подконтрольные расходы'!T12","v":0.04},{"$f":"'Подконтрольные расходы'!V12","v":0.04},{"$f":"'Подконтрольные расходы'!X12","v":0.04}]
[2,"Количество активов (УЕ)","усл.ед.",{"$f":"'Подконтрольные расходы'!H13","v":71.139700000000005},{"$f":"'Подконтрольные расходы'!I13","v":71.139700000000005},{"$f":"'Подконтрольные расходы'!J13","v":71.147000000000006},{"$f":"'Подконтрольные расходы'!N13","v":98.296099999999996},{"$f":"'Подконтрольные расходы'!R13","v":98.296099999999996},{"$f":"'Подконтрольные расходы'!T13","v":98.296099999999996},{"$f":"'Подконтрольные расходы'!V13","v":98.296099999999996},{"$f":"'Подконтрольные расходы'!X13","v":98.296099999999996}]
[3,"Величина неподконтрольных расходов (НР)","тыс.руб.",{"$f":"D53","v":700.03},767.99017465999998,728.54,1047.0202194825001,1064.66090328788,1082.9656685752309,1101.955969041843,1121.6539645536998]
[4,"Величина полезного отпуска электрической энергии","тыс. кВт.ч.",{"$f":"'Баланс энергии'!C22-'Баланс энергии'!C25","v":4108.6000000000004},{"$f":"'Баланс энергии'!H22-'Баланс энергии'!H25","v":8899.6879999999983},{"$f":"'Баланс энергии'!M22-'Баланс энергии'!M25","v":11788.800000000001},{"$f":"'Баланс энергии'!R22-'Баланс энергии'!R25","v":10600},{"$f":"$G$20","v":10600},{"$f":"$G$20","v":10600},10600,10600]
[5,"Прогнозная цена (тариф) покупки потерь электрической энергии","руб./МВт.ч.",{"$f":"D71","v":2675.78},2619.1884251580095,2793.77,2877.5830999999998,2963.9105930000001,3052.8279107900003,3144.4127481137002,3238.7451305571112]
["Расчетные показатели"]
[1,"Доля подконтрольных расходов на МВт.ч.","руб.МВт.ч.",{"$f":"IF(D20=0,0,D36/D20/10)","v":7.442295090742998E-2},4.7698296827723384E-2,2.6861573528107918E-2,5.1725618227758285E-2,5.3256696527299918E-2,5.4833094744508003E-2,5.645615434894545E-2,5.8127256517674239E-2]
[2,"Проверка прибыли на капитальные вложения (не более 12 % от НВВ на содержание сетей)","%","х","х","х",{"$f":"IF(G25=0,0,G50/G25)","v":0},{"$f":"IF(H25=0,0,H50/H25)","v":0},0,0,0]
[3,"НВВ для расчета КВЛ ","тыс.руб.","х","х","х",{"$f":"G68-' КВЛ'!F20/0.8-'Услуги ФСК'!L17-'Аренда имущества'!F38-'Возврат заемных средств'!F11","v":5361.8157516248784},{"$f":"H68-' КВЛ'!H20/0.8-'Услуги ФСК'!P17-'Аренда имущества'!V38-'Возврат заемных средств'!H11","v":6709.870735181672},{"$f":"I68-' КВЛ'!J20/0.8-'Услуги ФСК'!R17-'Аренда имущества'!X38-'Возврат заемных средств'!J11","v":6895.2737114930787},{"$f":"J68-' КВЛ'!L20/0.8-'Услуги ФСК'!T17-'Аренда имущества'!Z38-'Возврат заемных средств'!L11","v":7086.3083300300605},{"$f":"K68-' КВЛ'!N20/0.8-'Услуги ФСК'!V17-'Аренда имущества'!AB38-'Возврат заемных средств'!N11","v":7283.1431554271694}]
[4,"Индекс изменения количества активов (ИКА)","%","х","х","х",{"$f":"'Подконтрольные расходы'!N14","v":0.38159163422210335},{"$f":"'Подконтрольные расходы'!R14","v":0},{"$f":"'Подконтрольные расходы'!T14","v":0},{"$f":"'Подконтрольные расходы'!V14","v":0},{"$f":"'Подконтрольные расходы'!X14","v":0}]
[5,"Общий коэффициент индексации подконтрольных расходов ПР= ИПЦ*(1+(Кэл*ИКА))*(1-Хэф)","знач.","х","х","х",{"$f":"'Подконтрольные расходы'!N15","v":1.3217183963694883},{"$f":"'Подконтрольные расходы'!R15","v":1.0296000000000001},{"$f":"'Подконтрольные расходы'!T15","v":1.0296000000000001},{"$f":"'Подконтрольные расходы'!V15","v":1.0296000000000001},{"$f":"'Подконтрольные расходы'!X15","v":1.0296000000000001}]
["Подконтрольные расходы организации (ПР)"]
["1.","Расходы на оплату труда","тыс.руб.",{"$f":"'Подконтрольные расходы'!H17","v":824.6921278368651},{"$f":"'Подконтрольные расходы'!I17","v":1398.6030000000001},{"$f":"'Подконтрольные расходы'!J17","v":854.06741109460813},{"$f":"'Подконтрольные расходы'!N17","v":1771.6635900000003},{"$f":"'Подконтрольные расходы'!R17","v":1824.1048322640004},{"$f":"'Подконтрольные расходы'!T17","v":1878.0983352990149},{"$f":"'Подконтрольные расходы'!V17","v":1933.690046023866},{"$f":"'Подконтрольные расходы'!X17","v":1990.9272713861726}]
["2.","Материалы","тыс.руб.",{"$f":"'Подконтрольные расходы'!H18","v":0},{"$f":"'Подконтрольные расходы'!I18","v":0},{"$f":"'Подконтрольные расходы'!J18","v":0},{"$f":"'Подконтрольные расходы'!N18","v":0},{"$f":"'Подконтрольные расходы'!R18","v":0},{"$f":"'Подконтрольные расходы'!T18","v":0},{"$f":"'Подконтрольные расходы'!V18","v":0},{"$f":"'Подконтрольные расходы'!X18","v":0}]
["3.","Ремонт основных фондов","тыс.руб.",{"$f":"'Подконтрольные расходы'!H19","v":751.16228414658451},{"$f":"'Подконтрольные расходы'!I19","v":178.3},{"$f":"'Подконтрольные расходы'!J19","v":777.91845669210932},{"$f":"'Подконтрольные расходы'!N19","v":822.67984880087999},{"$f":"'Подконтрольные расходы'!R19","v":847.03117232538614},{"$f":"'Подконтрольные расходы'!T19","v":872.10329502621767},{"$f":"'Подконтрольные расходы'!V19","v":897.91755255899375},{"$f":"'Подконтрольные расходы'!X19","v":924.49591211474001}]
["4.","Цеховые расходы","тыс.руб.",{"$f":"'Подконтрольные расходы'!H20","v":187.38789675315937},{"$f":"'Подконтрольные расходы'!I20","v":1664.2000000000003},{"$f":"'Подконтрольные расходы'!J20","v":194.06259675379479},{"$f":"'Подконтрольные расходы'!N20","v":1801.7195027999999},{"$f":"'Подконтрольные расходы'!R20","v":1855.0504000828801},{"$f":"'Подконтрольные расходы'!T20","v":1909.9598919253335},{"$f":"'Подконтрольные расходы'!V20","v":1966.4947047263236},{"$f":"'Подконтрольные расходы'!X20","v":2024.7029479862229}]
["5.","Общеэксплуатационные расходы ","тыс.руб.",{"$f":"'Подконтрольные расходы'!H21","v":1294.4990522460589},{"$f":"'Подконтрольные расходы'!I21","v":963.8965989812782},{"$f":"'Подконтрольные расходы'!J21","v":1340.6087155410746},{"$f":"'Подконтрольные расходы'!N21","v":1043.5472305414974},{"$f":"'Подконтрольные расходы'!R21","v":1074.4362285655257},{"$f":"'Подконтрольные расходы'!T21","v":1106.2395409310652},{"$f":"'Подконтрольные расходы'!V21","v":1138.9842313426248},{"$f":"'Подконтрольные расходы'!X21","v":1172.6981645903666}]
["6.","Другие расходы, связанные с передачей электрической энергии ","тыс.руб.",{"$f":"'Подконтрольные расходы'!H22","v":0},{"$f":"'Подконтрольные расходы'!I22","v":0},{"$f":"'Подконтрольные расходы'!J22","v":0},{"$f":"'Подконтрольные расходы'!N22","v":0},{"$f":"'Подконтрольные расходы'!R22","v":0},{"$f":"'Подконтрольные расходы'!T22","v":0},{"$f":"'Подконтрольные расходы'!V22","v":0},{"$f":"'Подконтрольные расходы'!X22","v":0}]
["7.","Расходы по коллективным договорам","тыс.руб.",{"$f":"'Подконтрольные расходы'!H23","v":0},{"$f":"'Подконтрольные расходы'!I23","v":40},{"$f":"'Подконтрольные расходы'!J23","v":0},{"$f":"'Подконтрольные расходы'!N23","v":43.30536},{"$f":"'Подконтрольные расходы'!R23","v":44.587198656000005},{"$f":"'Подконтрольные расходы'!T23","v":45.906979736217608},{"$f":"'Подконтрольные расходы'!V23","v":47.265826336409653},{"$f":"'Подконтрольные расходы'!X23","v":48.664894795967385}]
[null,"Итого ПР с учетом индексации:","тыс.руб.",{"$f":"'Подконтрольные расходы'!H24","v":3057.7413609826681},{"$f":"'Подконтрольные расходы'!I24","v":4244.9995989812778},{"$f":"'Подконтрольные расходы'!J24","v":3166.6571800815868},{"$f":"'Подконтрольные расходы'!N24","v":5482.9155321423787},{"$f":"'Подконтрольные расходы'!R24","v":5645.2098318937915},{"$f":"'Подконтрольные расходы'!T24","v":5812.3080429178481},{"$f":"'Подконтрольные расходы'!V24","v":5984.3523609882177},{"$f":"'Подконтрольные расходы'!X24","v":6161.4891908734699}]
[]
[1,"Амортизация основных средств","тыс.руб.",{"$f":"'Свод по амортизации'!B13","v":210.95},{"$f":"'Свод по амортизации'!C13","v":148.97651999999999},{"$f":"'Свод по амортизации'!D13","v":210.95},{"$f":"'Свод по амортизации'!F13","v":297.95308999999997},{"$f":"'Свод по амортизации'!H13","v":297.95308999999997},{"$f":"'Свод по амортизации'!J13","v":297.95308999999997},{"$f":"'Свод по амортизации'!L13","v":297.95308999999997},{"$f":"'Свод по амортизации'!N13","v":297.95308999999997}]
[2,"Страховые взносы","тыс.руб.",{"$f":"'Страховые взносы'!D18","v":302.29000000000002},{"$f":"'Страховые взносы'!E18","v":432.16832700000003},{"$f":"'Страховые взносы'!F18","v":313.04000000000002},{"$f":"'Страховые взносы'!H18","v":560.82540555000014},{"$f":"'Страховые взносы'!J18","v":577.42583755428006},{"$f":"'Страховые взносы'!L18","v":594.51764234588688},{"$f":"'Страховые взносы'!N18","v":612.11536455932514},{"$f":"'Страховые взносы'!P18","v":630.23397935028129}]
[3,"Расходы на оплату услуг организаций, осуществляющие регулируемые виды деятельности","тыс.руб.",{"$f":"'Расходы рег. орг-ий'!B23","v":0},{"$f":"'Расходы рег. орг-ий'!C23","v":0},{"$f":"'Расходы рег. орг-ий'!D23","v":0},{"$f":"'Расходы рег. орг-ий'!F23","v":0},{"$f":"'Расходы рег. орг-ий'!H23","v":0},{"$f":"'Расходы рег. орг-ий'!J23","v":0},{"$f":"'Расходы рег. орг-ий'!L23","v":0},{"$f":"'Расходы рег. орг-ий'!N23","v":0}]
[4,"Налоги и сборы, в том числе:","тыс.руб.",{"$f":"SUM(D42:D46)","v":86.8},{"$f":"SUM(E42:E46)","v":86.853327660000005},100.55,80.298360092500005,77.020877339999998,73.743393899999987,70.465910459999989,67.188427019999978]
["4.1","Плата за землю","тыс.руб.",{"$f":"'Плата за землю'!B18","v":0},{"$f":"'Плата за землю'!C18","v":0},{"$f":"'Плата за землю'!D18","v":0},{"$f":"'Плата за землю'!F18","v":0},{"$f":"'Плата за землю'!H18","v":0},{"$f":"'Плата за землю'!J18","v":0},{"$f":"'Плата за землю'!L18","v":0},{"$f":"'Плата за землю'!N18","v":0}]
["4.2","Транспортный налог","тыс.руб.",{"$f":"'Транспортный налог'!D17","v":0},{"$f":"'Транспортный налог'!E17","v":0},{"$f":"'Транспортный налог'!F17","v":0},{"$f":"'Транспортный налог'!I17","v":0},{"$f":"'Транспортный налог'!L17","v":0},{"$f":"'Транспортный налог'!N17","v":0},{"$f":"'Транспортный налог'!P17","v":0},{"$f":"'Транспортный налог'!R17","v":0}]
["4.3","Налог на имущество","тыс.руб.",{"$f":"'Налог на имущество'!B15","v":86.8},{"$f":"'Налог на имущество'!C15","v":86.853327660000005},{"$f":"'Налог на имущество'!D15","v":100.55},{"$f":"'Налог на имущество'!F15","v":80.298360092500005},{"$f":"'Налог на имущество'!H15","v":77.020877339999998},{"$f":"'Налог на имущество'!J15","v":73.743393899999987},{"$f":"'Налог на имущество'!L15","v":70.465910459999989},{"$f":"'Налог на имущество'!N15","v":67.188427019999978}]
["4.4","Плата за негативное воздействие на окружающую среду","тыс.руб.",{"$f":"'Негативное возд. на окр. среду '!C29","v":0},{"$f":"'Негативное возд. на окр. среду '!D29","v":0},{"$f":"'Негативное возд. на окр. среду '!E29","v":0},{"$f":"'Негативное возд. на окр. среду '!G29","v":0},{"$f":"'Негативное возд. на окр. среду '!I29","v":0},{"$f":"'Негативное возд. на окр. среду '!K29","v":0},{"$f":"'Негативное возд. на окр. среду '!M29","v":0},{"$f":"'Негативное возд. на окр. среду '!O29","v":0}]
["4.5","Налог на прибыль","тыс.руб.",{"$f":"'Налог на прибыль'!C20","v":0},{"$f":"'Налог на прибыль'!D20","v":0},{"$f":"'Налог на прибыль'!E20","v":0},{"$f":"'Налог на прибыль'!F20","v":0},{"$f":"'Налог на прибыль'!H20","v":0},{"$f":"'Налог на прибыль'!J20","v":0},{"$f":"'Налог на прибыль'!L20","v":0},{"$f":"'Налог на прибыль'!N20","v":0}]
["5","Плата за аренду имущества","тыс.руб.",{"$f":"'Аренда имущества'!B33","v":0},{"$f":"'Аренда имущества'!C33","v":0},{"$f":"'Аренда имущества'!D33","v":0},{"$f":"'Аренда имущества'!F33","v":0},{"$f":"'Аренда имущества'!V33","v":0},{"$f":"'Аренда имущества'!X33","v":0},{"$f":"'Аренда имущества'!Z33","v":0},{"$f":"'Аренда имущества'!AB33","v":0}]
["6","Оплата услуг ОАО \"ФСК ЕЭС\"","тыс.руб.",{"$f":"'Услуги ФСК'!B17","v":0},{"$f":"'Услуги ФСК'!E17","v":0},{"$f":"'Услуги ФСК'!F17","v":0},{"$f":"'Услуги ФСК'!L17","v":0},{"$f":"'Услуги ФСК'!P17","v":0},{"$f":"'Услуги ФСК'!R17","v":0},{"$f":"'Услуги ФСК'!T17","v":0},{"$f":"'Услуги ФСК'!V17","v":0}]
["7","Прочие обоснованные неподконтрольные расходы","тыс.руб.",{"$f":"'Прочие НР'!B15","v":99.99},{"$f":"'Прочие НР'!C15","v":99.992000000000004},{"$f":"'Прочие НР'!D15","v":104},{"$f":"'Прочие НР'!F15","v":107.94336384},{"$f":"'Прочие НР'!H15","v":112.26109839360001},{"$f":"'Прочие НР'!J15","v":116.75154232934402},{"$f":"'Прочие НР'!L15","v":121.42160402251778},{"$f":"'Прочие НР'!N15","v":126.2784681834185}]
["8","Капитальные вложения производственного характера из прибыли","тыс.руб.",{"$f":"' КВЛ'!B20","v":0},{"$f":"' КВЛ'!C20","v":0},{"$f":"' КВЛ'!D20","v":0},{"$f":"' КВЛ'!F20","v":0},{"$f":"' КВЛ'!H20","v":0},{"$f":"' КВЛ'!J20","v":0},{"$f":"' КВЛ'!L20","v":0},{"$f":"' КВЛ'!N20","v":0}]
["9","Расходы, связанные с компенсацией выпадающих доходов от льготного технологического присоединения","тыс.руб.",{"$f":"'Выпадающий доход'!B22","v":0},"х",{"$f":"'Выпадающий доход'!C22","v":0},{"$f":"'Выпадающий доход'!D22","v":0},"х","х","х","х"]
["10",{"$f":"' НВВ содержание'!B32","v":"Расходы на возврат и обслуживание долгосрочных заемных средств, направляемых на финансирование капитальных вложений "},"тыс.руб.",{"$f":"'Возврат заемных средств'!B11","v":0},{"$f":"'Возврат заемных средств'!C11","v":0},{"$f":"'Возврат заемных средств'!D11","v":0},{"$f":"'Возврат заемных средств'!F11","v":0},{"$f":"'Возврат заемных средств'!H11","v":0},{"$f":"'Возврат заемных средств'!J11","v":0},{"$f":"'Возврат заемных средств'!L11","v":0},{"$f":"'Возврат заемных средств'!N11","v":0}]
[null,"Итого НР:","тыс.руб.",{"$f":"SUM(D38:D41,D47:D52)","v":700.03},{"$f":"SUM(E38:E41,E47:E52)","v":767.99017465999998},728.54,1047.0202194825001,1064.66090328788,1082.9656685752309,1101.955969041843,1121.6539645536998]
[]
["Корректировка необходимой валовой выручки "]
["1","Корректировка подконтрольных расходов","тыс.руб.",{"$f":"' НВВ содержание'!C34","v":-7.2},{"$f":"' НВВ содержание'!D34","v":"x"},{"$f":"' НВВ содержание'!E34","v":-19.399999999999999},{"$f":"' НВВ содержание'!F34","v":-1402.65},"x","x","x","x"]
["2","Корректировка неподконтрольных расходов","тыс.руб.",{"$f":"' НВВ содержание'!C35","v":-28.9},{"$f":"' НВВ содержание'!D35","v":"x"},{"$f":"' НВВ содержание'!E35","v":-1338.89},{"$f":"' НВВ содержание'!F35","v":129.93},"x","x","x","x"]
["3","Корректировка НВВ с учетом изменения полезного отпуска и цен на электрическую энергию ","тыс.руб.",{"$f":"' НВВ содержание'!C36","v":124.2},{"$f":"' НВВ содержание'!D36","v":"x"},{"$f":"' НВВ содержание'!E36","v":367.54},{"$f":"' НВВ содержание'!F36","v":104.6},"x","x","x","x"]
["4","Корректировка необходимой валовой выручки по доходам от осуществления регулируемой деятельности","тыс.руб.",{"$f":"' НВВ содержание'!C37","v":"x"},{"$f":"' НВВ содержание'!D37","v":"x"},{"$f":"' НВВ содержание'!E37","v":-1355.95},{"$f":"' НВВ содержание'!F37","v":0},"x","x","x","x"]
["5","Корректировка НВВ в связи с изменением (неисполнением) инвестиционной программы ","тыс.руб.",{"$f":"' НВВ содержание'!C38","v":0},{"$f":"' НВВ содержание'!D38","v":"x"},{"$f":"' НВВ содержание'!E38","v":0},{"$f":"' НВВ содержание'!F38","v":0},"x","x","x","x"]
["6","Корректировка НВВ с учетом надежности и качества оказываемых услуг ","тыс.руб.",{"$f":"' НВВ содержание'!C39","v":-71.099999999999994},{"$f":"' НВВ содержание'!D39","v":"x"},{"$f":"' НВВ содержание'!E39","v":-71.099999999999994},{"$f":"' НВВ содержание'!F39","v":0},"x","x","x","x"]
[null,"Итого корректировка НВВ","тыс.руб.",{"$f":"SUM(D56:D61)","v":17},"х",{"$f":"SUM(F56:F61)","v":-2417.8000000000002},-1168.1200000000001,"x","x","x","x"]
["Расходы организации на содержание сетей "]
[1,"Подконтрольные расходы","тыс.руб.",{"$f":"D36","v":3057.7413609826681},{"$f":"E36","v":4244.9995989812778},3166.6571800815868,5482.9155321423787,5645.2098318937915,5812.3080429178481,5984.3523609882177,6161.4891908734699]
[2,"Неподконтрольные расходы","тыс.руб.",{"$f":"D53","v":700.03},{"$f":"E53","v":767.99017465999998},728.54,1047.0202194825001,1064.66090328788,1082.9656685752309,1101.955969041843,1121.6539645536998]
[3,"Корректировка необходимой валовой выручки ","тыс.руб.",{"$f":"D62","v":17},{"$f":"E62","v":"х"},-2417.8000000000002,-1168.1200000000001,"x","x","x","x"]
[4,"Результаты деятельности регулируемой организации в соотв. с п.7 Основ ценообразования ","тыс.руб.","x","x","x",{"$f":"' НВВ содержание'!F40","v":0},0,0,0,0]
[null,"Итого расходы на содержание электрических сетей:","тыс.руб.",{"$f":"D64+D65+D66","v":3774.7713609826678},{"$f":"E64+E65","v":5012.9897736412777},{"$f":"F64+F65+F66","v":1477.3971800815866},{"$f":"G64+G65+G66+G67","v":5361.8157516248784},{"$f":"H64+H65+H67","v":6709.870735181672},{"$f":"I64+I65+I67","v":6895.2737114930787},7086.3083300300605,7283.1431554271694]
["Расходы организации на компенсацию потерь"]
[1,"Величина технологического расхода (потерь) электрической энергии","млн.кВт.ч.",{"$f":"'Баланс энергии (транзит)'!C19/1000","v":9.5065203370435877E-2},{"$f":"'Баланс энергии (транзит)'!H19/1000","v":0.63900280646443297},{"$f":"'НВВ на потери'!F11","v":0.74039999999999995},{"$f":"'НВВ на потери'!I11","v":0.82913944178645604},{"$f":"'НВВ на потери'!M11","v":0.82913944178645604},{"$f":"'НВВ на потери'!O11","v":0.82913944178645604},{"$f":"'НВВ на потери'!Q11","v":0.82913944178645604},{"$f":"'НВВ на потери'!S11","v":0.82913944178645604}]
[2,"Прогнозная цена (тариф) покупки потерь электрической энергии","руб./МВт.ч.",{"$f":"'Корр. ПО'!G24","v":2675.78},{"$f":"'Корр. ПО'!H24","v":2619.1884251580095},{"$f":"'НВВ на потери'!F12","v":2793.77},{"$f":"'НВВ на потери'!I12","v":2877.5830999999998},{"$f":"'НВВ на потери'!M12","v":2963.9105930000001},{"$f":"'НВВ на потери'!O12","v":3052.8279107900003},{"$f":"'НВВ на потери'!Q12","v":3144.4127481137002},{"$f":"'НВВ на потери'!S12","v":3238.7451305571112}]
[null,"Итого расходы на компенсацию потерь:","тыс.руб.",{"$f":"D70*D71","v":254.37356987454493},1673.6687543351266,2068.5073079999997,2385.9176452281395,2457.4951745849839,2531.2200298225334,2607.1566307172097,2685.3713296387259]
["Необходимая валовая выручка (НВВ) организации на оказание услуги по передаче электрической энергии"]
[1,"Расходы на содержание электрических сетей","тыс.руб.",{"$f":"D68","v":3774.7713609826678},5012.9897736412777,1477.3971800815866,5361.8157516248784,6709.870735181672,6895.2737114930787,7086.3083300300605,7283.1431554271694]
[2,"Расходы на компенсацию потерь","тыс.руб.",{"$f":"D72","v":254.37356987454493},1673.6687543351266,2068.5073079999997,2385.9176452281395,2457.4951745849839,2531.2200298225334,2607.1566307172097,2685.3713296387259]
[null,"Необходимая валовая выручка (НВВ) организации на оказание услуги по передаче электрической энергии","тыс.руб.",{"$f":"D74+D75","v":4029.1449308572128},6686.658527976404,3545.9044880815864,{"$f":"G74+G75","v":7747.7333968530183},{"$f":"H74+H75","v":9167.3659097666568},{"$f":"I74+I75","v":9426.4937413156113},{"$f":"J74+J75","v":9693.4649607472711},{"$f":"K74+K75","v":9968.5144850658944}]
[]
["Руководитель организации",null,{"$f":"'Инф-я'!$C$21","v":"Чижов Олег Александрович"}]

{"sheet":"Смета общая НВВ (предпр)","index":52,"n_rows":49,"n_cols":12,"rows_kept":49,"cut":false,"hidden":false,"merged":[[4,11,5,11],[38,0,38,1],[39,0,39,1],[40,0,40,1],[4,3,5,3],[4,5,5,5],[4,7,5,7],[48,1,48,2],[48,3,48,5],[42,0,42,1],[1,0,1,10],[2,0,2,10],[4,0,5,0],[4,1,5,1],[4,9,5,9]]}
[]
["Смета расходов на содержание электрических сетей и затрат на компенсацию потерь на 2020-2024 годы по данным предприятия"]
[{"$f":"'НВВ по данным предпр.'!A3","v":"ООО \"МОНОСТРОЙ\""}]
[]
["№ п/п","Статьи расходов ","2020 (базовый год)","в том числе на передачу сторонним потребителям",2021,"в том числе на передачу сторонним потребителям",2022,"в том числе на передачу сторонним потребителям",2023,"в том числе на передачу сторонним потребителям",2024,"в том числе на передачу сторонним потребителям"]
[null,"Статьи расходов ","Всего",null,"Всего",null,"Всего",null,"Всего",null,"Всего"]
["1.","Подконтрольные расходы организации, всего, в том числе:",{"$f":"SUM(C8:C14)","v":5482.9155321423787},{"$f":"SUM(D8:D14)","v":4389.7397151202349},5645.2098318937915,4519.6760106877955,5812.3080429178481,4653.4584206041545,5984.3523609882177,4791.2007898540369,6161.4891908734699,4933.0203332337169]
["1.1","Расходы на оплату труда",{"$f":"'НВВ по данным предпр.'!G29","v":1771.6635900000003},{"$f":"IF($D$46=0,0,C8*$D$47/$D$46)","v":1418.4318502197825},{"$f":"'НВВ по данным предпр.'!H29","v":1824.1048322640004},{"$f":"IF($D$46=0,0,E8*$D$47/$D$46)","v":1460.4174329862881},{"$f":"'НВВ по данным предпр.'!I29","v":1878.0983352990149},{"$f":"IF($D$46=0,0,G8*$D$47/$D$46)","v":1503.6457890026822},{"$f":"'НВВ по данным предпр.'!J29","v":1933.690046023866},{"$f":"IF($D$46=0,0,I8*$D$47/$D$46)","v":1548.1537043571618},{"$f":"'НВВ по данным предпр.'!K29","v":1990.9272713861726},{"$f":"IF($D$46=0,0,K8*$D$47/$D$46)","v":1593.979054006134}]
["1.2","Материалы",{"$f":"'НВВ по данным предпр.'!G30","v":0},{"$f":"IF($D$46=0,0,C9*$D$47/$D$46)","v":0},{"$f":"'НВВ по данным предпр.'!H30","v":0},0,{"$f":"'НВВ по данным предпр.'!I30","v":0},{"$f":"IF($D$46=0,0,G9*$D$47/$D$46)","v":0},{"$f":"'НВВ по данным предпр.'!J30","v":0},{"$f":"IF($D$46=0,0,I9*$D$47/$D$46)","v":0},{"$f":"'НВВ по данным предпр.'!K30","v":0},{"$f":"IF($D$46=0,0,K9*$D$47/$D$46)","v":0}]
["1.3","Ремонт основных фондов",{"$f":"'НВВ по данным предпр.'!G31","v":822.67984880087999},658.65512316204615,{"$f":"'НВВ по данным предпр.'!H31","v":847.03117232538614},678.15131480764285,{"$f":"'НВВ по данным предпр.'!I31","v":872.10329502621767},{"$f":"IF($D$46=0,0,G10*$D$47/$D$46)","v":698.22459372594915},{"$f":"'НВВ по данным предпр.'!J31","v":897.91755255899375},{"$f":"IF($D$46=0,0,I10*$D$47/$D$46)","v":718.8920417002372},{"$f":"'НВВ по данным предпр.'!K31","v":924.49591211474001},{"$f":"IF($D$46=0,0,K10*$D$47/$D$46)","v":740.17124613456429}]
["1.4","Цеховые расходы ",{"$f":"'НВВ по данным предпр.'!G32","v":1801.7195027999999},1442.4952583315603,{"$f":"'НВВ по данным предпр.'!H32","v":1855.0504000828801},1485.1931179781748,{"$f":"'НВВ по данным предпр.'!I32","v":1909.9598919253335},{"$f":"IF($D$46=0,0,G11*$D$47/$D$46)","v":1529.154834270329},{"$f":"'НВВ по данным предпр.'!J32","v":1966.4947047263236},{"$f":"IF($D$46=0,0,I11*$D$47/$D$46)","v":1574.4178173647308},{"$f":"'НВВ по данным предпр.'!K32","v":2024.7029479862229},{"$f":"IF($D$46=0,0,K11*$D$47/$D$46)","v":1621.020584758727}]
["1.5","Общеэксплуатационные расходы ",{"$f":"'НВВ по данным предпр.'!G33","v":1043.5472305414974},835.48628383151765,{"$f":"'НВВ по данным предпр.'!H33","v":1074.4362285655257},860.2166778329306,{"$f":"'НВВ по данным предпр.'!I33","v":1106.2395409310652},{"$f":"IF($D$46=0,0,G12*$D$47/$D$46)","v":885.6790914967853},{"$f":"'НВВ по данным предпр.'!J33","v":1138.9842313426248},{"$f":"IF($D$46=0,0,I12*$D$47/$D$46)","v":911.89519260509019},{"$f":"'НВВ по данным предпр.'!K33","v":1172.6981645903666},{"$f":"IF($D$46=0,0,K12*$D$47/$D$46)","v":938.88729030620107}]
["1.6","Другие расходы, связанные с передачей электрической энергии ",{"$f":"'НВВ по данным предпр.'!G34","v":0},0,{"$f":"'НВВ по данным предпр.'!H34","v":0},0,{"$f":"'НВВ по данным предпр.'!I34","v":0},{"$f":"IF($D$46=0,0,G13*$D$47/$D$46)","v":0},{"$f":"'НВВ по данным предпр.'!J34","v":0},{"$f":"IF($D$46=0,0,I13*$D$47/$D$46)","v":0},{"$f":"'НВВ по данным предпр.'!K34","v":0},{"$f":"IF($D$46=0,0,K13*$D$47/$D$46)","v":0}]
["1.7","Расходы по коллективным договорам",{"$f":"'НВВ по данным предпр.'!G35","v":43.30536},34.671199575328941,{"$f":"'НВВ по данным предпр.'!H35","v":44.587198656000005},35.697467082758678,{"$f":"'НВВ по данным предпр.'!I35","v":45.906979736217608},{"$f":"IF($D$46=0,0,G14*$D$47/$D$46)","v":36.754112108408343},{"$f":"'НВВ по данным предпр.'!J35","v":47.265826336409653},{"$f":"IF($D$46=0,0,I14*$D$47/$D$46)","v":37.842033826817229},{"$f":"'НВВ по данным предпр.'!K35","v":48.664894795967385},{"$f":"IF($D$46=0,0,K14*$D$47/$D$46)","v":38.962158028091025}]
["2.","Неподконтрольные расходы организации, всего, в том числе:",{"$f":"SUM(C16:C19)+SUM(C25:C30)","v":1047.0202194825001},838.26683322993892,1064.66090328788,852.39034285695971,1082.9656685752309,867.0455303547036,1101.955969041843,882.24957201313487,1121.6539645536998,898.02020949601285]
["2.1","Амортизация основных средств",{"$f":"'НВВ по данным предпр.'!G38","v":297.95308999999997},238.54763122800372,{"$f":"'НВВ по данным предпр.'!H38","v":297.95308999999997},{"$f":"IF($D$46=0,0,E16*$D$47/$D$46)","v":238.54763122800372},{"$f":"'НВВ по данным предпр.'!I38","v":297.95308999999997},{"$f":"IF($D$46=0,0,G16*$D$47/$D$46)","v":238.54763122800372},{"$f":"'НВВ по данным предпр.'!J38","v":297.95308999999997},{"$f":"IF($D$46=0,0,I16*$D$47/$D$46)","v":238.54763122800372},{"$f":"'НВВ по данным предпр.'!K38","v":297.95308999999997},{"$f":"IF($D$46=0,0,K16*$D$47/$D$46)","v":238.54763122800372}]
["2.2","Страховые взносы",{"$f":"'НВВ по данным предпр.'!G39","v":560.82540555000014},449.00884238668942,{"$f":"'НВВ по данным предпр.'!H39","v":577.42583755428006},{"$f":"IF($D$46=0,0,E17*$D$47/$D$46)","v":462.29950412133536},{"$f":"'НВВ по данным предпр.'!I39","v":594.51764234588688},{"$f":"IF($D$46=0,0,G17*$D$47/$D$46)","v":475.98356944332704},{"$f":"'НВВ по данным предпр.'!J39","v":612.11536455932514},{"$f":"IF($D$46=0,0,I17*$D$47/$D$46)","v":490.0726830988495},{"$f":"'НВВ по данным предпр.'!K39","v":630.23397935028129},{"$f":"IF($D$46=0,0,K17*$D$47/$D$46)","v":504.57883451857549}]
["2.3","Расходы на оплату услуг организаций, осуществляющие регулируемые виды деятельности",{"$f":"'НВВ по данным предпр.'!G40","v":0},0,{"$f":"'НВВ по данным предпр.'!H40","v":0},{"$f":"IF($D$46=0,0,E18*$D$47/$D$46)","v":0},{"$f":"'НВВ по данным предпр.'!I40","v":0},{"$f":"IF($D$46=0,0,G18*$D$47/$D$46)","v":0},{"$f":"'НВВ по данным предпр.'!J40","v":0},{"$f":"IF($D$46=0,0,I18*$D$47/$D$46)","v":0},{"$f":"'НВВ по данным предпр.'!K40","v":0},{"$f":"IF($D$46=0,0,K18*$D$47/$D$46)","v":0}]
["2.4.","Налоги и сборы, в том числе:",{"$f":"'НВВ по данным предпр.'!G41","v":80.298360092500005},64.288588487399636,{"$f":"'НВВ по данным предпр.'!H41","v":77.020877339999998},61.664565534660611,{"$f":"'НВВ по данным предпр.'!I41","v":73.743393899999987},59.040542031494347,{"$f":"'НВВ по данным предпр.'!J41","v":70.465910459999989},56.416518528328105,{"$f":"'НВВ по данным предпр.'!K41","v":67.188427019999978},53.792495025161841]
["2.4.1","Плата за землю",{"$f":"'НВВ по данным предпр.'!G42","v":0},0,{"$f":"'НВВ по данным предпр.'!H42","v":0},{"$f":"IF($D$46=0,0,E20*$D$47/$D$46)","v":0},{"$f":"'НВВ по данным предпр.'!I42","v":0},{"$f":"IF($D$46=0,0,G20*$D$47/$D$46)","v":0},{"$f":"'НВВ по данным предпр.'!J42","v":0},{"$f":"IF($D$46=0,0,I20*$D$47/$D$46)","v":0},{"$f":"'НВВ по данным предпр.'!K42","v":0},{"$f":"IF($D$46=0,0,K20*$D$47/$D$46)","v":0}]
["2.4.2","Транспортный налог",{"$f":"'НВВ по данным предпр.'!G43","v":0},0,{"$f":"'НВВ по данным предпр.'!H43","v":0},{"$f":"IF($D$46=0,0,E21*$D$47/$D$46)","v":0},{"$f":"'НВВ по данным предпр.'!I43","v":0},{"$f":"IF($D$46=0,0,G21*$D$47/$D$46)","v":0},{"$f":"'НВВ по данным предпр.'!J43","v":0},{"$f":"IF($D$46=0,0,I21*$D$47/$D$46)","v":0},{"$f":"'НВВ по данным предпр.'!K43","v":0},{"$f":"IF($D$46=0,0,K21*$D$47/$D$46)","v":0}]
["2.4.3","Налог на имущество",{"$f":"'НВВ по данным предпр.'!G44","v":80.298360092500005},64.288588487399636,{"$f":"'НВВ по данным предпр.'!H44","v":77.020877339999998},{"$f":"IF($D$46=0,0,E22*$D$47/$D$46)","v":61.664565534660611},{"$f":"'НВВ по данным предпр.'!I44","v":73.743393899999987},{"$f":"IF($D$46=0,0,G22*$D$47/$D$46)","v":59.040542031494347},{"$f":"'НВВ по данным предпр.'!J44","v":70.465910459999989},{"$f":"IF($D$46=0,0,I22*$D$47/$D$46)","v":56.416518528328105},{"$f":"'НВВ по данным предпр.'!K44","v":67.188427019999978},{"$f":"IF($D$46=0,0,K22*$D$47/$D$46)","v":53.792495025161841}]
["2.4.4","Плата за негативное воздействие на окружающую среду",{"$f":"'НВВ по данным предпр.'!G45","v":0},0,{"$f":"'НВВ по данным предпр.'!H45","v":0},{"$f":"IF($D$46=0,0,E23*$D$47/$D$46)","v":0},{"$f":"'НВВ по данным предпр.'!I45","v":0},{"$f":"IF($D$46=0,0,G23*$D$47/$D$46)","v":0},{"$f":"'НВВ по данным предпр.'!J45","v":0},{"$f":"IF($D$46=0,0,I23*$D$47/$D$46)","v":0},{"$f":"'НВВ по данным предпр.'!K45","v":0},{"$f":"IF($D$46=0,0,K23*$D$47/$D$46)","v":0}]
["2.4.5","Налог на прибыль",{"$f":"'НВВ по данным предпр.'!G46","v":0},0,{"$f":"'НВВ по данным предпр.'!H46","v":0},{"$f":"IF($D$46=0,0,E24*$D$47/$D$46)","v":0},{"$f":"'НВВ по данным предпр.'!I46","v":0},{"$f":"IF($D$46=0,0,G24*$D$47/$D$46)","v":0},{"$f":"'НВВ по данным предпр.'!J46","v":0},{"$f":"IF($D$46=0,0,I24*$D$47/$D$46)","v":0},{"$f":"'НВВ по данным предпр.'!K46","v":0},{"$f":"IF($D$46=0,0,K24*$D$47/$D$46)","v":0}]
["2.5","Плата за аренду имущества",{"$f":"'НВВ по данным предпр.'!G47","v":0},0,{"$f":"'НВВ по данным предпр.'!H47","v":0},{"$f":"IF($D$46=0,0,E25*$D$47/$D$46)","v":0},{"$f":"'НВВ по данным предпр.'!I47","v":0},{"$f":"IF($D$46=0,0,G25*$D$47/$D$46)","v":0},{"$f":"'НВВ по данным предпр.'!J47","v":0},{"$f":"IF($D$46=0,0,I25*$D$47/$D$46)","v":0},{"$f":"'НВВ по данным предпр.'!K47","v":0},{"$f":"IF($D$46=0,0,K25*$D$47/$D$46)","v":0}]
["2.6","Оплата услуг ОАО \"ФСК ЕЭС\"",{"$f":"'НВВ по данным предпр.'!G48","v":0},0,{"$f":"'НВВ по данным предпр.'!H48","v":0},{"$f":"IF($D$46=0,0,E26*$D$47/$D$46)","v":0},{"$f":"'НВВ по данным предпр.'!I48","v":0},{"$f":"IF($D$46=0,0,G26*$D$47/$D$46)","v":0},{"$f":"'НВВ по данным предпр.'!J48","v":0},{"$f":"IF($D$46=0,0,I26*$D$47/$D$46)","v":0},{"$f":"'НВВ по данным предпр.'!K48","v":0},{"$f":"IF($D$46=0,0,K26*$D$47/$D$46)","v":0}]
["2.7","Прочие обоснованные неподконтрольные расходы",{"$f":"'НВВ по данным предпр.'!G49","v":107.94336384},86.421771127846185,{"$f":"'НВВ по данным предпр.'!H49","v":112.26109839360001},{"$f":"IF($D$46=0,0,E27*$D$47/$D$46)","v":89.87864197296004},{"$f":"'НВВ по данным предпр.'!I49","v":116.75154232934402},{"$f":"IF($D$46=0,0,G27*$D$47/$D$46)","v":93.473787651878453},{"$f":"'НВВ по данным предпр.'!J49","v":121.42160402251778},{"$f":"IF($D$46=0,0,I27*$D$47/$D$46)","v":97.212739157953592},{"$f":"'НВВ по данным предпр.'!K49","v":126.2784681834185},{"$f":"IF($D$46=0,0,K27*$D$47/$D$46)","v":101.10124872427174}]
["2.8","Капитальные вложения производственного характера из прибыли",{"$f":"'НВВ по данным предпр.'!G50","v":0},0,{"$f":"'НВВ по данным предпр.'!H50","v":0},{"$f":"IF($D$46=0,0,E28*$D$47/$D$46)","v":0},{"$f":"'НВВ по данным предпр.'!I50","v":0},{"$f":"IF($D$46=0,0,G28*$D$47/$D$46)","v":0},{"$f":"'НВВ по данным предпр.'!J50","v":0},{"$f":"IF($D$46=0,0,I28*$D$47/$D$46)","v":0},{"$f":"'НВВ по данным предпр.'!K50","v":0},{"$f":"IF($D$46=0,0,K28*$D$47/$D$46)","v":0}]
["2.9","Расходы, связанные с компенсацией выпадающих доходов от льготного технологического присоединения",{"$f":"'НВВ по данным предпр.'!G51","v":0},0,"х","х","х","х","х","х","х","х"]
["2.10.",{"$f":"'[23]Возврат заемных средств'!A2","v":"Расходы на возврат и обслуживание долгосрочных заемных средств, направляемых на финансирования капитальных вложений "},{"$f":"'НВВ по данным предпр.'!G52","v":0},0,{"$f":"'НВВ по данным предпр.'!H52","v":0},{"$f":"IF($D$46=0,0,E30*$D$47/$D$46)","v":0},{"$f":"'НВВ по данным предпр.'!I52","v":0},{"$f":"IF($D$46=0,0,G30*$D$47/$D$46)","v":0},{"$f":"'НВВ по данным предпр.'!J52","v":0},{"$f":"IF($D$46=0,0,I30*$D$47/$D$46)","v":0},{"$f":"'НВВ по данным предпр.'!K52","v":0},{"$f":"IF($D$46=0,0,K30*$D$47/$D$46)","v":0}]
["3.","Результаты деятельности регулируемой организации ",{"$f":"'НВВ по данным предпр.'!G67","v":0},0,{"$f":"'НВВ по данным предпр.'!H67","v":0},0,{"$f":"'НВВ по данным предпр.'!I67","v":0},0,{"$f":"'НВВ по данным предпр.'!J67","v":0},0,{"$f":"'НВВ по данным предпр.'!K67","v":0},0]
["4.","Корректировка необходимой валовой выручки, всего, в том числе:",{"$f":"SUM(C33:C38)","v":-1168.1200000000001},{"$f":"SUM(D33:D38)","v":-914.36691595480681},"x","x","x","x","x","x","x","x"]
["4.1.","Корректировка подконтрольных расходов",{"$f":"'НВВ по данным предпр.'!G56","v":-1402.65},-1122.9916593312039,"x","x","x","x","x","x","x","x"]
["4.2.","Корректировка неподконтрольных расходов",{"$f":"'НВВ по данным предпр.'!G57","v":129.93},104.02474337639704,"x","x","x","x","x","x","x","x"]
["4.3.","Корректировка НВВ с учетом изменения полезного отпуска и цен на электрическую энергию ",{"$f":"'НВВ по данным предпр.'!G58","v":104.6},{"$f":"C35","v":104.6},"x","x","x","x","x","x","x","x"]
["4.4.","Корректировка необходимой валовой выручки по доходам от осуществления регулируемой деятельности",{"$f":"'НВВ по данным предпр.'!G59","v":0},{"$f":"C36","v":0},"x","x","x","x","x","x","x","x"]
["4.5.","Корректировка НВВ в связи с изменением (неисполнением) инвестиционной программы ",{"$f":"'НВВ по данным предпр.'!G60","v":0},{"$f":"IF($D$46=0,0,C37*$D$47/$D$46)","v":0},"x","x","x","x","x","x","x","x"]
["4.6.","Корректировка НВВ с учетом надежности и качества оказываемых услуг ",{"$f":"'НВВ по данным предпр.'!G61","v":0},{"$f":"C38","v":0},{"$f":"'НВВ по данным предпр.'!H61","v":"x"},"x","x","x","x","x","x","x"]
["Необходимая валовая выручка (НВВ) на содержание электрических сетей, всего: ",null,{"$f":"C7+C15+C32+C31","v":5361.8157516248784},{"$f":"D7+D15+D32+D31","v":4313.6396323953668},{"$f":"E7+E15+E31","v":6709.870735181672},{"$f":"F7+F15+F31","v":5372.0663535447547},{"$f":"G7+G15+G31","v":6895.2737114930787},{"$f":"H7+H15+H31","v":5520.5039509588578},7086.3083300300605,{"$f":"J7+J15+J31","v":5673.4503618671715},7283.1431554271694,{"$f":"L7+L15+L31","v":5831.0405427297301}]
["Расходы на компенсацию потерь:","Расходы на компенсацию потерь:",{"$f":"'НВВ на потери'!I13","v":2385.9176452281395},{"$f":"C40","v":2385.9176452281395},{"$f":"'НВВ на потери'!M13","v":2457.4951745849839},{"$f":"E40","v":2457.4951745849839},{"$f":"'НВВ на потери'!O13","v":2531.2200298225334},{"$f":"G40","v":2531.2200298225334},{"$f":"'НВВ на потери'!Q13","v":2607.1566307172097},{"$f":"I40","v":2607.1566307172097},{"$f":"'НВВ на потери'!S13","v":2685.3713296387259},{"$f":"K40","v":2685.3713296387259}]
["Итого необходимая валовая выручка (НВВ) организации на оказание услуги по передаче электрической энергии:","Итого необходимая валовая выручка (НВВ) организации на оказание услуги по передаче электрической энергии:",{"$f":"C39+C40","v":7747.7333968530183},6699.5572776235058,{"$f":"E39+E40","v":9167.3659097666568},7829.5615281297387,9426.4937413156113,{"$f":"H39+H40","v":8051.7239807813912},9693.4649607472711,{"$f":"J39+J40","v":8280.6069925843804},9968.5144850658944,{"$f":"L39+L40","v":8516.4118723684551}]
[]
[]
["Данные для определения необходимой валовой выручки на передачу электрической энергии сторонним потребителям"]
["№ п/п","Наименование показателя","Ед. измерения","Факт 2018 года"]
[1,"Величина полезного отпуска, всего, в том числе:","тыс. кВт.ч.",{"$f":"'Баланс энергии'!H22","v":8899.6879999999983}]
[2,"величина полезного отпуска электрической энергии потребителям услуг","тыс. кВт.ч.",{"$f":"'Баланс энергии (транзит)'!H22","v":7125.2809999999999}]
[]
[null,"Руководитель организации",null,{"$f":"'Инф-я'!$C$21","v":"Чижов Олег Александрович"}]

{"sheet":"Тарифы","index":53,"n_rows":19,"n_cols":33,"rows_kept":19,"cut":false,"hidden":false,"merged":[[5,24,5,26],[5,27,5,29],[5,30,5,32],[1,0,1,11],[3,0,3,11],[5,9,5,11],[5,12,5,14],[5,15,5,17],[5,18,5,20],[5,21,5,23],[5,6,5,8],[18,0,18,1],[18,2,18,4],[5,0,6,0],[5,1,6,1],[5,2,6,2],[5,3,5,5]]}
[]
["Расчет индивидуальных тарифов на долгосрочный период регулирования 2020- 2024 годы"]
[]
[{"$f":"'Инф-я'!C13","v":"ООО \"МОНОСТРОЙ\""}]
[]
["№ п./п.","Показатели","Ед. изм.","По расчету организации",null,null,"По расчету экспертов",null,null,"По расчету организации",null,null,"По расчету экспертов",null,null,"По расчету организации",null,null,"По расчету экспертов",null,null,"По расчету организации",null,null,"По расчету экспертов",null,null,"По расчету организации",null,null,"По расчету экспертов"]
[null,null,null,"2020 год","1 полугодие","2 полугодие",2020,"1 полугодие","2 полугодие","2021 год","1 полугодие","2 полугодие",2021,"1 полугодие","2 полугодие","2022 год","1 полугодие","2 полугодие",2022,"1 полугодие","2 полугодие","2023 год","1 полугодие","2 полугодие",2023,"1 полугодие","2 полугодие","2024 год","1 полугодие","2 полугодие",2024,"1 полугодие","2 полугодие"]
[1,2,3,4,5,6,null,null,null,7,8,9,null,null,null,10,11,12,null,null,null,13,14,15,null,null,null,16,17,18]
[1,"Необходимая валовая выручка на передачу электрической энергии, всего, в том числе:","тыс. руб.",{"$f":"D10+D11","v":6699.5572776235058},3204.1360892981988,3495.4211883253074,-2529.8036182616738,0,-2529.8036182616738,{"$f":"J10+J11","v":7829.5615281297387},3744.5729047577011,4084.9886233720376,0,0,0,8051.7239807813912,3850.8245125476215,4200.8994682337698,0,0,0,8280.6069925843804,3960.2903008012263,4320.316691783155,0,0,0,8516.4118723684551,4073.0665476544791,4443.3453247139769,0,0,0]
["1.1.","Необходимая валовая выручка на содержание электрических сетей","тыс. руб.",{"$f":"'Смета общая НВВ (предпр)'!D39","v":4313.6396323953668},{"$f":"D10*'Баланс энергии'!$Z$17/'Баланс энергии'!$U$17","v":2063.045041580393},{"$f":"D10-E10","v":2250.5945908149738},{"$f":"'Смета общая НВВ (эксперты)'!D39","v":-2529.8036182616738},null,{"$f":"G10-H10","v":-2529.8036182616738},{"$f":"'Смета общая НВВ (предпр)'!F39","v":5372.0663535447547},{"$f":"J10*'Баланс энергии'!$Z$17/'Баланс энергии'!$U$17","v":2569.2491256083608},{"$f":"J10-K10","v":2802.8172279363939},{"$f":"'Смета общая НВВ (эксперты)'!F39","v":0},null,{"$f":"M10-N10","v":0},{"$f":"'Смета общая НВВ (предпр)'!H39","v":5520.5039509588578},{"$f":"P10*'Баланс энергии'!$Z$17/'Баланс энергии'!$U$17","v":2640.2410200238014},{"$f":"P10-Q10","v":2880.2629309350564},{"$f":"'Смета общая НВВ (эксперты)'!H39","v":0},null,{"$f":"S10-T10","v":0},{"$f":"'Смета общая НВВ (предпр)'!J39","v":5673.4503618671715},{"$f":"V10*'Баланс энергии'!$Z$17/'Баланс энергии'!$U$17","v":2713.3893035016908},{"$f":"V10-W10","v":2960.0610583654807},{"$f":"'Смета общая НВВ (эксперты)'!J39","v":0},null,{"$f":"Y10-Z10","v":0},{"$f":"'Смета общая НВВ (предпр)'!L39","v":5831.0405427297301},{"$f":"AB10*'Баланс энергии'!$Z$17/'Баланс энергии'!$U$17","v":2788.758520435958},{"$f":"AB10-AC10","v":3042.2820222937721},{"$f":"'Смета общая НВВ (эксперты)'!L39","v":0},null,{"$f":"AE10-AF10","v":0}]
["1.2.","Необходимая валовая выручка на оплату технологического расхода (потерь) электрической энергии","тыс. руб.",{"$f":"'Смета общая НВВ (предпр)'!D40","v":2385.9176452281395},{"$f":"D11*'Баланс энергии'!$Z$17/'Баланс энергии'!$U$17","v":1141.0910477178058},{"$f":"D11-E11","v":1244.8265975103336},{"$f":"'Смета общая НВВ (эксперты)'!D40","v":0},null,{"$f":"G11-H11","v":0},{"$f":"'Смета общая НВВ (предпр)'!F40","v":2457.4951745849839},{"$f":"J11*'Баланс энергии'!$Z$17/'Баланс энергии'!$U$17","v":1175.3237791493402},{"$f":"J11-K11","v":1282.1713954356437},{"$f":"'Смета общая НВВ (эксперты)'!F40","v":0},null,{"$f":"M11-N11","v":0},{"$f":"'Смета общая НВВ (предпр)'!H40","v":2531.2200298225334},{"$f":"P11*'Баланс энергии'!$Z$17/'Баланс энергии'!$U$17","v":1210.5834925238203},{"$f":"P11-Q11","v":1320.6365372987132},{"$f":"'Смета общая НВВ (эксперты)'!H40","v":0},null,{"$f":"S11-T11","v":0},{"$f":"'Смета общая НВВ (предпр)'!J40","v":2607.1566307172097},{"$f":"V11*'Баланс энергии'!$Z$17/'Баланс энергии'!$U$17","v":1246.9009972995352},{"$f":"V11-W11","v":1360.2556334176745},{"$f":"'Смета общая НВВ (эксперты)'!J40","v":0},null,{"$f":"Y11-Z11","v":0},{"$f":"'Смета общая НВВ (предпр)'!L40","v":2685.3713296387259},{"$f":"AB11*'Баланс энергии'!$Z$17/'Баланс энергии'!$U$17","v":1284.3080272185211},{"$f":"AB11-AC11","v":1401.0633024202048},{"$f":"'Смета общая НВВ (эксперты)'!L40","v":0},null,{"$f":"AE11-AF11","v":0}]
[2,"Договорная мощность ","МВт",1.0663,{"$f":"D12","v":1.0663},{"$f":"D12","v":1.0663},null,{"$f":"G12","v":0},{"$f":"G12","v":0},{"$f":"D12","v":1.0663},{"$f":"J12","v":1.0663},{"$f":"J12","v":1.0663},null,{"$f":"M12","v":0},{"$f":"M12","v":0},{"$f":"J12","v":1.0663},{"$f":"P12","v":1.0663},{"$f":"P12","v":1.0663},null,{"$f":"S12","v":0},{"$f":"S12","v":0},{"$f":"P12","v":1.0663},{"$f":"V12","v":1.0663},{"$f":"V12","v":1.0663},null,{"$f":"Y12","v":0},{"$f":"Y12","v":0},{"$f":"V12","v":1.0663},{"$f":"AB12","v":1.0663},{"$f":"AB12","v":1.0663},null,{"$f":"AE12","v":0},{"$f":"AE12","v":0}]
[3,"Полезный отпуск электрической энергии за исключением перетока в сети филиала «Владимирэнерго» ПАО «МРСК Центра и Приволжья»","тыс. кВт ч.",{"$f":"E13+F13","v":8900},{"$f":"'Баланс энергии (транзит)'!$W$22-'Баланс энергии (транзит)'!$W$24","v":4181.5},{"$f":"'Баланс энергии (транзит)'!$AB$22-'Баланс энергии (транзит)'!$AB$24","v":4718.5},{"$f":"H13+I13","v":0},{"$f":"'Баланс энергии (транзит)'!$AL$22-'Баланс энергии (транзит)'!$AL$24","v":0},{"$f":"'Баланс энергии (транзит)'!$AQ$22-'Баланс энергии (транзит)'!$AQ$24","v":0},{"$f":"K13+L13","v":8900},{"$f":"'Баланс энергии (транзит)'!$W$22-'Баланс энергии (транзит)'!$W$24","v":4181.5},{"$f":"'Баланс энергии (транзит)'!$AB$22-'Баланс энергии (транзит)'!$AB$24","v":4718.5},{"$f":"N13+O13","v":0},{"$f":"'Баланс энергии (транзит)'!$AL$22-'Баланс энергии (транзит)'!$AL$24","v":0},{"$f":"'Баланс энергии (транзит)'!$AQ$22-'Баланс энергии (транзит)'!$AQ$24","v":0},{"$f":"Q13+R13","v":8900},{"$f":"'Баланс энергии (транзит)'!$W$22-'Баланс энергии (транзит)'!$W$24","v":4181.5},{"$f":"'Баланс энергии (транзит)'!$AB$22-'Баланс энергии (транзит)'!$AB$24","v":4718.5},{"$f":"T13+U13","v":0},{"$f":"'Баланс энергии (транзит)'!$AL$22-'Баланс энергии (транзит)'!$AL$24","v":0},{"$f":"'Баланс энергии (транзит)'!$AQ$22-'Баланс энергии (транзит)'!$AQ$24","v":0},{"$f":"W13+X13","v":8900},{"$f":"'Баланс энергии (транзит)'!$W$22-'Баланс энергии (транзит)'!$W$24","v":4181.5},{"$f":"'Баланс энергии (транзит)'!$AB$22-'Баланс энергии (транзит)'!$AB$24","v":4718.5},{"$f":"Z13+AA13","v":0},{"$f":"'Баланс энергии (транзит)'!$AL$22-'Баланс энергии (транзит)'!$AL$24","v":0},{"$f":"'Баланс энергии (транзит)'!$AQ$22-'Баланс энергии (транзит)'!$AQ$24","v":0},{"$f":"AC13+AD13","v":8900},{"$f":"'Баланс энергии (транзит)'!$W$22-'Баланс энергии (транзит)'!$W$24","v":4181.5},{"$f":"'Баланс энергии (транзит)'!$AB$22-'Баланс энергии (транзит)'!$AB$24","v":4718.5},{"$f":"AF13+AG13","v":0},{"$f":"'Баланс энергии (транзит)'!$AL$22-'Баланс энергии (транзит)'!$AL$24","v":0},{"$f":"'Баланс энергии (транзит)'!$AQ$22-'Баланс энергии (транзит)'!$AQ$24","v":0}]
[4,"Двухставочный тариф"]
["4.1.","ставка на содержание электрических сетей","руб./кВт мес","х",{"$f":"ROUND(IF(E12=0,0,E10/E12/6),5)","v":322.46163000000001},{"$f":"ROUND(IF(F12=0,0,F10/F12/6),5)","v":351.77632999999997},"х",{"$f":"ROUND(IF(H12=0,0,H10/H12/6),5)","v":0},{"$f":"ROUND(IF(I12=0,0,I10/I12/6),5)","v":0},"х",{"$f":"ROUND(IF(K12=0,0,K10/K12/6),5)","v":401.58321999999998},{"$f":"ROUND(IF(L12=0,0,L10/L12/6),5)","v":438.09079000000003},"х",{"$f":"ROUND(IF(N12=0,0,N10/N12/6),5)","v":0},{"$f":"ROUND(IF(O12=0,0,O10/O12/6),5)","v":0},"х",{"$f":"ROUND(IF(Q12=0,0,Q10/Q12/6),5)","v":412.67952000000002},{"$f":"ROUND(IF(R12=0,0,R10/R12/6),5)","v":450.19583999999998},"х",{"$f":"ROUND(IF(T12=0,0,T10/T12/6),5)","v":0},{"$f":"ROUND(IF(U12=0,0,U10/U12/6),5)","v":0},"х",{"$f":"ROUND(IF(W12=0,0,W10/W12/6),5)","v":424.11286999999999},{"$f":"ROUND(IF(X12=0,0,X10/X12/6),5)","v":462.66858000000002},"х",{"$f":"ROUND(IF(Z12=0,0,Z10/Z12/6),5)","v":0},{"$f":"ROUND(IF(AA12=0,0,AA10/AA12/6),5)","v":0},"х",{"$f":"ROUND(IF(AC12=0,0,AC10/AC12/6),5)","v":435.89335999999997},{"$f":"ROUND(IF(AD12=0,0,AD10/AD12/6),5)","v":475.52003000000002},"х",{"$f":"ROUND(IF(AF12=0,0,AF10/AF12/6),5)","v":0},{"$f":"ROUND(IF(AG12=0,0,AG10/AG12/6),5)","v":0}]
["4.2.","ставка на оплату технологического расхода (потерь)","руб./кВт ч.","х",{"$f":"ROUND(IF(E13=0,0,E11/E13),5)","v":0.27289000000000002},{"$f":"ROUND(IF(F13=0,0,F11/F13),5)","v":0.26382},"х",{"$f":"ROUND(IF(H13=0,0,H11/H13),5)","v":0},{"$f":"ROUND(IF(I13=0,0,I11/I13),5)","v":0},"х",{"$f":"ROUND(IF(K13=0,0,K11/K13),5)","v":0.28108},{"$f":"ROUND(IF(L13=0,0,L11/L13),5)","v":0.27173000000000003},"х",{"$f":"ROUND(IF(N13=0,0,N11/N13),5)","v":0},{"$f":"ROUND(IF(O13=0,0,O11/O13),5)","v":0},"х",{"$f":"ROUND(IF(Q13=0,0,Q11/Q13),5)","v":0.28950999999999999},{"$f":"ROUND(IF(R13=0,0,R11/R13),5)","v":0.27988000000000002},"х",{"$f":"ROUND(IF(T13=0,0,T11/T13),5)","v":0},{"$f":"ROUND(IF(U13=0,0,U11/U13),5)","v":0},"х",{"$f":"ROUND(IF(W13=0,0,W11/W13),5)","v":0.29819000000000001},{"$f":"ROUND(IF(X13=0,0,X11/X13),5)","v":0.28827999999999998},"х",{"$f":"ROUND(IF(Z13=0,0,Z11/Z13),5)","v":0},{"$f":"ROUND(IF(AA13=0,0,AA11/AA13),5)","v":0},"х",{"$f":"ROUND(IF(AC13=0,0,AC11/AC13),5)","v":0.30714000000000002},{"$f":"ROUND(IF(AD13=0,0,AD11/AD13),5)","v":0.29693000000000003},"х",{"$f":"ROUND(IF(AF13=0,0,AF11/AF13),5)","v":0},{"$f":"ROUND(IF(AG13=0,0,AG11/AG13),5)","v":0}]
[5,"Одноставочный тариф","руб./кВт ч.","х",{"$f":"ROUND(IF(E13=0,0,E9/E13),5)","v":0.76626000000000005},{"$f":"ROUND(IF(F13=0,0,F9/F13),5)","v":0.74078999999999995},"х",{"$f":"ROUND(IF(H13=0,0,H9/H13),5)","v":0},{"$f":"ROUND(IF(I13=0,0,I9/I13),5)","v":0},"х",{"$f":"ROUND(IF(K13=0,0,K9/K13),5)","v":0.89551000000000003},{"$f":"ROUND(IF(L13=0,0,L9/L13),5)","v":0.86573999999999995},"х",{"$f":"ROUND(IF(N13=0,0,N9/N13),5)","v":0},{"$f":"ROUND(IF(O13=0,0,O9/O13),5)","v":0},"х",{"$f":"ROUND(IF(Q13=0,0,Q9/Q13),5)","v":0.92091999999999996},{"$f":"ROUND(IF(R13=0,0,R9/R13),5)","v":0.89029999999999998},"х",{"$f":"ROUND(IF(T13=0,0,T9/T13),5)","v":0},{"$f":"ROUND(IF(U13=0,0,U9/U13),5)","v":0},"х",{"$f":"ROUND(IF(W13=0,0,W9/W13),5)","v":0.94710000000000005},{"$f":"ROUND(IF(X13=0,0,X9/X13),5)","v":0.91561000000000003},"х",{"$f":"ROUND(IF(Z13=0,0,Z9/Z13),5)","v":0},{"$f":"ROUND(IF(AA13=0,0,AA9/AA13),5)","v":0},"х",{"$f":"ROUND(IF(AC13=0,0,AC9/AC13),5)","v":0.97406999999999999},{"$f":"ROUND(IF(AD13=0,0,AD9/AD13),5)","v":0.94169000000000003},"х",{"$f":"ROUND(IF(AF13=0,0,AF9/AF13),5)","v":0},{"$f":"ROUND(IF(AG13=0,0,AG9/AG13),5)","v":0}]
[]
["Руководитель организации",null,{"$f":"'Инф-я'!$C$21","v":"Чижов Олег Александрович"}]

{"sheet":"Форма 1.1","index":54,"n_rows":22,"n_cols":4,"rows_kept":22,"cut":false,"hidden":false,"merged":[[26,0,29,3],[1,0,1,3],[3,1,3,3],[5,0,5,3],[21,0,21,1],[21,2,21,4]]}
[]
["Форма 1.1 - Журнал учета текущей информации о прекращении передачи электрической энергии для потребителей услуг за 2018 год   "]
[]
[null,{"$f":"'Инф-я'!C13","v":"ООО \"МОНОСТРОЙ\""}]
[]
["(наименование территориальной сетевой организации)"]
["№","Период","Продолжительность прекращения,\nчас.","Количество точек присоединения потребителей услуг к электрической сети электросетевой организации, шт."]
[1,2,3,4]
[1,"январь",0,0]
[2,"февраль",0,3]
[3,"март",0,0]
[4,"апрель",0,3]
[5,"май",0,0]
[6,"июнь",0,0]
[7,"июль",0,0]
[8,"август",0,0]
[9,"сентябрь",0,0]
[10,"октябрь",0,0]
[11,"ноябрь",0,0]
[12,"декабрь",0,0]
[]
["Руководитель организации",null,{"$f":"'Инф-я'!$C$21","v":"Чижов Олег Александрович"}]

{"sheet":"Форма 1.2","index":55,"n_rows":10,"n_cols":6,"rows_kept":10,"cut":false,"hidden":false,"merged":[[9,1,9,2],[9,3,9,5],[1,0,1,4],[2,0,2,4],[3,0,3,4],[5,0,5,2],[6,0,6,2],[7,0,7,2]]}
[]
["Форма 1.2 - Расчет фактического показателя средней продолжительности прекращений передачи электрической энергии за 2018 год"]
[{"$f":"'Инф-я'!C13","v":"ООО \"МОНОСТРОЙ\""}]
["(наименование территориальной сетевой организации)"]
[]
["Максимальное за расчетный период",null,null,"Максимальное за расчетный период регулирования число точек присоединения  потребителей услуг к э. сети ТСО, шт.",{"$f":"MAX('Форма 1.1'!D9:D20)","v":3}," "]
["Суммарная продолжительность прекращений передачи электрической энергии, час. (Тпр)",null,null,"гр. 3 формы 1.1",{"$f":"SUM('Форма 1.1'!C9:C20)","v":0}]
["Показатель средней продолжительности прекращений передачи электрической энергии (Пп)",null,null,"Пп = Тпр/Nтп",{"$f":"IF(E6=0,0,E7/E6)","v":0}]
[]
[null,"Руководитель организации",null,{"$f":"'Инф-я'!$C$21","v":"Чижов Олег Александрович"}]

{"sheet":"Форма 2.1","index":56,"n_rows":33,"n_cols":8,"rows_kept":33,"cut":false,"hidden":false,"merged":[[32,0,32,1],[32,2,32,4],[35,2,35,4],[35,5,35,7],[37,5,37,7],[30,5,30,6],[19,5,19,6],[20,5,20,6],[21,5,21,6],[22,5,22,6],[23,5,23,6],[24,5,24,6],[25,5,25,6],[26,5,26,6],[27,5,27,6],[28,5,28,6],[29,5,29,6],[18,5,18,6],[7,5,7,6],[8,5,8,6],[9,5,9,6],[10,5,10,6],[11,5,11,6],[12,5,12,6],[13,5,13,6],[14,5,14,6],[15,5,15,6],[16,5,16,6],[17,5,17,6],[0,0,0,7],[1,0,1,7],[2,0,2,7],[5,0,6,0],[5,1,6,1],[5,2,5,3],[5,4,6,4],[5,5,6,6],[5,7,6,7]]}
["Форма 2.1 - Расчет значения индикатора информативности за 2018 год"]
[{"$f":"'Инф-я'!C13","v":"ООО \"МОНОСТРОЙ\""}]
["(наименование территориальной сетевой организации)"]
[]
[]
["Наименование параметра (критерия), характеризующего индикатор","Ед.изм-ния","Значение",null,"Ф / П * 100, %","Зависи-мость",null,"Оценочный балл "]
[null,null,"факти-ческое\n(Ф)","плановое\n(П)"]
[1,null,2,3,4,5,null,6]
["1. Возможность личного приема заявителей и потребителей услуг уполномоченными должностными лицами территориальной сетевой организации - всего,",null,"-","-","-","-",null,{"$f":"(H11+H12)/2","v":2.5}]
["в том числе, по критериям:"]
["1.1. Количество структурных подразделений по работе с заявителями и потребителями услуг в процентном отношении к общему количеству структурных подразделений","%",0.01,0.01,{"$f":"(IF(AND(D11=0,C11=0),1,IF(AND(D11=0,C11>0),1.2,C11/D11)))","v":1},"прямая",null,{"$f":"IF(E11<80%,3,IF(E11>120%,1,2))","v":2}]
["1.2. Количество утвержденных территориальной сетевой организацией в установленном порядке организационно-распорядительных документов по вопросам работы с заявителями и потребителями услуг - всего, шт.","шт.",{"$f":"SUM(C14:C17)","v":2},{"$f":"SUM(D14:D17)","v":4},{"$f":"(IF(AND(D12=0,C12=0),1,IF(AND(D12=0,C12>0),1.2,C12/D12)))","v":0.5},"прямая",null,{"$f":"IF(E12<80%,3,IF(E12>120%,1,2))","v":3}]
["в том числе:"]
["а) регламенты оказания услуг и рассмотрения обращений заявителей и потребителей услуг, шт.","шт.",0,1,{"$f":"(IF(AND(D14=0,C14=0),1,IF(AND(D14=0,C14>0),1.2,C14/D14)))","v":0},"прямая",null,"-"]
["б) наличие положения о деятельности структурного подразделения по работе \nс заявителями и потребителями услуг ‎(наличие - 1, отсутствие - ‎‎0), шт.‎","шт.",1,1,{"$f":"(IF(AND(D15=0,C15=0),1,IF(AND(D15=0,C15>0),1.2,C15/D15)))","v":1},"прямая",null,"-"]
["в) должностные инструкции сотрудников, обслуживающих заявителей и потребителей услуг, шт.","шт.",1,1,{"$f":"(IF(AND(D16=0,C16=0),1,IF(AND(D16=0,C16>0),1.2,C16/D16)))","v":1},"прямая",null,"-"]
["г) утвержденные территориальной сетевой организацией в установленном порядке формы отчетности о работе с заявителями и потребителями услуг, шт.","шт.",0,1,{"$f":"(IF(AND(D17=0,C17=0),1,IF(AND(D17=0,C17>0),1.2,C17/D17)))","v":0},"прямая",null,"-"]
["2. Наличие телефонной связи для обращений потребителей услуг к уполномоченным должностным лицам территориальной сетевой организации,",null,"-","-","-","-",null,{"$f":"(H20+H21+H22)/3","v":2.3333333333333335}]
["в том числе по критериям:"]
["2.1. Наличие единого телефонного номера для приема обращений потребителей услуг (наличие - 1, отсутствие - 0)","(наличие - 1, отсутствие - 0)",1,1,{"$f":"(IF(AND(D20=0,C20=0),1,IF(AND(D20=0,C20>0),1.2,C20/D20)))","v":1},"прямая",null,{"$f":"IF(E20<80%,3,IF(E20>120%,1,2))","v":2}]
["2.2. Наличие информационно-справочной системы для автоматизации обработки обращений потребителей услуг, поступивших по телефону (наличие - 1, отсутствие - 0)","(наличие - 1, отсутствие - 0)",1,1,{"$f":"(IF(AND(D21=0,C21=0),1,IF(AND(D21=0,C21>0),1.2,C21/D21)))","v":1},"прямая",null,{"$f":"IF(E21<80%,3,IF(E21>120%,1,2))","v":2}]
["2.3. Наличие системы автоинформирования потребителей услуг по телефону, предназначенной для доведения до них типовой информации (наличие - 1, отсутствие - 0)","(наличие - 1, отсутствие - 0)",0,1,{"$f":"(IF(AND(D22=0,C22=0),1,IF(AND(D22=0,C22>0),1.2,C22/D22)))","v":0},"прямая",null,{"$f":"IF(E22<80%,3,IF(E22>120%,1,2))","v":3}]
["3. Наличие в сети Интернет сайта территориальной сетевой организации с возможностью обмена информацией с потребителями услуг посредством электронной почты (наличие - 1, отсутствие - 0)","(наличие - 1, отсутствие - 0)",1,1,{"$f":"(IF(AND(D23=0,C23=0),1,IF(AND(D23=0,C23>0),1.2,C23/D23)))","v":1},"прямая",null,{"$f":"IF(E23<80%,3,IF(E23>120%,1,2))","v":2}]
["4. Проведение мероприятий по доведению до сведения потребителей услуг необходимой информации, в том числе путем ее размещения в сети Интернет, на бумажных носителях или иными доступными способами (проведение - 1, отсутствие - 0)","(наличие - 1, отсутствие - 0)",1,1,{"$f":"(IF(AND(D24=0,C24=0),1,IF(AND(D24=0,C24>0),1.2,C24/D24)))","v":1},"прямая",null,{"$f":"IF(E24<80%,3,IF(E24>120%,1,2))","v":2}]
["5. Простота и доступность схемы обжалования потребителями услуг действий должностных лиц территориальной сетевой организации, по критерию",null,"-","-","-","-",null,{"$f":"H26","v":2}]
["5.1. Общее количество обращений потребителей услуг о проведении консультаций по порядку обжалования действий (бездействия) территориальной сетевой организации в ходе исполнения своих функций в процентах от общего количества поступивших обращений","%",0.01,0.01,{"$f":"(IF(AND(D26=0,C26=0),1,IF(AND(D26=0,C26>0),1.2,C26/D26)))","v":1},"обратная",null,{"$f":"IF(E26<80%,1,IF(E26>120%,3,2))","v":2}]
["6. Степень полноты, актуальности и достоверности предоставляемой потребителям услуг информации о деятельности территориальной сетевой организации - всего,",null,"-","-","-","-",null,{"$f":"(H29+H30)/2","v":2}]
["в том числе по критериям:"]
["6.1. Общее количество обращений потребителей услуг о проведении консультаций по вопросам деятельности территориальной сетевой организации в процентах от общего количества поступивших обращений","%",0.01,0.01,{"$f":"(IF(AND(D29=0,C29=0),1,IF(AND(D29=0,C29>0),1.2,C29/D29)))","v":1},"обратная",null,{"$f":"IF(E29<80%,1,IF(E29>120%,3,2))","v":2}]
["6.2. Количество обращений потребителей услуг с указанием на отсутствие необходимой информации, которая должна быть раскрыта территориальной сетевой организацией в соответствии с нормативными правовыми актами, в процентах от общего количества поступивших обращений","%",0,0,{"$f":"(IF(AND(D30=0,C30=0),1,IF(AND(D30=0,C30>0),1.2,C30/D30)))","v":1},"обратная",null,{"$f":"IF(E30<80%,1,IF(E30>120%,3,2))","v":2}]
["7. Итого по индикатору \nинформативности (Ин)","-","-","-","-","-",null,{"$f":"(H9+H18+H23+H24+H25+H27)/6","v":2.1388888888888888}]
[]
["Руководитель организации",null,{"$f":"'Инф-я'!$C$21","v":"Чижов Олег Александрович"}]

{"sheet":"Форма 2.2","index":57,"n_rows":28,"n_cols":8,"rows_kept":28,"cut":false,"hidden":false,"merged":[[30,8,30,10],[8,0,8,1],[27,1,27,2],[27,3,27,5],[28,3,28,5],[28,6,28,7],[30,6,30,7],[2,0,2,7],[3,0,3,7],[4,1,4,7],[6,0,7,1],[6,2,7,2],[6,3,6,4],[6,5,7,5],[6,6,7,6],[6,7,7,7]]}
[]
[]
["Форма 2.2 - Расчет значения индикатора исполнительности за 2018 год"]
[{"$f":"'Инф-я'!C13","v":"ООО \"МОНОСТРОЙ\""}]
[null,"(наименование территориальной сетевой организации)"]
[]
["Наименование параметра (показателя), характеризующего индикатор",null,"Ед.изм-ния","Значение",null,"Ф / П * 100, %","Зависи-мость","Оценочный балл "]
[null,null,null,"факти-ческое\n(Ф)","плановое\n(П)"]
[1,null,null,2,3,4,5,6]
[null,"1. Соблюдение сроков по процедурам взаимодействия с потребителями услуг (заявителями) - всего",null,"-","-","-","-",{"$f":"(H12+H16)/2","v":0.5}]
[null,"в том числе, по критериям:"]
[null,"1.1. Среднее время, затраченное территориальной сетевой организацией на направление проекта договора оказания услуг по передаче электрической энергии потребителю услуг (заявителю), дней\n","дней",10,10,{"$f":"(IF(AND(E12=0,D12=0),1,IF(AND(E12=0,D12>0),1.2,D12/E12)))","v":1},"обратная",{"$f":"IF(F12<80%,0.25,IF(F12>120%,0.75,0.5))","v":0.5}]
[null,"1.2. Среднее время, необходимое для оборудования точки поставки приборами учета с момента подачи заявления потребителем услуг:","дней","-","-","-","обратная","-"]
[null,"а) для физических лиц, включая индивидуальных предпринимателей, и юридических лиц - субъектов малого и среднего предпринимательства, дней",null,14,14,null,"-","-"]
[null,"б) для остальных потребителей услуг, дней",null,14,14,null,"-","-"]
[null,"1.3. Количество случаев отказа от заключения и случаев расторжения потребителем услуг договоров оказания услуг по передаче электрической энергии, процентов от общего количества заключенных территориальной сетевой организацией договоров с потребителями услуг (заявителями), кроме физических лиц",null,0,0,{"$f":"(IF(AND(E16=0,D16=0),1,IF(AND(E16=0,D16>0),1.2,D16/E16)))","v":1},"обратная",{"$f":"IF(F16<80%,0.25,IF(F16>120%,0.75,0.5))","v":0.5}]
[null,"2. Соблюдение требований нормативных правовых актов Российской Федерации по поддержанию качества электрической энергии, по критерию",null,"-","-","-","-",{"$f":"(H18)","v":0.5}]
[null,"2.1. Количество обращений потребителей услуг с указанием на ненадлежащее качество электрической энергии, процентов от общего количества поступивших обращений\n","дней",0,0,{"$f":"(IF(AND(E18=0,D18=0),1,IF(AND(E18=0,D18>0),1.2,D18/E18)))","v":1},"обратная",{"$f":"IF(F18<80%,0.25,IF(F18>120%,0.75,0.5))","v":0.5}]
[null,"3. Наличие взаимодействия с потребителями услуг при выводе оборудования в ремонт и (или) из эксплуатации",null,"-","-","-","-",{"$f":"(H21+H22)/2","v":0.5}]
[null,"в том числе, по критериям:"]
[null,"3.1.  Наличие (отсутствие) установленной процедуры согласования с потребителями услуг графиков вывода электросетевого оборудования в ремонт и (или) из эксплуатации\n(наличие - 1, отсутствие - 0)","%",0.01,0.01,{"$f":"(IF(AND(E21=0,D21=0),1,IF(AND(E21=0,D21>0),1.2,D21/E21)))","v":1},"обратная",{"$f":"IF(F21<80%,0.25,IF(F21>120%,0.75,0.5))","v":0.5}]
[null,"3.2. Количество обращений потребителей услуг с указанием на несогласие введения предлагаемых территориальной сетевой организацией графиков вывода электросетевого оборудования в ремонт и (или) из эксплуатации, процентов от общего количества поступивших обращений, кроме физических лиц",null,0,0,{"$f":"(IF(AND(E22=0,D22=0),1,IF(AND(E22=0,D22>0),1.2,D22/E22)))","v":1},"обратная",{"$f":"IF(F22<80%,0.25,IF(F22>120%,0.75,0.5))","v":0.5}]
[null,"4. Соблюдение требований нормативных правовых актов по защите персональных данных потребителей услуг (заявителей), по критерию",null,"-","-","-","-",{"$f":"H24","v":0.2}]
[null,"4.1. Количество установленных вступившим в законную силу решением антимонопольного органа и (или) суда нарушений территориальной сетевой организацией требований в части государственного регулирования цен (тарифов), в процентах от общего количества поступивших заявок на технологическое присоединение","%",0,0,{"$f":"(IF(AND(E24=0,D24=0),1,IF(AND(E24=0,D24>0),1.2,D24/E24)))","v":1},"обратная",{"$f":"IF(F24<80%,0.1,IF(F24>120%,0.3,0.2))","v":0.2}]
[null,"5. Итого по индикатору \nисполнительности (Ис)","-","-","-","-","-",{"$f":"(H10+H17+H19+H23)/4","v":0.42499999999999999}]
[]
[]
[null,"Руководитель организации",null,{"$f":"'Инф-я'!$C$21","v":"Чижов Олег Александрович"}]

{"sheet":"форма 2.3","index":58,"n_rows":36,"n_cols":8,"rows_kept":36,"cut":false,"hidden":false,"merged":[[33,2,33,4],[33,5,33,7],[35,0,35,1],[35,2,35,4],[35,5,35,7],[2,0,2,7],[3,0,3,7],[4,0,4,7],[6,0,7,0],[6,1,7,1],[6,2,6,3],[6,4,7,4],[6,5,7,5],[6,7,7,7]]}
[]
[]
["Форма 2.3 - Расчет значения индикатора результативности обратной связи за 2018 год"]
[{"$f":"'Инф-я'!C13","v":"ООО \"МОНОСТРОЙ\""}]
["(наименование территориальной сетевой организации)"]
[]
["Наименование параметра (показателя), характеризующего индикатор","Ед.изм-ния","Значение",null,"Ф / П * 100, %","Зависи-мость",null,"Оценочный балл "]
[null,null,"факти-ческое\n(Ф)","плановое\n(П)"]
[null,null,2,3,4,5,null,6]
["1. Наличие структурного подразделения территориальной сетевой организации по рассмотрению, обработке и принятию мер по обращениям потребителей услуг (наличие - 1, отсутствие - 0)","(наличие - 1, отсутствие - 0)",1,1,{"$f":"(IF(AND(D10=0,C10=0),1,IF(AND(D10=0,C10>0),1.2,C10/D10)))","v":1},"прямая",null,{"$f":"IF(E10<80%,3,IF(E10>120%,1,2))","v":2}]
["2. Степень удовлетворения обращений потребителей услуг",null,"-","-","-","-",null,{"$f":"(H13+H14+H15+H16+H17+H18)/6","v":2}]
["в том числе по критериям:"]
["2.1. Общее количество обращений потребителей услуг с указанием на ненадлежащее качество услуг по передаче электрической энергии и обслуживание, в процентах от общего количества поступивших обращений","%",0,0,{"$f":"(IF(AND(D13=0,C13=0),1,IF(AND(D13=0,C13>0),1.2,C13/D13)))","v":1},"обратная",null,{"$f":"IF(E13<80%,1,IF(E13>120%,3,2))","v":2}]
["2.2. Количество принятых мер по результатам рассмотрения обращений потребителей услуг с указанием на ненадлежащее качество услуг по передаче электрической энергии и обслуживание, в процентах от общего количества поступивших обращений","%",0,0,1,"прямая",null,{"$f":"IF(E14<80%,3,IF(E14>120%,1,2))","v":2}]
["2.3. Количество обращений, связанных с неудовлетворенностью принятыми мерами, указанными в п. 2.2 настоящей формы, поступивших от потребителей услуг в течение 30 рабочих дней после завершения мероприятий, указанных в п. 2.2 настоящей формы, в процентах от общего количества поступивших обращений","%",0,0,1,"обратная",null,{"$f":"IF(E15<80%,1,IF(E15>120%,3,2))","v":2}]
["2.4. Количество обращений потребителей услуг с указанием на ненадлежащее качество услуг, оказываемых территориальной сетевой организацией, поступивших в соответствующий контролирующий орган исполнительной власти, в процентах от общего количества поступивших обращений","%",0,0,1,"обратная",null,{"$f":"IF(E16<80%,1,IF(E16>120%,3,2))","v":2}]
["2.5. Количество отзывов и предложений по вопросам деятельности территориальной сетевой организации, поступивших через обратную связь, в процентах от общего количества поступивших обращений","%",0,0,1,"прямая",null,{"$f":"IF(E17<80%,3,IF(E17>120%,1,2))","v":2}]
["2.6. Количество реализованных изменений в деятельности организации, направленных на повышение качества обслуживания потребителей услуг, шт.","шт.",0.02,0.02,1,"прямая",null,{"$f":"IF(E18<80%,3,IF(E18>120%,1,2))","v":2}]
["3. Оперативность реагирования на обращения потребителей услуг - всего,",null,"-","-","-","-",null,{"$f":"(H21+H22)/2","v":1.5}]
["в том числе по критериям:"]
["3.1. Средняя продолжительность времени принятия мер по результатам обращения потребителя услуг, дней","дней",2,3,{"$f":"(IF(AND(D21=0,C21=0),1,IF(AND(D21=0,C21>0),1.2,C21/D21)))","v":0.66666666666666663},"обратная",null,{"$f":"IF(E21<80%,1,IF(E21>120%,3,2))","v":1}]
["3.2. Взаимодействие территориальной сетевой организации с потребителями услуг с целью получения информации о качестве обслуживания, реализованное посредством:",null,"-","-","-","-",null,{"$f":"(H23+H24+H25)/3","v":2}]
["а) письменных опросов, шт. на 1000 потребителей услуг","шт. на 1000 потребителей услуг",0,0,1,"прямая",null,{"$f":"IF(E23<80%,3,IF(E23>120%,1,2))","v":2}]
["б) электронной связи через сеть Интернет, шт. на 1000 потребителей услуг","шт. на 1000 потребителей услуг",0,0,1,"прямая",null,{"$f":"IF(E24<80%,3,IF(E24>120%,1,2))","v":2}]
["в) системы автоинформирования,шт. на 1000 потребителей услуг","шт. на 1000 потребителей услуг",0,0,1,"прямая",null,{"$f":"IF(E25<80%,3,IF(E25>120%,1,2))","v":2}]
["4. Индивидуальность подхода к потребителям услуг льготных категорий, по критерию",null,"-","-","-","-",null,{"$f":"H27","v":2}]
["4.1. Количество обращений потребителей услуг льготных категорий с указанием на неудовлетворительность качества их обслуживания, шт. на 1000 потребителей услуг","шт. на 1000 потребителей услуг",0,0,1,"обратная",null,{"$f":"IF(E27<80%,1,IF(E27>120%,3,2))","v":2}]
["5. Оперативность возмещения убытков потребителям услуг при несоблюдении территориальной сетевой организацией обязательств, предусмотренных нормативными правовыми актами и договорами",null,"-","-","-","-",null,{"$f":"(H30+H31)/2","v":2}]
["в том числе по критериям:"]
["5.1. Средняя продолжительность времени на принятие территориальной сетевой организацией мер по возмещению потребителю услуг убытков, месяцев","месяцев",0,0,{"$f":"(IF(AND(D30=0,C30=0),1,IF(AND(D30=0,C30>0),1.2,C30/D30)))","v":1},"обратная",null,{"$f":"IF(E30<80%,1,IF(E30>120%,3,2))","v":2}]
["5.2. Доля потребителей услуг, получивших возмещение убытков, возникших в результате неисполнения (ненадлежащего исполнения) территориальной сетевой организацией своих обязательств, от числа потребителей, в пользу которых было вынесено судебное решение, или возмещение было произведено во внесудебном порядке, %","%",0,0,1,"прямая",null,{"$f":"IF(E31<80%,3,IF(E31>120%,1,2))","v":2}]
["6. Итого по индикатору результативности обратной связи (Рс)","-","-","-","-","-",null,{"$f":"(H10+H11+H19+H26+H28)/5","v":1.9}]
[]
[]
[]
["Руководитель организации",null,{"$f":"'Инф-я'!$C$21","v":"Чижов Олег Александрович"}]

{"sheet":"форма 2.4","index":59,"n_rows":16,"n_cols":3,"rows_kept":16,"cut":false,"hidden":false,"merged":[[14,0,14,2],[15,1,15,2],[18,1,18,2],[1,0,2,2],[3,0,3,2],[4,0,4,2],[5,0,5,2],[7,1,9,1],[8,0,9,0]]}
[]
["Форма 2.4 - Расчет фактического значения показателя уровня качества оказываемых услуг территориальной (прочей) сетевой организацией за 2018 год"]
[]
[{"$f":"'Инф-я'!C13","v":"ООО \"МОНОСТРОЙ\""}]
[]
["(наименование территориальной сетевой организации)"]
[]
[null,"Ед.изм-ния"]
["Предлагаемые плановые значения параметров (критериев), характеризующих индикаторы качества **",null,"2018"]
[null,null,"(год)"]
["Ин (индикатор информативности) ",null,{"$f":"'Форма 2.1'!H31","v":2.1388888888888888}]
["Ис ( индикатор исполнительности)",null,{"$f":"ROUND('Форма 2.2'!H25,3)","v":0.42499999999999999}]
["Рс (индикатор результативности обратной связи)",null,{"$f":"'форма 2.3'!H32","v":1.9}]
["Фактическое значение показателя уровня качества оказываемых услуг территориальной сетевой организации",null,{"$f":"0.1*C11+0.7*C12+0.2*C13","v":0.8913888888888889}]
[]
["Руководитель организации",{"$f":"'Инф-я'!$C$21","v":"Чижов Олег Александрович"}]

{"sheet":"форма 3 ","index":60,"n_rows":39,"n_cols":4,"rows_kept":39,"cut":false,"hidden":false,"merged":[[36,0,36,2],[38,0,38,2],[28,1,28,2],[29,1,29,2],[30,1,30,2],[31,0,31,2],[32,0,32,2],[35,0,35,3],[27,1,27,2],[10,1,10,2],[11,0,11,2],[12,0,12,2],[16,0,16,3],[17,1,17,2],[18,1,18,2],[19,1,19,2],[20,1,20,2],[21,0,21,2],[22,0,22,2],[26,0,26,3],[9,1,9,2],[0,0,1,3],[4,0,4,3],[6,0,6,3],[7,1,7,2],[8,1,8,2]]}
["Формы, используемые для расчета значений показателей уровня качества оказываемых услуг"]
[]
[]
[]
[{"$f":"'Инф-я'!C13","v":"ООО \"МОНОСТРОЙ\""}]
[null,null,null,"Форма 3.1"]
["Отчетные данные для расчета значения показателя качества рассмотрения заявок на технологическое присоединение к сети за 2018 год"]
["№ п/п","Наименование",null,"Значение"]
[1,2,null,3]
[1,"Число заявок на технологическое присоединение к сети, поданных в соответствии с требованиями нормативных правовых актов, по которым сетевой организацией в соответствующий расчетный период направлен проект договора об осуществлении технологического присоединения заявителей к сети, шт. (Nзаяв_тпр)",null,"0"]
[2,"Число заявок на технологическое присоединение к сети, поданных в соответствии с требованиями нормативных правовых актов, по которым сетевой организацией в соответствующий расчетный период направлен проект договора об осуществлении технологического присоединения заявителей к сети с нарушением установленных сроков его направления, шт. (Nнсзаяв_тпр)",null,"0"]
["max (1, Nзаяв_тпр - Nнсзаяв_тпр)",null,null,{"$f":"MAX(1,D10-D11)","v":1}]
["Пзаяв_тпр",null,null,{"$f":"IF(D10=\"\",1,IF(D10=\"0\",1,D10/D12))","v":1}]
[]
[]
[null,null,null,"Форма 3.2"]
["Отчетные данные для расчета значения показателя качества исполнения договоров об осуществлении технологического присоединения заявителей к сети за 2018 год"]
["№ п/п","Наименование",null,"Значение"]
[1,2,null,3]
[1,"Число договоров об осуществлении технологического присоединения заявителей к сети, исполненных в соответствующем расчетном периоде, по которым имеется подписанный сторонами акт о технологическом присоединении, шт. (Nсд_тпр)",null,"0"]
[2,"Число договоров об осуществлении технологического присоединения заявителей к сети, исполненных в соответствующем расчетном периоде, по которым имеется подписанный сторонами акт о технологическом присоединении, по которым произошло нарушение установленных сроков технологического присоединения, шт. (Nнссд_тпр)",null,"0"]
["max (1, Nсд_тпр - Nнссд_тпр)",null,null,{"$f":"MAX(1,D20-D21)","v":1}]
["Пнс_тпр",null,null,{"$f":"IF(D20=\"\",1,IF(D20=\"0\",1,D20/D22))","v":1}]
[]
[]
[null,null,null,"Форма 3.3"]
["Отчетные данные для расчета значения показателя соблюдения антимонопольного законодательства при технологическом присоединении заявителей к электрическим сетям сетевой организации за 2018  год"]
["№ п/п","Наименование",null,"Значение"]
[1,2,null,3]
[1,"Число вступивших в законную силу решений антимонопольного органа и (или) суда об установлении нарушений сетевой организацией требований антимонопольного законодательства Российской Федерации в части оказания услуг по технологическому присоединению в соответствующем расчетном периоде, шт. (Nн_тпр)",null,"0"]
[2,"Общее число заявок на технологическое присоединение к сети, поданных заявителями в соответствующий расчетный период, в десятках шт. без округления (Nочз_тпр)",null,"0"]
["max (1, Nочз_тпр - Nн_тпр)",null,null,{"$f":"MAX(1,D31-D30)","v":1}]
["Пнпа_тпр",null,null,{"$f":"IF(D31=\"\",1,IF(D31=\"0\",1,D31/D32))","v":1}]
[]
[]
["Показатель уровня качества осуществляемого технологического присоединения к сети за 2018  год, Птпр"]
["Птпр",null,null,{"$f":"0.4*D13+0.4*D23+0.2*D33","v":1}]
[]
["Руководитель организации",null,null,{"$f":"'Инф-я'!$C$21","v":"Чижов Олег Александрович"}]

{"sheet":"долг. параметры","index":61,"n_rows":31,"n_cols":9,"rows_kept":31,"cut":false,"hidden":true,"merged":[[13,1,17,1],[13,2,17,2],[21,1,21,7],[22,1,25,1],[22,2,22,4],[22,5,22,7],[23,2,23,3],[23,4,24,4],[23,5,23,6],[23,7,24,7],[11,1,12,1],[11,2,12,2],[11,3,12,3],[0,0,0,8],[1,0,2,0],[1,1,2,1],[3,0,7,0],[10,1,10,4]]}
["Долгосрочные параметры регулирования для территориальных сетевых организаций, в отношении которых тарифы на услуги по передаче электрической энергии устанавливаются на основе долгосрочных параметров регулирования деятельности территориальных сетевых организаций"]
["Наименование сетевой организации","Год","Базовый уровень подконтрольных расходов","Индекс эффективности подконтрольных расходов","Коэффициент эластичности подконтрольных расходов по количеству активов","Уровень потерь электрической энергии при ее передаче по электрическим сетям","Показатель средней продолжительности прекращений передачи электрической энергии на точку поставки (Пsaidi), час.","Показатель средней частоты прекращений передачи электрической энергии на точку поставки (Пsaifi), шт.","Показатель уровня качества осуществляемого технологического присоединения (Птпр)"]
[null,null,"млн. руб.","%","%","%","час","шт"]
[{"$f":"'Инф-я'!C13","v":"ООО \"МОНОСТРОЙ\""},2020,{"$f":"'Смета общая НВВ (эксперты)'!D7","v":0},{"$f":"'НВВ по данным экспертов'!G10*100","v":0},0.75,{"$f":"'Баланс энергии (транзит)'!AG19","v":0},{"$f":"'НВВ по данным экспертов'!$G$13","v":0},{"$f":"'НВВ по данным экспертов'!$G$14","v":0},{"$f":"'НВВ по данным экспертов'!$G$15","v":0}]
[null,2021,"x",{"$f":"$D$4","v":0},0.75,"х",{"$f":"'НВВ по данным экспертов'!$H$13","v":0},{"$f":"'НВВ по данным экспертов'!$H$14","v":0},{"$f":"'НВВ по данным экспертов'!$H$15","v":0}]
[null,2022,"x",{"$f":"$D$4","v":0},0.75,"х",{"$f":"'НВВ по данным экспертов'!$I$13","v":0},{"$f":"'НВВ по данным экспертов'!$I$14","v":0},{"$f":"'НВВ по данным экспертов'!$I$15","v":0}]
[null,2023,"x",0,0.75,"х",{"$f":"'НВВ по данным экспертов'!$J$13","v":0},{"$f":"'НВВ по данным экспертов'!$J$14","v":0},{"$f":"'НВВ по данным экспертов'!$J$15","v":0}]
[null,2024,"x",0,0.75,"х",{"$f":"'НВВ по данным экспертов'!$K$13","v":0},{"$f":"'НВВ по данным экспертов'!$K$14","v":0},{"$f":"'НВВ по данным экспертов'!$K$15","v":0}]
[]
[]
[null,"НВВ сетевых организаций на долгосрочный период регулирования (без учета оплаты потерь) "]
[null,"№ п/п","Наименование сетевой организации","год","НВВ сетевых организаций без учета покупки потерь"]
[null,null,null,null,"тыс. руб."]
[null,null,{"$f":" 'Инф-я'!C13","v":"ООО \"МОНОСТРОЙ\""},{"$f":"B4","v":2020},{"$f":"'Смета общая НВВ (эксперты)'!D39","v":-2529.8036182616738}]
[null,null,null,{"$f":"B5","v":2021},{"$f":"'Смета общая НВВ (эксперты)'!F39","v":0}]
[null,null,null,{"$f":"B6","v":2022},{"$f":"'Смета общая НВВ (эксперты)'!H39","v":0}]
[null,null,null,{"$f":"B7","v":2023},{"$f":"'Смета общая НВВ (эксперты)'!J39","v":0}]
[null,null,null,{"$f":"B8","v":2024},{"$f":"'Смета общая НВВ (эксперты)'!L39","v":0}]
[]
[]
[]
[null,{"$f":"CONCATENATE(\"Индивидуальные тарифы на услуги по передаче электрической энергии для взаиморасчетов между \",  'Инф-я'!C37,\" и филиалом Владимирэнерго ОАО МРСК Центра и Приволжья\")","v":"Индивидуальные тарифы на услуги по передаче электрической энергии для взаиморасчетов между 041708772 и филиалом Владимирэнерго ОАО МРСК Центра и Приволжья"}]
[null,"год","1 полугодие",null,null,"2 полугодие"]
[null,null,"Двухставочный тариф",null,"Одноставочный тариф","Двухставочный тариф",null,"Одноставочный тариф"]
[null,null,"ставка за содержание электрических сетей","ставка на оплату технологического расхода (потерь)",null,"ставка за содержание электрических сетей","ставка на оплату технологического расхода (потерь)"]
[null,null,"руб./кВт.мес.","руб./кВт.ч","руб./кВт.ч","руб./кВт.мес.","руб./кВт.ч","руб./кВт.ч"]
[null,{"$f":"D14","v":2020},{"$f":"Тарифы!H15","v":0},{"$f":"Тарифы!H16","v":0},{"$f":"Тарифы!H17","v":0},{"$f":"Тарифы!I15","v":0},{"$f":"Тарифы!I16","v":0},{"$f":"Тарифы!I17","v":0}]
[null,{"$f":"D15","v":2021},{"$f":"Тарифы!N15","v":0},{"$f":"Тарифы!N16","v":0},{"$f":"Тарифы!N17","v":0},{"$f":"Тарифы!O15","v":0},{"$f":"Тарифы!O16","v":0},{"$f":"Тарифы!O17","v":0}]
[null,{"$f":"D16","v":2022},{"$f":"Тарифы!T15","v":0},{"$f":"Тарифы!T16","v":0},{"$f":"Тарифы!T17","v":0},{"$f":"Тарифы!U15","v":0},{"$f":"Тарифы!U16","v":0},{"$f":"Тарифы!U17","v":0}]
[null,{"$f":"D17","v":2023},{"$f":"Тарифы!Z15","v":0},{"$f":"Тарифы!Z16","v":0},{"$f":"Тарифы!Z17","v":0},{"$f":"Тарифы!AA15","v":0},{"$f":"Тарифы!AA16","v":0},{"$f":"Тарифы!AA17","v":0}]
[null,{"$f":"D18","v":2024},{"$f":"Тарифы!AF15","v":0},{"$f":"Тарифы!AF16","v":0},{"$f":"Тарифы!AF17","v":0},{"$f":"Тарифы!AG15","v":0},{"$f":"Тарифы!AG16","v":0},{"$f":"Тарифы!AG17","v":0}]

{"sheet":"ОРЕХ","index":62,"n_rows":57,"n_cols":101,"rows_kept":57,"cut":false,"hidden":true,"merged":[[56,0,56,1],[50,0,50,1],[51,0,51,1],[52,0,52,1],[53,0,53,1],[54,0,54,1],[55,0,55,1],[49,0,49,1],[34,0,34,1],[35,0,35,1],[36,0,36,1],[37,0,37,1],[38,0,38,1],[39,0,39,1],[40,0,40,1],[41,0,41,1],[42,0,44,0],[45,0,47,0],[48,0,48,1],[13,28,14,28],[13,29,14,29],[15,0,18,0],[15,1,18,1],[21,0,21,5],[13,26,14,26],[13,27,14,27],[13,11,13,13],[13,0,14,0],[13,1,14,1],[13,2,14,2],[13,3,14,3],[13,4,14,4],[13,5,14,5],[33,0,33,1],[13,22,14,22],[13,23,14,23],[13,24,14,24],[13,25,14,25],[13,14,13,16],[13,17,14,17],[13,18,14,18],[13,19,14,19],[13,20,14,20],[13,21,14,21],[13,6,14,6],[13,7,14,7],[13,8,14,8],[13,9,14,9],[13,10,14,10]]}
[0,0.01,0.02,0.03,0.04,0.05,0.06,7.0000000000000007E-2,0.08,0.09,0.1,0.11,0.12,0.13,0.14000000000000001,0.15,0.16,0.17,0.18,0.19,0.2,0.21,0.22,0.23,0.24,0.25,0.26,0.27,0.28000000000000003,0.28999999999999998,0.3,0.31,0.32,0.33,0.34,0.35,0.36,0.37,0.38,0.39,0.4,0.41,0.42,0.43,0.44,0.45,0.46,0.47,0.48,0.49,0.5,0.51,0.52,0.53,0.54,0.55000000000000004,0.56000000000000005,0.56999999999999995,0.57999999999999996,0.59,0.6,0.61,0.62,0.63,0.64,0.65,0.66,0.67,0.68,0.69,0.7,0.71,0.72,0.73,0.74,0.75,0.76,0.77,0.78,0.79,0.8,0.81,0.82,0.83,0.84,0.85,0.86,0.87,0.88,0.89,0.9,0.91,0.92,0.93,0.94,0.95,0.96,0.97,0.98,0.99,1]
[0.01,0.01,0.01,0.01,0.01,0.01,0.01,0.01,0.01,0.01,0.02,0.02,0.02,0.02,0.02,0.02,0.02,0.02,0.02,0.02,0.03,0.03,0.03,0.03,0.03,0.03,0.03,0.03,0.03,0.03,0.04,0.04,0.04,0.04,0.04,0.04,0.04,0.04,0.04,0.04,0.05,0.05,0.05,0.05,0.05,0.05,0.05,0.05,0.05,0.05,0.06,0.06,0.06,0.06,0.06,0.06,0.06,0.06,0.06,0.06,7.0000000000000007E-2,7.0000000000000007E-2,7.0000000000000007E-2,7.0000000000000007E-2,7.0000000000000007E-2,7.0000000000000007E-2,7.0000000000000007E-2,7.0000000000000007E-2,7.0000000000000007E-2,7.0000000000000007E-2,7.0000000000000007E-2,7.0000000000000007E-2,7.0000000000000007E-2,7.0000000000000007E-2,7.0000000000000007E-2,7.0000000000000007E-2,7.0000000000000007E-2,7.0000000000000007E-2,7.0000000000000007E-2,7.0000000000000007E-2,7.0000000000000007E-2,7.0000000000000007E-2,7.0000000000000007E-2,7.0000000000000007E-2,7.0000000000000007E-2,7.0000000000000007E-2,7.0000000000000007E-2,7.0000000000000007E-2,7.0000000000000007E-2,7.0000000000000007E-2,7.0000000000000007E-2,7.0000000000000007E-2,7.0000000000000007E-2,7.0000000000000007E-2,7.0000000000000007E-2,7.0000000000000007E-2,7.0000000000000007E-2,7.0000000000000007E-2,7.0000000000000007E-2,7.0000000000000007E-2,7.0000000000000007E-2]
[null,"сами заполняем"]
[null,"ячейки с формулами"]
[]
[null,null,"Lтп","Lкм","Lмва"]
[null,"2017 год",1.351E-3,1.689E-3,8.4000000000000003E-4]
[null,"2018 год",1.34E-3,1.699E-3,7.2599999999999997E-4]
[null,null,"Mтп","Mкм","Mмва"]
[null,"2017 год",3.2369999999999999E-3,6.9265999999999994E-2,6.1269999999999998E-2]
[null,"2018 год",3.5620000000000001E-3,7.6671000000000003E-2,5.9569999999999998E-2]
[]
[null,null,null,null,null,"ТП","КМ","МВА"]
["№ пп","Организация ","Год","Операционные, подконтрольные расходы, всего - план, тыс руб","Операционные, подконтрольные расходы, всего - факт, тыс руб","Максимальное количество точек поставки , шт ","Общая протяженность сетей (воздушных и кабельных линий) на конец года, км","Общая трансформаторная емкость подстанций на конец года, МВА","Общее количество условных единиц  на конец года, у.е.","Коэффициент приведения затрат по уровню цен, С","Коэффициент приведения затрат по климатическим условиям, Т","предельные уровни показетелей ",null,null,"нормализованные удельные показатели",null,null,"рейтинг эффективности компании, R ","Индекс эффективности ОПР, Х","Коэффициент изменения рейтинга,k","Индекс изменения активов ИКА","Индекс потребительских цен ИПЦ","Величина эффективного уровня ОРЕХ","если k>= -х","если k< -x","Максимальный процент превышения, D","Экономически обоснованный уровень ОРЕХ","Базовый уровень ОРЕХ"]
[null,null,null,null,null,null,null,null,null,null,null,"Yтп","Yкм","Yмва","Nтп","Nкм","Nмва"]
["1",{"$f":" 'Инф-я'!C13","v":"ООО \"МОНОСТРОЙ\""},2017,{"$f":"'Подконтрольные расходы'!F24","v":1512.3075527838332},{"$f":"'Подконтрольные расходы'!G24","v":649.5},null,{"$f":"'УЕ ВЛЭП  2017-2024'!G52","v":14.43},null,{"$f":"'УЕ ТП 2017-2024'!H60","v":65.137},1.45,{"$f":"1/(1.029*1.012*1.038)","v":0.92513850970236788},{"$f":"(E16*J16*K16)/F16","v":{"$error":"#DIV/0!"}},{"$f":"(E16*J16*K16)/G16","v":60.379232153496012},{"$f":"(E16*J16*K16)/H16","v":{"$error":"#DIV/0!"}},{"$f":"IF(F16=0,1,IF((L16*$C$7-$C$10)<0,0,IF((L16*$C$7-$C$10)>1,1,(L16*$C$7-$C$10))))","v":1},{"$f":"IF(G16=0,1,IF((M16*$D$7-$D$10)<0,0,IF((M16*$D$7-$D$10)>1,1,(M16*$D$7-$D$10))))","v":3.271452310725477E-2},{"$f":"IF(H16=0,1,IF((N16*$E$7-$E$10)<0,0,IF((N16*$E$7-$E$10)>1,1,(N16*$E$7-$E$10))))","v":1},{"$f":"(O16+P16+Q16)/3","v":0.67757150770241825},{"$f":"LOOKUP(MROUND(R16,0.001),$A$1:$CW$1,$A$2:$CW$2)","v":7.0000000000000007E-2},"х","х",{"$f":"5.2/100","v":5.2000000000000005E-2},"х","x","x",{"$f":"(-0.3)/0.07*S16-(-0.3)*100","v":29.7},"х","х"]
[null,null,2018,{"$f":"' НВВ содержание'!C9","v":3057.7413609826681},{"$f":"' НВВ содержание'!D9","v":4244.9995989812778},null,{"$f":"'УЕ ВЛЭП  2017-2024'!M52","v":0},null,{"$f":"'УЕ ТП 2017-2024'!N60","v":0},1.47,{"$f":"1/(1.029*1.012*1.038)","v":0.92513850970236788},{"$f":"(E17*J17*K17)/F17","v":{"$error":"#DIV/0!"}},{"$f":"(E17*J17*K17)/G17","v":{"$error":"#DIV/0!"}},{"$f":"(E17*J17*K17)/H17","v":{"$error":"#DIV/0!"}},{"$f":"IF(F17=0,1,IF((L17*$C$8-$C$11)<0,0,IF((L17*$C$8-$C$11)>1,1,(L17*$C$8-$C$11))))","v":1},{"$f":"IF(G17=0,1,IF((M17*$D$8-$D$11)<0,0,IF((M17*$D$8-$D$11)>1,1,(M17*$D$8-$D$11))))","v":1},{"$f":"IF(H17=0,1,IF((N17*$E$8-$E$11)<0,0,IF((N17*$E$8-$E$11)>1,1,(N17*$E$8-$E$11))))","v":1},{"$f":"(O17+P17+Q17)/3","v":1},{"$f":"LOOKUP(MROUND(R17,0.001),$A$1:$CW$1,$A$2:$CW$2)","v":7.0000000000000007E-2},{"$f":"R17-R16","v":0.32242849229758175},{"$f":"(I17-I16)/I16","v":-1},{"$f":"7.3/100","v":7.2999999999999995E-2},"х","x","x",{"$f":"(-0.3)/0.07*S17-(-0.3)*100","v":29.7},"х","х"]
[null,null,2019,{"$f":"' НВВ содержание'!E9","v":3166.6571800815868},"х",null,{"$f":"'УЕ ВЛЭП  2017-2024'!O52","v":15.49},null,{"$f":"'УЕ ТП 2017-2024'!P60","v":71.147000000000006},"х","х","х","х","х","х","х","х","х","х","х",{"$f":"(I18-I17)/I17","v":{"$error":"#DIV/0!"}},{"$f":"7.4/100","v":7.400000000000001E-2},"х","x","x","x","х","х"]
[null,null,2020,"х","х","х","х","х",{"$f":"'УЕ ТП 2017-2024'!T60","v":0},"х","х","х","х","х","х","х","х","х","х","х",{"$f":"(I19-I18)/I18","v":-1},{"$f":"6.7/100","v":6.7000000000000004E-2},{"$f":"IF(T17<-S17,E17*(1-S17)*(1-S17)*(1+V18)*(1+V19)*(1+U18)*(1+U19),(1-T17-S17)*E17*(1-S17)*(1-S17)*(1+V18)*(1+V19)*(1+U18)*(1+U19))","v":{"$error":"#DIV/0!"}},{"$f":"(1-T17*S17)*E17*(1-S17)*(1-S17)*(1+V18)*(1+V19)*(1+U18)*(1+U19)","v":{"$error":"#DIV/0!"}},{"$f":"E17*(1-S17)*(1-S17)*(1+V18)*(1+V19)*(1+U18)*(1+U19)","v":{"$error":"#DIV/0!"}},"x",null,{"$f":"IF((D17*(1+Z17/100))<E17,AA19,IF((D16*(1+Z16/100))<E16,AA19,0.2*W19+0.8*AA19))","v":0}]
[]
[]
["Расчет операционных подконтрольных расходов на предстоящий период тарифного регулирования с применением метода сравнения аналогов"]
["№ п.п.","Наименование","Предложение ДЦТ 2020","Уд. вес","Эффективный уровень ОРЕХ","Базовый уровень ОРЕХ"]
[1,"Расходы на оплату труда",{"$f":"' НВВ содержание'!G10","v":0},{"$f":"C24/$C$31","v":{"$error":"#DIV/0!"}},{"$f":"D24*$E$31","v":{"$error":"#DIV/0!"}},{"$f":"C24*0.8+E24*0.2","v":{"$error":"#DIV/0!"}}]
[2,"Материалы",{"$f":"' НВВ содержание'!G11","v":0},{"$error":"#DIV/0!"},{"$error":"#DIV/0!"},{"$f":"C25*0.8+E25*0.2","v":{"$error":"#DIV/0!"}}]
[3,"Ремонт основных фондов",{"$f":"' НВВ содержание'!G12","v":0},{"$error":"#DIV/0!"},{"$error":"#DIV/0!"},{"$error":"#DIV/0!"}]
["4","Цеховые расходы",{"$f":"' НВВ содержание'!G13","v":0},{"$error":"#DIV/0!"},{"$error":"#DIV/0!"},{"$error":"#DIV/0!"}]
["5","Общеэксплуатационные расходы ",{"$f":"' НВВ содержание'!G14","v":0},{"$error":"#DIV/0!"},{"$error":"#DIV/0!"},{"$error":"#DIV/0!"}]
["6","Другие расходы, связанные с передачей электрической энергии ",{"$f":"' НВВ содержание'!G15","v":0},{"$error":"#DIV/0!"},{"$error":"#DIV/0!"},{"$error":"#DIV/0!"}]
["7","Расходы по коллективным договорам",{"$f":"' НВВ содержание'!G16","v":0},{"$error":"#DIV/0!"},{"$error":"#DIV/0!"},{"$error":"#DIV/0!"}]
[null,"Итого подконтрольные расходы:",{"$f":"SUM(C24:C30)","v":0},{"$error":"#DIV/0!"},{"$f":"W19","v":{"$error":"#DIV/0!"}},{"$f":"SUM(F24:F30)","v":{"$error":"#DIV/0!"}}]
[]
[]
["Наименование показателя",null,"2017 год","2018 год","2020 год"]
["Операционные, подконтрольные расходы, всего - план, тыс руб",null,{"$f":"D16","v":1512.3075527838332},{"$f":"E16","v":649.5},"х"]
["Операционные, подконтрольные расходы, всего - факт, тыс руб",null,{"$f":"D17","v":3057.7413609826681},{"$f":"E17","v":4244.9995989812778},"х"]
["Максимальное количество точек поставки , шт ",null,{"$f":"F16","v":0},{"$f":"F17","v":0},"х"]
[{"$f":"G14","v":"Общая протяженность сетей (воздушных и кабельных линий) на конец года, км"},null,{"$f":"G16","v":14.43},{"$f":"G17","v":0},"х"]
["Общая трансформаторная емкость подстанций на конец года, МВА",null,{"$f":"H16","v":0},{"$f":"H17","v":0},"х"]
[{"$f":"I14","v":"Общее количество условных единиц  на конец года, у.е."},null,{"$f":"I16","v":65.137},{"$f":"I17","v":0},{"$f":"I19","v":0}]
[{"$f":"J14","v":"Коэффициент приведения затрат по уровню цен, С"},null,{"$f":"J16","v":1.45},{"$f":"J17","v":1.47},"х"]
[{"$f":"K14","v":"Коэффициент приведения затрат по климатическим условиям, Т"},null,{"$f":"K16","v":0.92513850970236788},{"$f":"K17","v":0.92513850970236788},"х"]
["предельные уровни показетелей ",{"$f":"L15","v":"Yтп"},{"$f":"L16","v":{"$error":"#DIV/0!"}},{"$f":"L17","v":{"$error":"#DIV/0!"}},"х"]
[null,{"$f":"M15","v":"Yкм"},{"$f":"M16","v":60.379232153496012},{"$f":"M17","v":{"$error":"#DIV/0!"}},"х"]
[null,{"$f":"N15","v":"Yмва"},{"$f":"N16","v":{"$error":"#DIV/0!"}},{"$f":"N17","v":{"$error":"#DIV/0!"}},"х"]
["нормализованные удельные показатели",{"$f":"O15","v":"Nтп"},{"$f":"O16","v":1},{"$f":"O17","v":1},"х"]
[null,{"$f":"P15","v":"Nкм"},{"$f":"P16","v":3.271452310725477E-2},{"$f":"P17","v":1},"х"]
[null,{"$f":"Q15","v":"Nмва"},{"$f":"Q16","v":1},{"$f":"Q17","v":1},"х"]
[{"$f":"R14","v":"рейтинг эффективности компании, R "},null,{"$f":"R16","v":0.67757150770241825},{"$f":"R17","v":1},"х"]
[{"$f":"S14","v":"Индекс эффективности ОПР, Х"},null,{"$f":"S16","v":7.0000000000000007E-2},{"$f":"S17","v":7.0000000000000007E-2},"х"]
[{"$f":"T14","v":"Коэффициент изменения рейтинга,k"},null,null,{"$f":"T17","v":0.32242849229758175},"х"]
[{"$f":"U14","v":"Индекс изменения активов ИКА"},null,"х",{"$f":"U17","v":-1},{"$f":"U19","v":-1}]
[{"$f":"V14","v":"Индекс потребительских цен ИПЦ"},null,{"$f":"V16","v":5.2000000000000005E-2},{"$f":"V17","v":7.2999999999999995E-2},{"$f":"V19","v":6.7000000000000004E-2}]
[{"$f":"W14","v":"Величина эффективного уровня ОРЕХ"},null,"х","х",{"$f":"W19","v":{"$error":"#DIV/0!"}}]
[{"$f":"Z14","v":"Максимальный процент превышения, D"},null,{"$f":"Z16","v":29.7},{"$f":"Z17","v":29.7},"х"]
[{"$f":"AA14","v":"Экономически обоснованный уровень ОРЕХ"},null,"х","х",{"$f":"AA19","v":0}]
[{"$f":"AB14","v":"Базовый уровень ОРЕХ"},null,"х","х",{"$f":"AB19","v":0}]